BEGIN:VCALENDAR
VERSION:2.0
PRODID:-//Enakyrkan - ECPv6.15.12.2//NONSGML v1.0//EN
CALSCALE:GREGORIAN
METHOD:PUBLISH
X-ORIGINAL-URL:https://enakyrkan.se
X-WR-CALDESC:Händelser för Enakyrkan
REFRESH-INTERVAL;VALUE=DURATION:PT1H
X-Robots-Tag:noindex
X-PUBLISHED-TTL:PT1H
BEGIN:VTIMEZONE
TZID:Europe/Stockholm
BEGIN:DAYLIGHT
TZOFFSETFROM:+0100
TZOFFSETTO:+0200
TZNAME:CEST
DTSTART:20240331T010000
END:DAYLIGHT
BEGIN:STANDARD
TZOFFSETFROM:+0200
TZOFFSETTO:+0100
TZNAME:CET
DTSTART:20241027T010000
END:STANDARD
BEGIN:DAYLIGHT
TZOFFSETFROM:+0100
TZOFFSETTO:+0200
TZNAME:CEST
DTSTART:20250330T010000
END:DAYLIGHT
BEGIN:STANDARD
TZOFFSETFROM:+0200
TZOFFSETTO:+0100
TZNAME:CET
DTSTART:20251026T010000
END:STANDARD
BEGIN:DAYLIGHT
TZOFFSETFROM:+0100
TZOFFSETTO:+0200
TZNAME:CEST
DTSTART:20260329T010000
END:DAYLIGHT
BEGIN:STANDARD
TZOFFSETFROM:+0200
TZOFFSETTO:+0100
TZNAME:CET
DTSTART:20261025T010000
END:STANDARD
END:VTIMEZONE
BEGIN:VEVENT
DTSTART;TZID=Europe/Stockholm:20250302T110000
DTEND;TZID=Europe/Stockholm:20250302T123000
DTSTAMP:20260421T115352
CREATED:20250220T081330Z
LAST-MODIFIED:20250313T101604Z
UID:10000347-1740913200-1740918600@enakyrkan.se
SUMMARY:Gudstjänst för alla åldrar
DESCRIPTION:
URL:https://enakyrkan.se/evenemang/gudstjanst-for-alla-aldrar-4/
CATEGORIES:Gudstjänst,Söndag
END:VEVENT
BEGIN:VEVENT
DTSTART;TZID=Europe/Stockholm:20250309T110000
DTEND;TZID=Europe/Stockholm:20250309T133000
DTSTAMP:20260421T115352
CREATED:20250220T092829Z
LAST-MODIFIED:20250312T143953Z
UID:10000349-1741518000-1741527000@enakyrkan.se
SUMMARY:Gudstjänst
DESCRIPTION:
URL:https://enakyrkan.se/evenemang/gudstjanst-33/
CATEGORIES:Gudstjänst,Söndag
END:VEVENT
BEGIN:VEVENT
DTSTART;TZID=Europe/Stockholm:20250316T110000
DTEND;TZID=Europe/Stockholm:20250316T133000
DTSTAMP:20260421T115352
CREATED:20250220T092907Z
LAST-MODIFIED:20250312T161124Z
UID:10000350-1742122800-1742131800@enakyrkan.se
SUMMARY:Gudstjänst
DESCRIPTION:
URL:https://enakyrkan.se/evenemang/gudstjanst-34/
CATEGORIES:Gudstjänst,Söndag
END:VEVENT
BEGIN:VEVENT
DTSTART;TZID=Europe/Stockholm:20250323T110000
DTEND;TZID=Europe/Stockholm:20250323T133000
DTSTAMP:20260421T115352
CREATED:20250220T092946Z
LAST-MODIFIED:20250220T092947Z
UID:10000351-1742727600-1742736600@enakyrkan.se
SUMMARY:Gudstjänst
DESCRIPTION:
URL:https://enakyrkan.se/evenemang/gudstjanst-35/
CATEGORIES:Gudstjänst,Söndag
END:VEVENT
BEGIN:VEVENT
DTSTART;TZID=Europe/Stockholm:20250330T110000
DTEND;TZID=Europe/Stockholm:20250330T133000
DTSTAMP:20260421T115352
CREATED:20250220T093021Z
LAST-MODIFIED:20250220T093022Z
UID:10000352-1743332400-1743341400@enakyrkan.se
SUMMARY:Gudstjänst
DESCRIPTION:
URL:https://enakyrkan.se/evenemang/gudstjanst-36/
CATEGORIES:Gudstjänst,Söndag
END:VEVENT
END:VCALENDAR