BEGIN:VCALENDAR
VERSION:2.0
PRODID:-//Enakyrkan - ECPv6.15.12.2//NONSGML v1.0//EN
CALSCALE:GREGORIAN
METHOD:PUBLISH
X-WR-CALNAME:Enakyrkan
X-ORIGINAL-URL:https://enakyrkan.se
X-WR-CALDESC:Händelser för Enakyrkan
REFRESH-INTERVAL;VALUE=DURATION:PT1H
X-Robots-Tag:noindex
X-PUBLISHED-TTL:PT1H
BEGIN:VTIMEZONE
TZID:Europe/Stockholm
BEGIN:DAYLIGHT
TZOFFSETFROM:+0100
TZOFFSETTO:+0200
TZNAME:CEST
DTSTART:20240331T010000
END:DAYLIGHT
BEGIN:STANDARD
TZOFFSETFROM:+0200
TZOFFSETTO:+0100
TZNAME:CET
DTSTART:20241027T010000
END:STANDARD
BEGIN:DAYLIGHT
TZOFFSETFROM:+0100
TZOFFSETTO:+0200
TZNAME:CEST
DTSTART:20250330T010000
END:DAYLIGHT
BEGIN:STANDARD
TZOFFSETFROM:+0200
TZOFFSETTO:+0100
TZNAME:CET
DTSTART:20251026T010000
END:STANDARD
BEGIN:DAYLIGHT
TZOFFSETFROM:+0100
TZOFFSETTO:+0200
TZNAME:CEST
DTSTART:20260329T010000
END:DAYLIGHT
BEGIN:STANDARD
TZOFFSETFROM:+0200
TZOFFSETTO:+0100
TZNAME:CET
DTSTART:20261025T010000
END:STANDARD
END:VTIMEZONE
BEGIN:VEVENT
DTSTART;TZID=Europe/Stockholm:20251207T110000
DTEND;TZID=Europe/Stockholm:20251207T123000
DTSTAMP:20260420T183945
CREATED:20251106T093026Z
LAST-MODIFIED:20251106T093030Z
UID:10000506-1765105200-1765110600@enakyrkan.se
SUMMARY:Adventsgudstjänst
DESCRIPTION:
URL:https://enakyrkan.se/evenemang/adventsgudstjanst-4/2025-12-07/
CATEGORIES:Gudstjänst,Söndag
END:VEVENT
BEGIN:VEVENT
DTSTART;TZID=Europe/Stockholm:20251214T110000
DTEND;TZID=Europe/Stockholm:20251214T123000
DTSTAMP:20260420T183945
CREATED:20251106T093026Z
LAST-MODIFIED:20251106T093030Z
UID:10000507-1765710000-1765715400@enakyrkan.se
SUMMARY:Adventsgudstjänst
DESCRIPTION:
URL:https://enakyrkan.se/evenemang/adventsgudstjanst-4/2025-12-14/
CATEGORIES:Gudstjänst,Söndag
END:VEVENT
BEGIN:VEVENT
DTSTART;TZID=Europe/Stockholm:20251221T110000
DTEND;TZID=Europe/Stockholm:20251221T123000
DTSTAMP:20260420T183945
CREATED:20251106T093026Z
LAST-MODIFIED:20251106T093030Z
UID:10000508-1766314800-1766320200@enakyrkan.se
SUMMARY:Adventsgudstjänst
DESCRIPTION:
URL:https://enakyrkan.se/evenemang/adventsgudstjanst-4/2025-12-21/
CATEGORIES:Gudstjänst,Söndag
END:VEVENT
BEGIN:VEVENT
DTSTART;TZID=Europe/Stockholm:20251228T110000
DTEND;TZID=Europe/Stockholm:20251228T123000
DTSTAMP:20260420T183945
CREATED:20251217T073736Z
LAST-MODIFIED:20251217T073740Z
UID:10000517-1766919600-1766925000@enakyrkan.se
SUMMARY:Gudstjänst
DESCRIPTION:
URL:https://enakyrkan.se/evenemang/gudstjanst-49/
CATEGORIES:Gudstjänst,Söndag
END:VEVENT
END:VCALENDAR