BEGIN:VCALENDAR
VERSION:2.0
PRODID:-//Enakyrkan - ECPv6.15.12.2//NONSGML v1.0//EN
CALSCALE:GREGORIAN
METHOD:PUBLISH
X-ORIGINAL-URL:https://enakyrkan.se
X-WR-CALDESC:Händelser för Enakyrkan
REFRESH-INTERVAL;VALUE=DURATION:PT1H
X-Robots-Tag:noindex
X-PUBLISHED-TTL:PT1H
BEGIN:VTIMEZONE
TZID:Europe/Stockholm
BEGIN:DAYLIGHT
TZOFFSETFROM:+0100
TZOFFSETTO:+0200
TZNAME:CEST
DTSTART:20250330T010000
END:DAYLIGHT
BEGIN:STANDARD
TZOFFSETFROM:+0200
TZOFFSETTO:+0100
TZNAME:CET
DTSTART:20251026T010000
END:STANDARD
BEGIN:DAYLIGHT
TZOFFSETFROM:+0100
TZOFFSETTO:+0200
TZNAME:CEST
DTSTART:20260329T010000
END:DAYLIGHT
BEGIN:STANDARD
TZOFFSETFROM:+0200
TZOFFSETTO:+0100
TZNAME:CET
DTSTART:20261025T010000
END:STANDARD
BEGIN:DAYLIGHT
TZOFFSETFROM:+0100
TZOFFSETTO:+0200
TZNAME:CEST
DTSTART:20270328T010000
END:DAYLIGHT
BEGIN:STANDARD
TZOFFSETFROM:+0200
TZOFFSETTO:+0100
TZNAME:CET
DTSTART:20271031T010000
END:STANDARD
END:VTIMEZONE
BEGIN:VEVENT
DTSTART;TZID=Europe/Stockholm:20260104T110000
DTEND;TZID=Europe/Stockholm:20260104T123000
DTSTAMP:20260420T165509
CREATED:20251217T073827Z
LAST-MODIFIED:20251217T073830Z
UID:10000518-1767524400-1767529800@enakyrkan.se
SUMMARY:Gudstjänst
DESCRIPTION:
URL:https://enakyrkan.se/evenemang/gudstjanst-50/
CATEGORIES:Gudstjänst,Söndag
END:VEVENT
BEGIN:VEVENT
DTSTART;TZID=Europe/Stockholm:20260111T110000
DTEND;TZID=Europe/Stockholm:20260111T123000
DTSTAMP:20260420T165509
CREATED:20251217T074208Z
LAST-MODIFIED:20251217T074212Z
UID:10000529-1768129200-1768134600@enakyrkan.se
SUMMARY:Gudstjänst
DESCRIPTION:
URL:https://enakyrkan.se/evenemang/gudstjanst-51/
CATEGORIES:Gudstjänst,Söndag
END:VEVENT
BEGIN:VEVENT
DTSTART;TZID=Europe/Stockholm:20260118T110000
DTEND;TZID=Europe/Stockholm:20260118T123000
DTSTAMP:20260420T165509
CREATED:20260114T095135Z
LAST-MODIFIED:20260114T095139Z
UID:10000547-1768734000-1768739400@enakyrkan.se
SUMMARY:Gudstjänst
DESCRIPTION:
URL:https://enakyrkan.se/evenemang/gudstjanst-52/
CATEGORIES:Gudstjänst,Söndag
END:VEVENT
BEGIN:VEVENT
DTSTART;TZID=Europe/Stockholm:20260125T110000
DTEND;TZID=Europe/Stockholm:20260125T123000
DTSTAMP:20260420T165509
CREATED:20260114T095221Z
LAST-MODIFIED:20260201T151100Z
UID:10000548-1769338800-1769344200@enakyrkan.se
SUMMARY:Gudstjänst
DESCRIPTION:
URL:https://enakyrkan.se/evenemang/gudstjanst-53/
CATEGORIES:Gudstjänst,Söndag
END:VEVENT
BEGIN:VEVENT
DTSTART;TZID=Europe/Stockholm:20260125T180000
DTEND;TZID=Europe/Stockholm:20260125T193000
DTSTAMP:20260420T165509
CREATED:20260114T093910Z
LAST-MODIFIED:20260114T093914Z
UID:10000537-1769364000-1769369400@enakyrkan.se
SUMMARY:Ekumenisk gudstjänst i Vårfrukyrkan
DESCRIPTION:
URL:https://enakyrkan.se/evenemang/ekumenisk-gudstjanst-i-varfrukyrkan/
CATEGORIES:Gudstjänst,Söndag
END:VEVENT
END:VCALENDAR