BEGIN:VCALENDAR
VERSION:2.0
PRODID:-//Enakyrkan - ECPv6.15.12.2//NONSGML v1.0//EN
CALSCALE:GREGORIAN
METHOD:PUBLISH
X-WR-CALNAME:Enakyrkan
X-ORIGINAL-URL:https://enakyrkan.se
X-WR-CALDESC:Händelser för Enakyrkan
REFRESH-INTERVAL;VALUE=DURATION:PT1H
X-Robots-Tag:noindex
X-PUBLISHED-TTL:PT1H
BEGIN:VTIMEZONE
TZID:Europe/Stockholm
BEGIN:DAYLIGHT
TZOFFSETFROM:+0100
TZOFFSETTO:+0200
TZNAME:CEST
DTSTART:20220327T010000
END:DAYLIGHT
BEGIN:STANDARD
TZOFFSETFROM:+0200
TZOFFSETTO:+0100
TZNAME:CET
DTSTART:20221030T010000
END:STANDARD
BEGIN:DAYLIGHT
TZOFFSETFROM:+0100
TZOFFSETTO:+0200
TZNAME:CEST
DTSTART:20230326T010000
END:DAYLIGHT
BEGIN:STANDARD
TZOFFSETFROM:+0200
TZOFFSETTO:+0100
TZNAME:CET
DTSTART:20231029T010000
END:STANDARD
BEGIN:DAYLIGHT
TZOFFSETFROM:+0100
TZOFFSETTO:+0200
TZNAME:CEST
DTSTART:20240331T010000
END:DAYLIGHT
BEGIN:STANDARD
TZOFFSETFROM:+0200
TZOFFSETTO:+0100
TZNAME:CET
DTSTART:20241027T010000
END:STANDARD
END:VTIMEZONE
BEGIN:VEVENT
DTSTART;TZID=Europe/Stockholm:20231218T070000
DTEND;TZID=Europe/Stockholm:20231218T073000
DTSTAMP:20260423T031415
CREATED:20231203T144659Z
LAST-MODIFIED:20231203T144834Z
UID:10000036-1702882800-1702884600@enakyrkan.se
SUMMARY:Morgonbön i andaktsrummet
DESCRIPTION:
URL:https://enakyrkan.se/evenemang/morgonbon-i-andaktsrummet-2/2023-12-18/
CATEGORIES:Gudstjänst
ATTACH;FMTTYPE=image/jpeg:https://enakyrkan.se/wp-content/uploads/2023/12/tid-att-soka-Gud.jpg
END:VEVENT
BEGIN:VEVENT
DTSTART;TZID=Europe/Stockholm:20231219T070000
DTEND;TZID=Europe/Stockholm:20231219T073000
DTSTAMP:20260423T031415
CREATED:20231203T144659Z
LAST-MODIFIED:20231203T144834Z
UID:10000037-1702969200-1702971000@enakyrkan.se
SUMMARY:Morgonbön i andaktsrummet
DESCRIPTION:
URL:https://enakyrkan.se/evenemang/morgonbon-i-andaktsrummet-2/2023-12-19/
CATEGORIES:Gudstjänst
ATTACH;FMTTYPE=image/jpeg:https://enakyrkan.se/wp-content/uploads/2023/12/tid-att-soka-Gud.jpg
END:VEVENT
BEGIN:VEVENT
DTSTART;TZID=Europe/Stockholm:20231220T070000
DTEND;TZID=Europe/Stockholm:20231220T073000
DTSTAMP:20260423T031415
CREATED:20231203T144659Z
LAST-MODIFIED:20231203T144834Z
UID:10000038-1703055600-1703057400@enakyrkan.se
SUMMARY:Morgonbön i andaktsrummet
DESCRIPTION:
URL:https://enakyrkan.se/evenemang/morgonbon-i-andaktsrummet-2/2023-12-20/
CATEGORIES:Gudstjänst
ATTACH;FMTTYPE=image/jpeg:https://enakyrkan.se/wp-content/uploads/2023/12/tid-att-soka-Gud.jpg
END:VEVENT
BEGIN:VEVENT
DTSTART;TZID=Europe/Stockholm:20231221T070000
DTEND;TZID=Europe/Stockholm:20231221T073000
DTSTAMP:20260423T031415
CREATED:20231203T144659Z
LAST-MODIFIED:20231203T144834Z
UID:10000039-1703142000-1703143800@enakyrkan.se
SUMMARY:Morgonbön i andaktsrummet
DESCRIPTION:
URL:https://enakyrkan.se/evenemang/morgonbon-i-andaktsrummet-2/2023-12-21/
CATEGORIES:Gudstjänst
ATTACH;FMTTYPE=image/jpeg:https://enakyrkan.se/wp-content/uploads/2023/12/tid-att-soka-Gud.jpg
END:VEVENT
BEGIN:VEVENT
DTSTART;TZID=Europe/Stockholm:20231222T070000
DTEND;TZID=Europe/Stockholm:20231222T073000
DTSTAMP:20260423T031415
CREATED:20231203T144659Z
LAST-MODIFIED:20231203T144834Z
UID:10000040-1703228400-1703230200@enakyrkan.se
SUMMARY:Morgonbön i andaktsrummet
DESCRIPTION:
URL:https://enakyrkan.se/evenemang/morgonbon-i-andaktsrummet-2/2023-12-22/
CATEGORIES:Gudstjänst
ATTACH;FMTTYPE=image/jpeg:https://enakyrkan.se/wp-content/uploads/2023/12/tid-att-soka-Gud.jpg
END:VEVENT
END:VCALENDAR