BEGIN:VCALENDAR
VERSION:2.0
PRODID:-//Enakyrkan - ECPv6.15.12.2//NONSGML v1.0//EN
CALSCALE:GREGORIAN
METHOD:PUBLISH
X-ORIGINAL-URL:https://enakyrkan.se
X-WR-CALDESC:Händelser för Enakyrkan
REFRESH-INTERVAL;VALUE=DURATION:PT1H
X-Robots-Tag:noindex
X-PUBLISHED-TTL:PT1H
BEGIN:VTIMEZONE
TZID:Europe/Stockholm
BEGIN:DAYLIGHT
TZOFFSETFROM:+0100
TZOFFSETTO:+0200
TZNAME:CEST
DTSTART:20240331T010000
END:DAYLIGHT
BEGIN:STANDARD
TZOFFSETFROM:+0200
TZOFFSETTO:+0100
TZNAME:CET
DTSTART:20241027T010000
END:STANDARD
BEGIN:DAYLIGHT
TZOFFSETFROM:+0100
TZOFFSETTO:+0200
TZNAME:CEST
DTSTART:20250330T010000
END:DAYLIGHT
BEGIN:STANDARD
TZOFFSETFROM:+0200
TZOFFSETTO:+0100
TZNAME:CET
DTSTART:20251026T010000
END:STANDARD
BEGIN:DAYLIGHT
TZOFFSETFROM:+0100
TZOFFSETTO:+0200
TZNAME:CEST
DTSTART:20260329T010000
END:DAYLIGHT
BEGIN:STANDARD
TZOFFSETFROM:+0200
TZOFFSETTO:+0100
TZNAME:CET
DTSTART:20261025T010000
END:STANDARD
END:VTIMEZONE
BEGIN:VEVENT
DTSTART;TZID=Europe/Stockholm:20250406T170000
DTEND;TZID=Europe/Stockholm:20250406T173000
DTSTAMP:20260420T145733
CREATED:20250125T090212Z
LAST-MODIFIED:20250130T103455Z
UID:10000318-1743958800-1743960600@enakyrkan.se
SUMMARY:30 minuter Bibel
DESCRIPTION:Varje söndag träffas vi för att läsa Bibeln tillsammans under en halvtimme. Upplägget på samlingen är väldigt enkelt. Vi ber en bön\, turas om att läsa ett par verser var\, tar några minuter i stillhet och eftertanke. Det ges sedan tillfälle ifall någon vill dela en tanke från det vi läst.  \n\n\n\nTa gärna med dig en fysisk bibel. Det spelar inte så stor roll vilken översättning du tar med dig.
URL:https://enakyrkan.se/evenemang/30-minuter-bibel/2025-04-06/
CATEGORIES:Söndag
END:VEVENT
BEGIN:VEVENT
DTSTART;TZID=Europe/Stockholm:20250404T133000
DTEND;TZID=Europe/Stockholm:20250404T140000
DTSTAMP:20260420T145733
CREATED:20250121T132517Z
LAST-MODIFIED:20250121T132518Z
UID:10000299-1743773400-1743775200@enakyrkan.se
SUMMARY:Andakt på Åkersberg
DESCRIPTION:
URL:https://enakyrkan.se/evenemang/andakt-pa-akersberg-2/
END:VEVENT
BEGIN:VEVENT
DTSTART;TZID=Europe/Stockholm:20250402T133000
DTEND;TZID=Europe/Stockholm:20250402T150000
DTSTAMP:20260420T145733
CREATED:20250326T151355Z
LAST-MODIFIED:20250326T151450Z
UID:10000356-1743600600-1743606000@enakyrkan.se
SUMMARY:Trivselstunden med Sven-Gunnar Hultman
DESCRIPTION:Trivselstunden är Enakyrkans träff för daglediga. Ungefär en gång i månaden möts vi till ett intressant program\, sång och musik\, gott kaffe och fin gemenskap. Denna gång får vi lyssna till pastor Sven-Gunnar Hultman som berättar om Filadelfia Örsundsbro. \n\n\n\nServering
URL:https://enakyrkan.se/evenemang/trivselstunden-med-sven-gunnar-hultman/
END:VEVENT
BEGIN:VEVENT
DTSTART;TZID=Europe/Stockholm:20250330T170000
DTEND;TZID=Europe/Stockholm:20250330T173000
DTSTAMP:20260420T145733
CREATED:20250125T090212Z
LAST-MODIFIED:20250130T103455Z
UID:10000317-1743354000-1743355800@enakyrkan.se
SUMMARY:30 minuter Bibel
DESCRIPTION:Varje söndag träffas vi för att läsa Bibeln tillsammans under en halvtimme. Upplägget på samlingen är väldigt enkelt. Vi ber en bön\, turas om att läsa ett par verser var\, tar några minuter i stillhet och eftertanke. Det ges sedan tillfälle ifall någon vill dela en tanke från det vi läst.  \n\n\n\nTa gärna med dig en fysisk bibel. Det spelar inte så stor roll vilken översättning du tar med dig.
URL:https://enakyrkan.se/evenemang/30-minuter-bibel/2025-03-30/
CATEGORIES:Söndag
END:VEVENT
BEGIN:VEVENT
DTSTART;TZID=Europe/Stockholm:20250330T110000
DTEND;TZID=Europe/Stockholm:20250330T133000
DTSTAMP:20260420T145733
CREATED:20250220T093021Z
LAST-MODIFIED:20250220T093022Z
UID:10000352-1743332400-1743341400@enakyrkan.se
SUMMARY:Gudstjänst
DESCRIPTION:
URL:https://enakyrkan.se/evenemang/gudstjanst-36/
CATEGORIES:Gudstjänst,Söndag
END:VEVENT
BEGIN:VEVENT
DTSTART;TZID=Europe/Stockholm:20250329T160000
DTEND;TZID=Europe/Stockholm:20250329T190000
DTSTAMP:20260420T145733
CREATED:20250312T143813Z
LAST-MODIFIED:20250312T143814Z
UID:10000353-1743264000-1743274800@enakyrkan.se
SUMMARY:Församlingens årsmöte
DESCRIPTION:
URL:https://enakyrkan.se/evenemang/forsamlingens-arsmote/
END:VEVENT
BEGIN:VEVENT
DTSTART;TZID=Europe/Stockholm:20250327T180000
DTEND;TZID=Europe/Stockholm:20250327T193000
DTSTAMP:20260420T145733
CREATED:20250130T102629Z
LAST-MODIFIED:20250130T102630Z
UID:10000330-1743098400-1743103800@enakyrkan.se
SUMMARY:Draget – för dig som går i mellanstadiet
DESCRIPTION:
URL:https://enakyrkan.se/evenemang/draget-for-dig-som-gar-i-mellanstadiet/2025-03-27/
END:VEVENT
BEGIN:VEVENT
DTSTART;TZID=Europe/Stockholm:20250326T133000
DTEND;TZID=Europe/Stockholm:20250326T150000
DTSTAMP:20260420T145733
CREATED:20250316T092447Z
LAST-MODIFIED:20250316T092450Z
UID:10000355-1742995800-1743001200@enakyrkan.se
SUMMARY:Kompassens Vardagsrum
DESCRIPTION:Onsdagar kl 13.30-15.00 finns det möjlighet för alla som kan och vill att samlas på Kompassen för att ha en trevlig stund tillsammans. Vi fokuserar på samtalet och att umgås. Det kan finnas möjlighet att lägga pussel\, spela spel eller att göra något annat om andan faller på. \n\n\n\nFika finns att köpa i receptionen. \n\n\n\nDetta arrangeras av Enakyrkan och Kompassen gemensamt. \n\n\n\nVarmt välkomna! \n\n\n\n(Ca en onsdag i månaden arrangerar Enakyrkan en samling med lite mer program som kallas Trivselstunden\, där serveras det fika till alla som kommer. Då är det inget Vardagsrum.)
URL:https://enakyrkan.se/evenemang/kompassens-vardagsrum-2/
END:VEVENT
BEGIN:VEVENT
DTSTART;TZID=Europe/Stockholm:20250323T170000
DTEND;TZID=Europe/Stockholm:20250323T173000
DTSTAMP:20260420T145733
CREATED:20250125T090212Z
LAST-MODIFIED:20250130T103455Z
UID:10000316-1742749200-1742751000@enakyrkan.se
SUMMARY:30 minuter Bibel
DESCRIPTION:Varje söndag träffas vi för att läsa Bibeln tillsammans under en halvtimme. Upplägget på samlingen är väldigt enkelt. Vi ber en bön\, turas om att läsa ett par verser var\, tar några minuter i stillhet och eftertanke. Det ges sedan tillfälle ifall någon vill dela en tanke från det vi läst.  \n\n\n\nTa gärna med dig en fysisk bibel. Det spelar inte så stor roll vilken översättning du tar med dig.
URL:https://enakyrkan.se/evenemang/30-minuter-bibel/2025-03-23/
CATEGORIES:Söndag
END:VEVENT
BEGIN:VEVENT
DTSTART;TZID=Europe/Stockholm:20250323T110000
DTEND;TZID=Europe/Stockholm:20250323T133000
DTSTAMP:20260420T145733
CREATED:20250220T092946Z
LAST-MODIFIED:20250220T092947Z
UID:10000351-1742727600-1742736600@enakyrkan.se
SUMMARY:Gudstjänst
DESCRIPTION:
URL:https://enakyrkan.se/evenemang/gudstjanst-35/
CATEGORIES:Gudstjänst,Söndag
END:VEVENT
BEGIN:VEVENT
DTSTART;TZID=Europe/Stockholm:20250319T133000
DTEND;TZID=Europe/Stockholm:20250319T150000
DTSTAMP:20260420T145733
CREATED:20250314T130937Z
LAST-MODIFIED:20250314T130940Z
UID:10000354-1742391000-1742396400@enakyrkan.se
SUMMARY:Kompassens Vardagsrum
DESCRIPTION:Onsdagar kl 13.30-15.00 finns det möjlighet för alla som kan och vill att samlas på Kompassen för att ha en trevlig stund tillsammans. Vi fokuserar på samtalet och att umgås. Det kan finnas möjlighet att lägga pussel\, spela spel eller att göra något annat om andan faller på. \n\n\n\nFika finns att köpa i receptionen. \n\n\n\nDetta arrangeras av Enakyrkan och Kompassen gemensamt. \n\n\n\nVarmt välkomna! \n\n\n\n(Ca en onsdag i månaden arrangerar Enakyrkan en samling med lite mer program som kallas Trivselstunden\, där serveras det fika till alla som kommer. Då är det inget Vardagsrum.)
URL:https://enakyrkan.se/evenemang/kompassens-vardagsrum/
END:VEVENT
BEGIN:VEVENT
DTSTART;TZID=Europe/Stockholm:20250316T170000
DTEND;TZID=Europe/Stockholm:20250316T173000
DTSTAMP:20260420T145733
CREATED:20250125T090212Z
LAST-MODIFIED:20250130T103455Z
UID:10000315-1742144400-1742146200@enakyrkan.se
SUMMARY:30 minuter Bibel
DESCRIPTION:Varje söndag träffas vi för att läsa Bibeln tillsammans under en halvtimme. Upplägget på samlingen är väldigt enkelt. Vi ber en bön\, turas om att läsa ett par verser var\, tar några minuter i stillhet och eftertanke. Det ges sedan tillfälle ifall någon vill dela en tanke från det vi läst.  \n\n\n\nTa gärna med dig en fysisk bibel. Det spelar inte så stor roll vilken översättning du tar med dig.
URL:https://enakyrkan.se/evenemang/30-minuter-bibel/2025-03-16/
CATEGORIES:Söndag
END:VEVENT
BEGIN:VEVENT
DTSTART;TZID=Europe/Stockholm:20250316T110000
DTEND;TZID=Europe/Stockholm:20250316T133000
DTSTAMP:20260420T145733
CREATED:20250220T092907Z
LAST-MODIFIED:20250312T161124Z
UID:10000350-1742122800-1742131800@enakyrkan.se
SUMMARY:Gudstjänst
DESCRIPTION:
URL:https://enakyrkan.se/evenemang/gudstjanst-34/
CATEGORIES:Gudstjänst,Söndag
END:VEVENT
BEGIN:VEVENT
DTSTART;TZID=Europe/Stockholm:20250313T180000
DTEND;TZID=Europe/Stockholm:20250313T193000
DTSTAMP:20260420T145733
CREATED:20250130T102629Z
LAST-MODIFIED:20250130T102630Z
UID:10000329-1741888800-1741894200@enakyrkan.se
SUMMARY:Draget – för dig som går i mellanstadiet
DESCRIPTION:
URL:https://enakyrkan.se/evenemang/draget-for-dig-som-gar-i-mellanstadiet/2025-03-13/
END:VEVENT
BEGIN:VEVENT
DTSTART;TZID=Europe/Stockholm:20250313T133000
DTEND;TZID=Europe/Stockholm:20250313T140000
DTSTAMP:20260420T145733
CREATED:20250121T132441Z
LAST-MODIFIED:20250121T132442Z
UID:10000298-1741872600-1741874400@enakyrkan.se
SUMMARY:Andakt på Orion
DESCRIPTION:
URL:https://enakyrkan.se/evenemang/andakt-pa-orion-2/
END:VEVENT
BEGIN:VEVENT
DTSTART;TZID=Europe/Stockholm:20250309T170000
DTEND;TZID=Europe/Stockholm:20250309T173000
DTSTAMP:20260420T145733
CREATED:20250125T090212Z
LAST-MODIFIED:20250130T103455Z
UID:10000314-1741539600-1741541400@enakyrkan.se
SUMMARY:30 minuter Bibel
DESCRIPTION:Varje söndag träffas vi för att läsa Bibeln tillsammans under en halvtimme. Upplägget på samlingen är väldigt enkelt. Vi ber en bön\, turas om att läsa ett par verser var\, tar några minuter i stillhet och eftertanke. Det ges sedan tillfälle ifall någon vill dela en tanke från det vi läst.  \n\n\n\nTa gärna med dig en fysisk bibel. Det spelar inte så stor roll vilken översättning du tar med dig.
URL:https://enakyrkan.se/evenemang/30-minuter-bibel/2025-03-09/
CATEGORIES:Söndag
END:VEVENT
BEGIN:VEVENT
DTSTART;TZID=Europe/Stockholm:20250309T110000
DTEND;TZID=Europe/Stockholm:20250309T133000
DTSTAMP:20260420T145733
CREATED:20250220T092829Z
LAST-MODIFIED:20250312T143953Z
UID:10000349-1741518000-1741527000@enakyrkan.se
SUMMARY:Gudstjänst
DESCRIPTION:
URL:https://enakyrkan.se/evenemang/gudstjanst-33/
CATEGORIES:Gudstjänst,Söndag
END:VEVENT
BEGIN:VEVENT
DTSTART;TZID=Europe/Stockholm:20250305T133000
DTEND;TZID=Europe/Stockholm:20250305T150000
DTSTAMP:20260420T145733
CREATED:20250220T081446Z
LAST-MODIFIED:20250220T081447Z
UID:10000348-1741181400-1741186800@enakyrkan.se
SUMMARY:Trivselstunden med Lisen Brunsberg
DESCRIPTION:
URL:https://enakyrkan.se/evenemang/trivselstunden-med-lisen-brunsberg/
END:VEVENT
BEGIN:VEVENT
DTSTART;TZID=Europe/Stockholm:20250302T170000
DTEND;TZID=Europe/Stockholm:20250302T173000
DTSTAMP:20260420T145733
CREATED:20250125T090212Z
LAST-MODIFIED:20250130T103455Z
UID:10000313-1740934800-1740936600@enakyrkan.se
SUMMARY:30 minuter Bibel
DESCRIPTION:Varje söndag träffas vi för att läsa Bibeln tillsammans under en halvtimme. Upplägget på samlingen är väldigt enkelt. Vi ber en bön\, turas om att läsa ett par verser var\, tar några minuter i stillhet och eftertanke. Det ges sedan tillfälle ifall någon vill dela en tanke från det vi läst.  \n\n\n\nTa gärna med dig en fysisk bibel. Det spelar inte så stor roll vilken översättning du tar med dig.
URL:https://enakyrkan.se/evenemang/30-minuter-bibel/2025-03-02/
CATEGORIES:Söndag
END:VEVENT
BEGIN:VEVENT
DTSTART;TZID=Europe/Stockholm:20250302T110000
DTEND;TZID=Europe/Stockholm:20250302T123000
DTSTAMP:20260420T145733
CREATED:20250220T081330Z
LAST-MODIFIED:20250313T101604Z
UID:10000347-1740913200-1740918600@enakyrkan.se
SUMMARY:Gudstjänst för alla åldrar
DESCRIPTION:
URL:https://enakyrkan.se/evenemang/gudstjanst-for-alla-aldrar-4/
CATEGORIES:Gudstjänst,Söndag
END:VEVENT
BEGIN:VEVENT
DTSTART;TZID=Europe/Stockholm:20250227T180000
DTEND;TZID=Europe/Stockholm:20250227T193000
DTSTAMP:20260420T145733
CREATED:20250130T102629Z
LAST-MODIFIED:20250130T102630Z
UID:10000328-1740679200-1740684600@enakyrkan.se
SUMMARY:Draget – för dig som går i mellanstadiet
DESCRIPTION:
URL:https://enakyrkan.se/evenemang/draget-for-dig-som-gar-i-mellanstadiet/2025-02-27/
END:VEVENT
BEGIN:VEVENT
DTSTART;TZID=Europe/Stockholm:20250226T133000
DTEND;TZID=Europe/Stockholm:20250226T150000
DTSTAMP:20260420T145733
CREATED:20250210T084143Z
LAST-MODIFIED:20250210T084144Z
UID:10000345-1740576600-1740582000@enakyrkan.se
SUMMARY:Vardagsrum
DESCRIPTION:
URL:https://enakyrkan.se/evenemang/vardagsrum-15/
END:VEVENT
BEGIN:VEVENT
DTSTART;TZID=Europe/Stockholm:20250223T170000
DTEND;TZID=Europe/Stockholm:20250223T173000
DTSTAMP:20260420T145733
CREATED:20250125T090212Z
LAST-MODIFIED:20250130T103455Z
UID:10000312-1740330000-1740331800@enakyrkan.se
SUMMARY:30 minuter Bibel
DESCRIPTION:Varje söndag träffas vi för att läsa Bibeln tillsammans under en halvtimme. Upplägget på samlingen är väldigt enkelt. Vi ber en bön\, turas om att läsa ett par verser var\, tar några minuter i stillhet och eftertanke. Det ges sedan tillfälle ifall någon vill dela en tanke från det vi läst.  \n\n\n\nTa gärna med dig en fysisk bibel. Det spelar inte så stor roll vilken översättning du tar med dig.
URL:https://enakyrkan.se/evenemang/30-minuter-bibel/2025-02-23/
CATEGORIES:Söndag
END:VEVENT
BEGIN:VEVENT
DTSTART;TZID=Europe/Stockholm:20250223T123000
DTEND;TZID=Europe/Stockholm:20250223T133000
DTSTAMP:20260420T145733
CREATED:20250216T072052Z
LAST-MODIFIED:20250216T072053Z
UID:10000346-1740313800-1740317400@enakyrkan.se
SUMMARY:Församlingsmöte efter gudstjänsten
DESCRIPTION:
URL:https://enakyrkan.se/evenemang/forsamlingsmote-efter-gudstjansten-6/
CATEGORIES:Söndag
END:VEVENT
BEGIN:VEVENT
DTSTART;TZID=Europe/Stockholm:20250223T110000
DTEND;TZID=Europe/Stockholm:20250223T123000
DTSTAMP:20260420T145733
CREATED:20250202T082739Z
LAST-MODIFIED:20250202T082740Z
UID:10000342-1740308400-1740313800@enakyrkan.se
SUMMARY:Gudstjänst
DESCRIPTION:
URL:https://enakyrkan.se/evenemang/gudstjanst-32/2025-02-23/
CATEGORIES:Gudstjänst,Söndag
END:VEVENT
BEGIN:VEVENT
DTSTART;TZID=Europe/Stockholm:20250219T133000
DTEND;TZID=Europe/Stockholm:20250219T150000
DTSTAMP:20260420T145733
CREATED:20250210T084042Z
LAST-MODIFIED:20250210T084044Z
UID:10000344-1739971800-1739977200@enakyrkan.se
SUMMARY:Vardagsrum
DESCRIPTION:
URL:https://enakyrkan.se/evenemang/vardagsrum-14/
END:VEVENT
BEGIN:VEVENT
DTSTART;TZID=Europe/Stockholm:20250216T170000
DTEND;TZID=Europe/Stockholm:20250216T173000
DTSTAMP:20260420T145733
CREATED:20250125T090212Z
LAST-MODIFIED:20250130T103455Z
UID:10000311-1739725200-1739727000@enakyrkan.se
SUMMARY:30 minuter Bibel
DESCRIPTION:Varje söndag träffas vi för att läsa Bibeln tillsammans under en halvtimme. Upplägget på samlingen är väldigt enkelt. Vi ber en bön\, turas om att läsa ett par verser var\, tar några minuter i stillhet och eftertanke. Det ges sedan tillfälle ifall någon vill dela en tanke från det vi läst.  \n\n\n\nTa gärna med dig en fysisk bibel. Det spelar inte så stor roll vilken översättning du tar med dig.
URL:https://enakyrkan.se/evenemang/30-minuter-bibel/2025-02-16/
CATEGORIES:Söndag
END:VEVENT
BEGIN:VEVENT
DTSTART;TZID=Europe/Stockholm:20250216T110000
DTEND;TZID=Europe/Stockholm:20250216T123000
DTSTAMP:20260420T145733
CREATED:20250202T082739Z
LAST-MODIFIED:20250202T082740Z
UID:10000341-1739703600-1739709000@enakyrkan.se
SUMMARY:Gudstjänst
DESCRIPTION:
URL:https://enakyrkan.se/evenemang/gudstjanst-32/2025-02-16/
CATEGORIES:Gudstjänst,Söndag
END:VEVENT
BEGIN:VEVENT
DTSTART;TZID=Europe/Stockholm:20250214T133000
DTEND;TZID=Europe/Stockholm:20250214T140000
DTSTAMP:20260420T145733
CREATED:20250121T132401Z
LAST-MODIFIED:20250121T132403Z
UID:10000297-1739539800-1739541600@enakyrkan.se
SUMMARY:Andakt på Kryddgården
DESCRIPTION:
URL:https://enakyrkan.se/evenemang/andakt-pa-kryddgarden/
END:VEVENT
BEGIN:VEVENT
DTSTART;TZID=Europe/Stockholm:20250213T180000
DTEND;TZID=Europe/Stockholm:20250213T193000
DTSTAMP:20260420T145733
CREATED:20250130T102629Z
LAST-MODIFIED:20250130T102630Z
UID:10000327-1739469600-1739475000@enakyrkan.se
SUMMARY:Draget – för dig som går i mellanstadiet
DESCRIPTION:
URL:https://enakyrkan.se/evenemang/draget-for-dig-som-gar-i-mellanstadiet/2025-02-13/
END:VEVENT
END:VCALENDAR