BEGIN:VCALENDAR
VERSION:2.0
PRODID:-//Enakyrkan - ECPv6.15.12.2//NONSGML v1.0//EN
CALSCALE:GREGORIAN
METHOD:PUBLISH
X-WR-CALNAME:Enakyrkan
X-ORIGINAL-URL:https://enakyrkan.se
X-WR-CALDESC:Händelser för Enakyrkan
REFRESH-INTERVAL;VALUE=DURATION:PT1H
X-Robots-Tag:noindex
X-PUBLISHED-TTL:PT1H
BEGIN:VTIMEZONE
TZID:Europe/Stockholm
BEGIN:DAYLIGHT
TZOFFSETFROM:+0100
TZOFFSETTO:+0200
TZNAME:CEST
DTSTART:20240331T010000
END:DAYLIGHT
BEGIN:STANDARD
TZOFFSETFROM:+0200
TZOFFSETTO:+0100
TZNAME:CET
DTSTART:20241027T010000
END:STANDARD
BEGIN:DAYLIGHT
TZOFFSETFROM:+0100
TZOFFSETTO:+0200
TZNAME:CEST
DTSTART:20250330T010000
END:DAYLIGHT
BEGIN:STANDARD
TZOFFSETFROM:+0200
TZOFFSETTO:+0100
TZNAME:CET
DTSTART:20251026T010000
END:STANDARD
BEGIN:DAYLIGHT
TZOFFSETFROM:+0100
TZOFFSETTO:+0200
TZNAME:CEST
DTSTART:20260329T010000
END:DAYLIGHT
BEGIN:STANDARD
TZOFFSETFROM:+0200
TZOFFSETTO:+0100
TZNAME:CET
DTSTART:20261025T010000
END:STANDARD
END:VTIMEZONE
BEGIN:VEVENT
DTSTART;TZID=Europe/Stockholm:20250219T133000
DTEND;TZID=Europe/Stockholm:20250219T150000
DTSTAMP:20260420T163132
CREATED:20250210T084042Z
LAST-MODIFIED:20250210T084044Z
UID:10000344-1739971800-1739977200@enakyrkan.se
SUMMARY:Vardagsrum
DESCRIPTION:
URL:https://enakyrkan.se/evenemang/vardagsrum-14/
END:VEVENT
BEGIN:VEVENT
DTSTART;TZID=Europe/Stockholm:20250216T170000
DTEND;TZID=Europe/Stockholm:20250216T173000
DTSTAMP:20260420T163132
CREATED:20250125T090212Z
LAST-MODIFIED:20250130T103455Z
UID:10000311-1739725200-1739727000@enakyrkan.se
SUMMARY:30 minuter Bibel
DESCRIPTION:Varje söndag träffas vi för att läsa Bibeln tillsammans under en halvtimme. Upplägget på samlingen är väldigt enkelt. Vi ber en bön\, turas om att läsa ett par verser var\, tar några minuter i stillhet och eftertanke. Det ges sedan tillfälle ifall någon vill dela en tanke från det vi läst.  \n\n\n\nTa gärna med dig en fysisk bibel. Det spelar inte så stor roll vilken översättning du tar med dig.
URL:https://enakyrkan.se/evenemang/30-minuter-bibel/2025-02-16/
CATEGORIES:Söndag
END:VEVENT
BEGIN:VEVENT
DTSTART;TZID=Europe/Stockholm:20250216T110000
DTEND;TZID=Europe/Stockholm:20250216T123000
DTSTAMP:20260420T163132
CREATED:20250202T082739Z
LAST-MODIFIED:20250202T082740Z
UID:10000341-1739703600-1739709000@enakyrkan.se
SUMMARY:Gudstjänst
DESCRIPTION:
URL:https://enakyrkan.se/evenemang/gudstjanst-32/2025-02-16/
CATEGORIES:Gudstjänst,Söndag
END:VEVENT
BEGIN:VEVENT
DTSTART;TZID=Europe/Stockholm:20250214T133000
DTEND;TZID=Europe/Stockholm:20250214T140000
DTSTAMP:20260420T163132
CREATED:20250121T132401Z
LAST-MODIFIED:20250121T132403Z
UID:10000297-1739539800-1739541600@enakyrkan.se
SUMMARY:Andakt på Kryddgården
DESCRIPTION:
URL:https://enakyrkan.se/evenemang/andakt-pa-kryddgarden/
END:VEVENT
BEGIN:VEVENT
DTSTART;TZID=Europe/Stockholm:20250213T180000
DTEND;TZID=Europe/Stockholm:20250213T193000
DTSTAMP:20260420T163132
CREATED:20250130T102629Z
LAST-MODIFIED:20250130T102630Z
UID:10000327-1739469600-1739475000@enakyrkan.se
SUMMARY:Draget – för dig som går i mellanstadiet
DESCRIPTION:
URL:https://enakyrkan.se/evenemang/draget-for-dig-som-gar-i-mellanstadiet/2025-02-13/
END:VEVENT
BEGIN:VEVENT
DTSTART;TZID=Europe/Stockholm:20250212T133000
DTEND;TZID=Europe/Stockholm:20250212T150000
DTSTAMP:20260420T163132
CREATED:20250122T150358Z
LAST-MODIFIED:20250122T150359Z
UID:10000306-1739367000-1739372400@enakyrkan.se
SUMMARY:Vardagsrum
DESCRIPTION:
URL:https://enakyrkan.se/evenemang/vardagsrum-13/
END:VEVENT
BEGIN:VEVENT
DTSTART;TZID=Europe/Stockholm:20250209T170000
DTEND;TZID=Europe/Stockholm:20250209T173000
DTSTAMP:20260420T163132
CREATED:20250125T090212Z
LAST-MODIFIED:20250130T103455Z
UID:10000310-1739120400-1739122200@enakyrkan.se
SUMMARY:30 minuter Bibel
DESCRIPTION:Varje söndag träffas vi för att läsa Bibeln tillsammans under en halvtimme. Upplägget på samlingen är väldigt enkelt. Vi ber en bön\, turas om att läsa ett par verser var\, tar några minuter i stillhet och eftertanke. Det ges sedan tillfälle ifall någon vill dela en tanke från det vi läst.  \n\n\n\nTa gärna med dig en fysisk bibel. Det spelar inte så stor roll vilken översättning du tar med dig.
URL:https://enakyrkan.se/evenemang/30-minuter-bibel/2025-02-09/
CATEGORIES:Söndag
END:VEVENT
BEGIN:VEVENT
DTSTART;TZID=Europe/Stockholm:20250209T110000
DTEND;TZID=Europe/Stockholm:20250209T123000
DTSTAMP:20260420T163132
CREATED:20250202T082739Z
LAST-MODIFIED:20250202T082740Z
UID:10000340-1739098800-1739104200@enakyrkan.se
SUMMARY:Gudstjänst
DESCRIPTION:
URL:https://enakyrkan.se/evenemang/gudstjanst-32/2025-02-09/
CATEGORIES:Gudstjänst,Söndag
END:VEVENT
BEGIN:VEVENT
DTSTART;TZID=Europe/Stockholm:20250207T133000
DTEND;TZID=Europe/Stockholm:20250207T140000
DTSTAMP:20260420T163132
CREATED:20250121T132326Z
LAST-MODIFIED:20250121T132327Z
UID:10000296-1738935000-1738936800@enakyrkan.se
SUMMARY:Andakt på Ljunggården
DESCRIPTION:
URL:https://enakyrkan.se/evenemang/andakt-pa-ljunggarden/
END:VEVENT
BEGIN:VEVENT
DTSTART;TZID=Europe/Stockholm:20250205T183000
DTEND;TZID=Europe/Stockholm:20250205T200000
DTSTAMP:20260420T163132
CREATED:20250204T074249Z
LAST-MODIFIED:20250204T074250Z
UID:10000343-1738780200-1738785600@enakyrkan.se
SUMMARY:Kapellet – bön & lovsång
DESCRIPTION:Kapellet är Enakyrkans storsamling för bön & lovsång. Vi möts klockan 18:30 till en enkel fika och fortsätter sedan under en timme i kyrksalen.
URL:https://enakyrkan.se/evenemang/kapellet-bon-lovsang-2/
END:VEVENT
BEGIN:VEVENT
DTSTART;TZID=Europe/Stockholm:20250205T133000
DTEND;TZID=Europe/Stockholm:20250205T150000
DTSTAMP:20260420T163132
CREATED:20250201T120709Z
LAST-MODIFIED:20250201T120710Z
UID:10000339-1738762200-1738767600@enakyrkan.se
SUMMARY:Trivselstunden med Doris Ström
DESCRIPTION:Trivselstunden är Enakyrkans träff för daglediga. Vi möts en gång i månaden för att lyssna till intressanta föredrag eller härlig sång och musik. Denna gång gästas vi av Doris Ström som kommer att tala över ämnet: ”Jag var i fängelse och ni besökte mig.” \n\n\n\nServering.
URL:https://enakyrkan.se/evenemang/trivselstunden-med-doris-strom/
END:VEVENT
BEGIN:VEVENT
DTSTART;TZID=Europe/Stockholm:20250202T170000
DTEND;TZID=Europe/Stockholm:20250202T173000
DTSTAMP:20260420T163132
CREATED:20250125T090212Z
LAST-MODIFIED:20250130T103455Z
UID:10000309-1738515600-1738517400@enakyrkan.se
SUMMARY:30 minuter Bibel
DESCRIPTION:Varje söndag träffas vi för att läsa Bibeln tillsammans under en halvtimme. Upplägget på samlingen är väldigt enkelt. Vi ber en bön\, turas om att läsa ett par verser var\, tar några minuter i stillhet och eftertanke. Det ges sedan tillfälle ifall någon vill dela en tanke från det vi läst.  \n\n\n\nTa gärna med dig en fysisk bibel. Det spelar inte så stor roll vilken översättning du tar med dig.
URL:https://enakyrkan.se/evenemang/30-minuter-bibel/2025-02-02/
CATEGORIES:Söndag
END:VEVENT
BEGIN:VEVENT
DTSTART;TZID=Europe/Stockholm:20250202T123000
DTEND;TZID=Europe/Stockholm:20250202T140000
DTSTAMP:20260420T163132
CREATED:20250130T103328Z
LAST-MODIFIED:20250130T103329Z
UID:10000338-1738499400-1738504800@enakyrkan.se
SUMMARY:Församlingshelg – kyrklunch
DESCRIPTION:
URL:https://enakyrkan.se/evenemang/forsamlingshelg-kyrklunch/
CATEGORIES:Söndag
END:VEVENT
BEGIN:VEVENT
DTSTART;TZID=Europe/Stockholm:20250202T110000
DTEND;TZID=Europe/Stockholm:20250202T123000
DTSTAMP:20260420T163132
CREATED:20250130T103248Z
LAST-MODIFIED:20250130T103249Z
UID:10000337-1738494000-1738499400@enakyrkan.se
SUMMARY:Församlingshelg – Gudstjänst med nattvard
DESCRIPTION:
URL:https://enakyrkan.se/evenemang/forsamlingshelg-gudstjanst-med-nattvard/
CATEGORIES:Gudstjänst,Söndag
END:VEVENT
BEGIN:VEVENT
DTSTART;TZID=Europe/Stockholm:20250201T180000
DTEND;TZID=Europe/Stockholm:20250201T193000
DTSTAMP:20260420T163132
CREATED:20250130T103146Z
LAST-MODIFIED:20250130T103147Z
UID:10000336-1738432800-1738438200@enakyrkan.se
SUMMARY:Församlingshelg – Gudstjänst för alla åldrar
DESCRIPTION:
URL:https://enakyrkan.se/evenemang/forsamlingshelg-gudstjanst-for-alla-aldrar/
END:VEVENT
BEGIN:VEVENT
DTSTART;TZID=Europe/Stockholm:20250201T160000
DTEND;TZID=Europe/Stockholm:20250201T180000
DTSTAMP:20260420T163132
CREATED:20250130T103106Z
LAST-MODIFIED:20250130T103107Z
UID:10000335-1738425600-1738432800@enakyrkan.se
SUMMARY:Församlingshelg – Knytkalas
DESCRIPTION:
URL:https://enakyrkan.se/evenemang/forsamlingshelg-knytkalas/
END:VEVENT
BEGIN:VEVENT
DTSTART;TZID=Europe/Stockholm:20250130T180000
DTEND;TZID=Europe/Stockholm:20250130T193000
DTSTAMP:20260420T163132
CREATED:20250130T102629Z
LAST-MODIFIED:20250130T102630Z
UID:10000326-1738260000-1738265400@enakyrkan.se
SUMMARY:Draget – för dig som går i mellanstadiet
DESCRIPTION:
URL:https://enakyrkan.se/evenemang/draget-for-dig-som-gar-i-mellanstadiet/2025-01-30/
END:VEVENT
BEGIN:VEVENT
DTSTART;TZID=Europe/Stockholm:20250129T133000
DTEND;TZID=Europe/Stockholm:20250129T150000
DTSTAMP:20260420T163132
CREATED:20250122T085008Z
LAST-MODIFIED:20250122T085009Z
UID:10000305-1738157400-1738162800@enakyrkan.se
SUMMARY:Vardagsrum
DESCRIPTION:
URL:https://enakyrkan.se/evenemang/vardagsrum-12/
END:VEVENT
BEGIN:VEVENT
DTSTART;TZID=Europe/Stockholm:20250126T170000
DTEND;TZID=Europe/Stockholm:20250126T173000
DTSTAMP:20260420T163132
CREATED:20250125T090212Z
LAST-MODIFIED:20250130T103455Z
UID:10000308-1737910800-1737912600@enakyrkan.se
SUMMARY:30 minuter Bibel
DESCRIPTION:Varje söndag träffas vi för att läsa Bibeln tillsammans under en halvtimme. Upplägget på samlingen är väldigt enkelt. Vi ber en bön\, turas om att läsa ett par verser var\, tar några minuter i stillhet och eftertanke. Det ges sedan tillfälle ifall någon vill dela en tanke från det vi läst.  \n\n\n\nTa gärna med dig en fysisk bibel. Det spelar inte så stor roll vilken översättning du tar med dig.
URL:https://enakyrkan.se/evenemang/30-minuter-bibel/2025-01-26/
CATEGORIES:Söndag
END:VEVENT
BEGIN:VEVENT
DTSTART;TZID=Europe/Stockholm:20250126T110000
DTEND;TZID=Europe/Stockholm:20250126T123000
DTSTAMP:20260420T163132
CREATED:20250102T075419Z
LAST-MODIFIED:20250102T075421Z
UID:10000275-1737889200-1737894600@enakyrkan.se
SUMMARY:Gudstjänst
DESCRIPTION:
URL:https://enakyrkan.se/evenemang/gudstjanst-31/
CATEGORIES:Gudstjänst,Söndag
END:VEVENT
BEGIN:VEVENT
DTSTART;TZID=Europe/Stockholm:20250125T180000
DTEND;TZID=Europe/Stockholm:20250125T190000
DTSTAMP:20260420T163132
CREATED:20250115T085119Z
LAST-MODIFIED:20250115T085120Z
UID:10000294-1737828000-1737831600@enakyrkan.se
SUMMARY:Ekumeniska böneveckan – avslutningsgudstjänst i Enakyrkan
DESCRIPTION:Medverkande från de olika kyrkorna.
URL:https://enakyrkan.se/evenemang/ekumeniska-boneveckan-avslutningsgudstjanst-i-enakyrkan/
END:VEVENT
BEGIN:VEVENT
DTSTART;TZID=Europe/Stockholm:20250124T173000
DTEND;TZID=Europe/Stockholm:20250124T190000
DTSTAMP:20260420T163132
CREATED:20250115T084951Z
LAST-MODIFIED:20250115T084952Z
UID:10000293-1737739800-1737745200@enakyrkan.se
SUMMARY:Ekumeniska böneveckan – Vallby kyrka\, Mariadöttrarna
DESCRIPTION:OBS! Samlingen börjar 17:30. Efter samlingen servering hos Mariadöttrarna.
URL:https://enakyrkan.se/evenemang/ekumeniska-boneveckan-vallby-kyrka-mariadottrarna/
END:VEVENT
BEGIN:VEVENT
DTSTART;TZID=Europe/Stockholm:20250123T180000
DTEND;TZID=Europe/Stockholm:20250123T190000
DTSTAMP:20260420T163132
CREATED:20250115T084641Z
LAST-MODIFIED:20250115T084642Z
UID:10000292-1737655200-1737658800@enakyrkan.se
SUMMARY:Ekumeniska böneveckan – Vårfrukyrkan
DESCRIPTION:
URL:https://enakyrkan.se/evenemang/ekumeniska-boneveckan-varfrukyrkan/
END:VEVENT
BEGIN:VEVENT
DTSTART;TZID=Europe/Stockholm:20250122T180000
DTEND;TZID=Europe/Stockholm:20250122T190000
DTSTAMP:20260420T163132
CREATED:20250115T084607Z
LAST-MODIFIED:20250115T084608Z
UID:10000291-1737568800-1737572400@enakyrkan.se
SUMMARY:Ekumeniska böneveckan – Västerledskyrkan
DESCRIPTION:
URL:https://enakyrkan.se/evenemang/ekumeniska-boneveckan-vasterledskyrkan-2/
END:VEVENT
BEGIN:VEVENT
DTSTART;TZID=Europe/Stockholm:20250122T133000
DTEND;TZID=Europe/Stockholm:20250122T150000
DTSTAMP:20260420T163132
CREATED:20250107T114056Z
LAST-MODIFIED:20250107T114057Z
UID:10000277-1737552600-1737558000@enakyrkan.se
SUMMARY:Vardagsrum
DESCRIPTION:
URL:https://enakyrkan.se/evenemang/vardagsrum-11/
END:VEVENT
BEGIN:VEVENT
DTSTART;TZID=Europe/Stockholm:20250121T180000
DTEND;TZID=Europe/Stockholm:20250121T190000
DTSTAMP:20260420T163132
CREATED:20250115T084518Z
LAST-MODIFIED:20250115T084520Z
UID:10000290-1737482400-1737486000@enakyrkan.se
SUMMARY:Ekumeniska böneveckan – S:t Ilian
DESCRIPTION:
URL:https://enakyrkan.se/evenemang/ekumeniska-boneveckan-st-ilian/
END:VEVENT
BEGIN:VEVENT
DTSTART;TZID=Europe/Stockholm:20250120T180000
DTEND;TZID=Europe/Stockholm:20250120T190000
DTSTAMP:20260420T163132
CREATED:20250115T084436Z
LAST-MODIFIED:20250115T084437Z
UID:10000289-1737396000-1737399600@enakyrkan.se
SUMMARY:Ekumeniska böneveckan – S:t Adai
DESCRIPTION:
URL:https://enakyrkan.se/evenemang/ekumeniska-boneveckan-st-adai/
END:VEVENT
BEGIN:VEVENT
DTSTART;TZID=Europe/Stockholm:20250119T180000
DTEND;TZID=Europe/Stockholm:20250119T190000
DTSTAMP:20260420T163132
CREATED:20250115T084348Z
LAST-MODIFIED:20250115T084349Z
UID:10000288-1737309600-1737313200@enakyrkan.se
SUMMARY:Ekumeniska böneveckan – Enakyrkan
DESCRIPTION:
URL:https://enakyrkan.se/evenemang/ekumeniska-boneveckan-enakyrkan/
CATEGORIES:Gudstjänst,Söndag
END:VEVENT
BEGIN:VEVENT
DTSTART;TZID=Europe/Stockholm:20250119T123000
DTEND;TZID=Europe/Stockholm:20250119T133000
DTSTAMP:20260420T163132
CREATED:20250115T092009Z
LAST-MODIFIED:20250119T092252Z
UID:10000295-1737289800-1737293400@enakyrkan.se
SUMMARY:Församlingsmöte efter gudstjänsten
DESCRIPTION:Läs mer här: Kallelse till församlingsmöte
URL:https://enakyrkan.se/evenemang/forsamlingsmote-efter-gudstjansten-5/
CATEGORIES:Gudstjänst,Söndag
END:VEVENT
BEGIN:VEVENT
DTSTART;TZID=Europe/Stockholm:20250119T110000
DTEND;TZID=Europe/Stockholm:20250119T123000
DTSTAMP:20260420T163132
CREATED:20250102T075342Z
LAST-MODIFIED:20250102T075343Z
UID:10000274-1737284400-1737289800@enakyrkan.se
SUMMARY:Gudstjänst
DESCRIPTION:
URL:https://enakyrkan.se/evenemang/gudstjanst-30/
CATEGORIES:Gudstjänst,Söndag
END:VEVENT
END:VCALENDAR