BEGIN:VCALENDAR
VERSION:2.0
PRODID:-//Enakyrkan - ECPv6.15.12.2//NONSGML v1.0//EN
CALSCALE:GREGORIAN
METHOD:PUBLISH
X-ORIGINAL-URL:https://enakyrkan.se
X-WR-CALDESC:Händelser för Enakyrkan
REFRESH-INTERVAL;VALUE=DURATION:PT1H
X-Robots-Tag:noindex
X-PUBLISHED-TTL:PT1H
BEGIN:VTIMEZONE
TZID:Europe/Stockholm
BEGIN:DAYLIGHT
TZOFFSETFROM:+0100
TZOFFSETTO:+0200
TZNAME:CEST
DTSTART:20230326T010000
END:DAYLIGHT
BEGIN:STANDARD
TZOFFSETFROM:+0200
TZOFFSETTO:+0100
TZNAME:CET
DTSTART:20231029T010000
END:STANDARD
BEGIN:DAYLIGHT
TZOFFSETFROM:+0100
TZOFFSETTO:+0200
TZNAME:CEST
DTSTART:20240331T010000
END:DAYLIGHT
BEGIN:STANDARD
TZOFFSETFROM:+0200
TZOFFSETTO:+0100
TZNAME:CET
DTSTART:20241027T010000
END:STANDARD
BEGIN:DAYLIGHT
TZOFFSETFROM:+0100
TZOFFSETTO:+0200
TZNAME:CEST
DTSTART:20250330T010000
END:DAYLIGHT
BEGIN:STANDARD
TZOFFSETFROM:+0200
TZOFFSETTO:+0100
TZNAME:CET
DTSTART:20251026T010000
END:STANDARD
END:VTIMEZONE
BEGIN:VEVENT
DTSTART;TZID=Europe/Stockholm:20241217T070000
DTEND;TZID=Europe/Stockholm:20241217T073000
DTSTAMP:20260420T203456
CREATED:20241006T073458Z
LAST-MODIFIED:20241006T073459Z
UID:10000245-1734418800-1734420600@enakyrkan.se
SUMMARY:Morgonbön i andaktsrummet
DESCRIPTION:
URL:https://enakyrkan.se/evenemang/morgonbon-i-andaktsrummet-4/2024-12-17/
END:VEVENT
BEGIN:VEVENT
DTSTART;TZID=Europe/Stockholm:20241215T110000
DTEND;TZID=Europe/Stockholm:20241215T123000
DTSTAMP:20260420T203456
CREATED:20241128T164235Z
LAST-MODIFIED:20241212T094357Z
UID:10000264-1734260400-1734265800@enakyrkan.se
SUMMARY:Gudstjänst med Daniel & Paulina Brolin
DESCRIPTION:
URL:https://enakyrkan.se/evenemang/gudstjanst-26/
CATEGORIES:Gudstjänst,Söndag
END:VEVENT
BEGIN:VEVENT
DTSTART;TZID=Europe/Stockholm:20241215T110000
DTEND;TZID=Europe/Stockholm:20241215T123000
DTSTAMP:20260420T203456
CREATED:20240930T140010Z
LAST-MODIFIED:20240930T140448Z
UID:10000212-1734260400-1734265800@enakyrkan.se
SUMMARY:Söndagsskola\, julavslutning
DESCRIPTION:
URL:https://enakyrkan.se/evenemang/sondagsskola-julavslutning/
CATEGORIES:Gudstjänst,Söndag
END:VEVENT
BEGIN:VEVENT
DTSTART;TZID=Europe/Stockholm:20241214T130000
DTEND;TZID=Europe/Stockholm:20241214T160000
DTSTAMP:20260420T203456
CREATED:20241201T081440Z
LAST-MODIFIED:20241201T081441Z
UID:10000269-1734181200-1734192000@enakyrkan.se
SUMMARY:Trivselstundens julfest
DESCRIPTION:
URL:https://enakyrkan.se/evenemang/trivselstundens-julfest-2/
END:VEVENT
BEGIN:VEVENT
DTSTART;TZID=Europe/Stockholm:20241212T070000
DTEND;TZID=Europe/Stockholm:20241212T073000
DTSTAMP:20260420T203456
CREATED:20241006T073458Z
LAST-MODIFIED:20241006T073459Z
UID:10000244-1733986800-1733988600@enakyrkan.se
SUMMARY:Morgonbön i andaktsrummet
DESCRIPTION:
URL:https://enakyrkan.se/evenemang/morgonbon-i-andaktsrummet-4/2024-12-12/
END:VEVENT
BEGIN:VEVENT
DTSTART;TZID=Europe/Stockholm:20241211T133000
DTEND;TZID=Europe/Stockholm:20241211T150000
DTSTAMP:20260420T203456
CREATED:20240918T163618Z
LAST-MODIFIED:20240918T163713Z
UID:10000201-1733923800-1733929200@enakyrkan.se
SUMMARY:Vardagsrum
DESCRIPTION:
URL:https://enakyrkan.se/evenemang/vardagsrum-4/
END:VEVENT
BEGIN:VEVENT
DTSTART;TZID=Europe/Stockholm:20241211T070000
DTEND;TZID=Europe/Stockholm:20241211T073000
DTSTAMP:20260420T203456
CREATED:20241006T073458Z
LAST-MODIFIED:20241006T073459Z
UID:10000243-1733900400-1733902200@enakyrkan.se
SUMMARY:Morgonbön i andaktsrummet
DESCRIPTION:
URL:https://enakyrkan.se/evenemang/morgonbon-i-andaktsrummet-4/2024-12-11/
END:VEVENT
BEGIN:VEVENT
DTSTART;TZID=Europe/Stockholm:20241210T070000
DTEND;TZID=Europe/Stockholm:20241210T073000
DTSTAMP:20260420T203456
CREATED:20241006T073458Z
LAST-MODIFIED:20241006T073459Z
UID:10000242-1733814000-1733815800@enakyrkan.se
SUMMARY:Morgonbön i andaktsrummet
DESCRIPTION:
URL:https://enakyrkan.se/evenemang/morgonbon-i-andaktsrummet-4/2024-12-10/
END:VEVENT
BEGIN:VEVENT
DTSTART;TZID=Europe/Stockholm:20241208T123000
DTEND;TZID=Europe/Stockholm:20241208T133000
DTSTAMP:20260420T203456
CREATED:20241201T081324Z
LAST-MODIFIED:20241201T081325Z
UID:10000268-1733661000-1733664600@enakyrkan.se
SUMMARY:Församlingsmöte efter gudstjänsten
DESCRIPTION:
URL:https://enakyrkan.se/evenemang/forsamlingsmote-efter-gudstjansten-3/
CATEGORIES:Söndag
END:VEVENT
BEGIN:VEVENT
DTSTART;TZID=Europe/Stockholm:20241208T110000
DTEND;TZID=Europe/Stockholm:20241208T123000
DTSTAMP:20260420T203456
CREATED:20241128T164200Z
LAST-MODIFIED:20241128T164201Z
UID:10000263-1733655600-1733661000@enakyrkan.se
SUMMARY:Gudstjänst för alla åldrar
DESCRIPTION:
URL:https://enakyrkan.se/evenemang/gudstjanst-for-alla-aldrar-3/
CATEGORIES:Gudstjänst,Söndag
END:VEVENT
BEGIN:VEVENT
DTSTART;TZID=Europe/Stockholm:20241205T180000
DTEND;TZID=Europe/Stockholm:20241205T193000
DTSTAMP:20260420T203456
CREATED:20240910T071107Z
LAST-MODIFIED:20240910T071108Z
UID:10000193-1733421600-1733427000@enakyrkan.se
SUMMARY:Draget
DESCRIPTION:För alla barn som går i mellanstadiet
URL:https://enakyrkan.se/evenemang/draget-11/
END:VEVENT
BEGIN:VEVENT
DTSTART;TZID=Europe/Stockholm:20241205T070000
DTEND;TZID=Europe/Stockholm:20241205T073000
DTSTAMP:20260420T203456
CREATED:20241006T073458Z
LAST-MODIFIED:20241006T073459Z
UID:10000241-1733382000-1733383800@enakyrkan.se
SUMMARY:Morgonbön i andaktsrummet
DESCRIPTION:
URL:https://enakyrkan.se/evenemang/morgonbon-i-andaktsrummet-4/2024-12-05/
END:VEVENT
BEGIN:VEVENT
DTSTART;TZID=Europe/Stockholm:20241204T133000
DTEND;TZID=Europe/Stockholm:20241204T150000
DTSTAMP:20260420T203456
CREATED:20240918T165117Z
LAST-MODIFIED:20240918T165117Z
UID:10000207-1733319000-1733324400@enakyrkan.se
SUMMARY:Vardagsrum
DESCRIPTION:
URL:https://enakyrkan.se/evenemang/vardagsrum-10/
END:VEVENT
BEGIN:VEVENT
DTSTART;TZID=Europe/Stockholm:20241204T070000
DTEND;TZID=Europe/Stockholm:20241204T073000
DTSTAMP:20260420T203456
CREATED:20241006T073458Z
LAST-MODIFIED:20241006T073459Z
UID:10000240-1733295600-1733297400@enakyrkan.se
SUMMARY:Morgonbön i andaktsrummet
DESCRIPTION:
URL:https://enakyrkan.se/evenemang/morgonbon-i-andaktsrummet-4/2024-12-04/
END:VEVENT
BEGIN:VEVENT
DTSTART;TZID=Europe/Stockholm:20241203T070000
DTEND;TZID=Europe/Stockholm:20241203T073000
DTSTAMP:20260420T203456
CREATED:20241006T073458Z
LAST-MODIFIED:20241006T073459Z
UID:10000239-1733209200-1733211000@enakyrkan.se
SUMMARY:Morgonbön i andaktsrummet
DESCRIPTION:
URL:https://enakyrkan.se/evenemang/morgonbon-i-andaktsrummet-4/2024-12-03/
END:VEVENT
BEGIN:VEVENT
DTSTART;TZID=Europe/Stockholm:20241201T110000
DTEND;TZID=Europe/Stockholm:20241201T123000
DTSTAMP:20260420T203456
CREATED:20241128T164113Z
LAST-MODIFIED:20241128T164114Z
UID:10000262-1733050800-1733056200@enakyrkan.se
SUMMARY:Gudstjänst
DESCRIPTION:
URL:https://enakyrkan.se/evenemang/gudstjanst-25/
CATEGORIES:Gudstjänst,Söndag
END:VEVENT
BEGIN:VEVENT
DTSTART;TZID=Europe/Stockholm:20241201T110000
DTEND;TZID=Europe/Stockholm:20241201T123000
DTSTAMP:20260420T203456
CREATED:20240930T135933Z
LAST-MODIFIED:20240930T140428Z
UID:10000211-1733050800-1733056200@enakyrkan.se
SUMMARY:Söndagsskola
DESCRIPTION:
URL:https://enakyrkan.se/evenemang/sondagsskola-4/
CATEGORIES:Gudstjänst,Söndag
END:VEVENT
BEGIN:VEVENT
DTSTART;TZID=Europe/Stockholm:20241129T183000
DTEND;TZID=Europe/Stockholm:20241129T210000
DTSTAMP:20260420T203456
CREATED:20241115T090454Z
LAST-MODIFIED:20241115T090455Z
UID:10000261-1732905000-1732914000@enakyrkan.se
SUMMARY:Thanksgiving-fest
DESCRIPTION:Enakyrkans thanksgiving-fest ”En kväll i tacksamhetens tecken” har blivit en fin tradition. Vi möts till knytkalas\, gemenskap\, tävlingar. lekar – och framför allt för att uttrycka vår tacksamhet till Gud och till varandra.Ta med dig lite mat så att det räcker till någon mer än dig själv\, så delar vi på allt och får en jättefin kväll tillsammans!
URL:https://enakyrkan.se/evenemang/thanksgiving-fest/
END:VEVENT
BEGIN:VEVENT
DTSTART;TZID=Europe/Stockholm:20241128T070000
DTEND;TZID=Europe/Stockholm:20241128T073000
DTSTAMP:20260420T203456
CREATED:20241006T073458Z
LAST-MODIFIED:20241006T073459Z
UID:10000238-1732777200-1732779000@enakyrkan.se
SUMMARY:Morgonbön i andaktsrummet
DESCRIPTION:
URL:https://enakyrkan.se/evenemang/morgonbon-i-andaktsrummet-4/2024-11-28/
END:VEVENT
BEGIN:VEVENT
DTSTART;TZID=Europe/Stockholm:20241127T133000
DTEND;TZID=Europe/Stockholm:20241127T150000
DTSTAMP:20260420T203456
CREATED:20240918T164951Z
LAST-MODIFIED:20240918T164952Z
UID:10000206-1732714200-1732719600@enakyrkan.se
SUMMARY:Vardagsrum
DESCRIPTION:
URL:https://enakyrkan.se/evenemang/vardagsrum-9/
END:VEVENT
BEGIN:VEVENT
DTSTART;TZID=Europe/Stockholm:20241127T070000
DTEND;TZID=Europe/Stockholm:20241127T073000
DTSTAMP:20260420T203456
CREATED:20241006T073458Z
LAST-MODIFIED:20241006T073459Z
UID:10000237-1732690800-1732692600@enakyrkan.se
SUMMARY:Morgonbön i andaktsrummet
DESCRIPTION:
URL:https://enakyrkan.se/evenemang/morgonbon-i-andaktsrummet-4/2024-11-27/
END:VEVENT
BEGIN:VEVENT
DTSTART;TZID=Europe/Stockholm:20241126T070000
DTEND;TZID=Europe/Stockholm:20241126T073000
DTSTAMP:20260420T203456
CREATED:20241006T073458Z
LAST-MODIFIED:20241006T073459Z
UID:10000236-1732604400-1732606200@enakyrkan.se
SUMMARY:Morgonbön i andaktsrummet
DESCRIPTION:
URL:https://enakyrkan.se/evenemang/morgonbon-i-andaktsrummet-4/2024-11-26/
END:VEVENT
BEGIN:VEVENT
DTSTART;TZID=Europe/Stockholm:20241124T110000
DTEND;TZID=Europe/Stockholm:20241124T123000
DTSTAMP:20260420T203456
CREATED:20241101T075325Z
LAST-MODIFIED:20241101T075326Z
UID:10000259-1732446000-1732451400@enakyrkan.se
SUMMARY:Gudstjänst
DESCRIPTION:
URL:https://enakyrkan.se/evenemang/gudstjanst-24/
CATEGORIES:Gudstjänst,Söndag
END:VEVENT
BEGIN:VEVENT
DTSTART;TZID=Europe/Stockholm:20241122T133000
DTEND;TZID=Europe/Stockholm:20241122T140000
DTSTAMP:20260420T203456
CREATED:20240910T063128Z
LAST-MODIFIED:20240910T063129Z
UID:10000185-1732282200-1732284000@enakyrkan.se
SUMMARY:Sångstund på Kryddgården
DESCRIPTION:
URL:https://enakyrkan.se/evenemang/sangstund-pa-kryddgarden-3/
END:VEVENT
BEGIN:VEVENT
DTSTART;TZID=Europe/Stockholm:20241121T180000
DTEND;TZID=Europe/Stockholm:20241121T193000
DTSTAMP:20260420T203456
CREATED:20240910T071024Z
LAST-MODIFIED:20240910T071025Z
UID:10000192-1732212000-1732217400@enakyrkan.se
SUMMARY:Draget
DESCRIPTION:För alla barn som går i mellanstadiet
URL:https://enakyrkan.se/evenemang/draget-10/
END:VEVENT
BEGIN:VEVENT
DTSTART;TZID=Europe/Stockholm:20241121T070000
DTEND;TZID=Europe/Stockholm:20241121T073000
DTSTAMP:20260420T203456
CREATED:20241006T073458Z
LAST-MODIFIED:20241006T073459Z
UID:10000235-1732172400-1732174200@enakyrkan.se
SUMMARY:Morgonbön i andaktsrummet
DESCRIPTION:
URL:https://enakyrkan.se/evenemang/morgonbon-i-andaktsrummet-4/2024-11-21/
END:VEVENT
BEGIN:VEVENT
DTSTART;TZID=Europe/Stockholm:20241120T133000
DTEND;TZID=Europe/Stockholm:20241120T150000
DTSTAMP:20260420T203456
CREATED:20240918T164422Z
LAST-MODIFIED:20240918T164423Z
UID:10000204-1732109400-1732114800@enakyrkan.se
SUMMARY:Vardagsrum
DESCRIPTION:
URL:https://enakyrkan.se/evenemang/vardagsrum-8/
END:VEVENT
BEGIN:VEVENT
DTSTART;TZID=Europe/Stockholm:20241120T070000
DTEND;TZID=Europe/Stockholm:20241120T073000
DTSTAMP:20260420T203456
CREATED:20241006T073458Z
LAST-MODIFIED:20241006T073459Z
UID:10000234-1732086000-1732087800@enakyrkan.se
SUMMARY:Morgonbön i andaktsrummet
DESCRIPTION:
URL:https://enakyrkan.se/evenemang/morgonbon-i-andaktsrummet-4/2024-11-20/
END:VEVENT
BEGIN:VEVENT
DTSTART;TZID=Europe/Stockholm:20241119T070000
DTEND;TZID=Europe/Stockholm:20241119T073000
DTSTAMP:20260420T203456
CREATED:20241006T073458Z
LAST-MODIFIED:20241006T073459Z
UID:10000233-1731999600-1732001400@enakyrkan.se
SUMMARY:Morgonbön i andaktsrummet
DESCRIPTION:
URL:https://enakyrkan.se/evenemang/morgonbon-i-andaktsrummet-4/2024-11-19/
END:VEVENT
BEGIN:VEVENT
DTSTART;TZID=Europe/Stockholm:20241117T110000
DTEND;TZID=Europe/Stockholm:20241117T123000
DTSTAMP:20260420T203456
CREATED:20241101T075246Z
LAST-MODIFIED:20241101T075247Z
UID:10000258-1731841200-1731846600@enakyrkan.se
SUMMARY:Gudstjänst
DESCRIPTION:
URL:https://enakyrkan.se/evenemang/gudstjanst-23/
CATEGORIES:Gudstjänst,Söndag
END:VEVENT
END:VCALENDAR