BEGIN:VCALENDAR
VERSION:2.0
PRODID:-//Enakyrkan - ECPv6.15.12.2//NONSGML v1.0//EN
CALSCALE:GREGORIAN
METHOD:PUBLISH
X-ORIGINAL-URL:https://enakyrkan.se
X-WR-CALDESC:Händelser för Enakyrkan
REFRESH-INTERVAL;VALUE=DURATION:PT1H
X-Robots-Tag:noindex
X-PUBLISHED-TTL:PT1H
BEGIN:VTIMEZONE
TZID:Europe/Stockholm
BEGIN:DAYLIGHT
TZOFFSETFROM:+0100
TZOFFSETTO:+0200
TZNAME:CEST
DTSTART:20230326T010000
END:DAYLIGHT
BEGIN:STANDARD
TZOFFSETFROM:+0200
TZOFFSETTO:+0100
TZNAME:CET
DTSTART:20231029T010000
END:STANDARD
BEGIN:DAYLIGHT
TZOFFSETFROM:+0100
TZOFFSETTO:+0200
TZNAME:CEST
DTSTART:20240331T010000
END:DAYLIGHT
BEGIN:STANDARD
TZOFFSETFROM:+0200
TZOFFSETTO:+0100
TZNAME:CET
DTSTART:20241027T010000
END:STANDARD
BEGIN:DAYLIGHT
TZOFFSETFROM:+0100
TZOFFSETTO:+0200
TZNAME:CEST
DTSTART:20250330T010000
END:DAYLIGHT
BEGIN:STANDARD
TZOFFSETFROM:+0200
TZOFFSETTO:+0100
TZNAME:CET
DTSTART:20251026T010000
END:STANDARD
END:VTIMEZONE
BEGIN:VEVENT
DTSTART;TZID=Europe/Stockholm:20240714T180000
DTEND;TZID=Europe/Stockholm:20240714T200000
DTSTAMP:20260421T044606
CREATED:20240512T201712Z
LAST-MODIFIED:20240512T201908Z
UID:10000159-1720980000-1720987200@enakyrkan.se
SUMMARY:Sommargudstjänst
DESCRIPTION:Under sommaren hålls våra gudstjänster klockan 18:00 med knytisfika efteråt.
URL:https://enakyrkan.se/evenemang/sommargudstjanst/2024-07-14/
CATEGORIES:Gudstjänst,Söndag
END:VEVENT
BEGIN:VEVENT
DTSTART;TZID=Europe/Stockholm:20240707T180000
DTEND;TZID=Europe/Stockholm:20240707T200000
DTSTAMP:20260421T044606
CREATED:20240512T201712Z
LAST-MODIFIED:20240512T201908Z
UID:10000158-1720375200-1720382400@enakyrkan.se
SUMMARY:Sommargudstjänst
DESCRIPTION:Under sommaren hålls våra gudstjänster klockan 18:00 med knytisfika efteråt.
URL:https://enakyrkan.se/evenemang/sommargudstjanst/2024-07-07/
CATEGORIES:Gudstjänst,Söndag
END:VEVENT
BEGIN:VEVENT
DTSTART;TZID=Europe/Stockholm:20240630T180000
DTEND;TZID=Europe/Stockholm:20240630T200000
DTSTAMP:20260421T044606
CREATED:20240512T201712Z
LAST-MODIFIED:20240512T201908Z
UID:10000157-1719770400-1719777600@enakyrkan.se
SUMMARY:Sommargudstjänst
DESCRIPTION:Under sommaren hålls våra gudstjänster klockan 18:00 med knytisfika efteråt.
URL:https://enakyrkan.se/evenemang/sommargudstjanst/2024-06-30/
CATEGORIES:Gudstjänst,Söndag
END:VEVENT
BEGIN:VEVENT
DTSTART;TZID=Europe/Stockholm:20240623T180000
DTEND;TZID=Europe/Stockholm:20240623T200000
DTSTAMP:20260421T044606
CREATED:20240512T201712Z
LAST-MODIFIED:20240512T201908Z
UID:10000156-1719165600-1719172800@enakyrkan.se
SUMMARY:Sommargudstjänst
DESCRIPTION:Under sommaren hålls våra gudstjänster klockan 18:00 med knytisfika efteråt.
URL:https://enakyrkan.se/evenemang/sommargudstjanst/2024-06-23/
CATEGORIES:Gudstjänst,Söndag
END:VEVENT
BEGIN:VEVENT
DTSTART;TZID=Europe/Stockholm:20240616T110000
DTEND;TZID=Europe/Stockholm:20240616T123000
DTSTAMP:20260421T044606
CREATED:20240530T115146Z
LAST-MODIFIED:20240530T115147Z
UID:10000168-1718535600-1718541000@enakyrkan.se
SUMMARY:Gudstjänst
DESCRIPTION:
URL:https://enakyrkan.se/evenemang/gudstjanst-15/
CATEGORIES:Gudstjänst,Söndag
END:VEVENT
BEGIN:VEVENT
DTSTART;TZID=Europe/Stockholm:20240609T110000
DTEND;TZID=Europe/Stockholm:20240609T123000
DTSTAMP:20260421T044606
CREATED:20240512T200928Z
LAST-MODIFIED:20240512T201346Z
UID:10000154-1717930800-1717936200@enakyrkan.se
SUMMARY:Gudstjänst för alla åldrar
DESCRIPTION:Avskiljning av Aron & Evelina Svernedal till pastorer med ansvar för barn och ungdom.
URL:https://enakyrkan.se/evenemang/gudstjanst-13/
CATEGORIES:Gudstjänst,Söndag
END:VEVENT
BEGIN:VEVENT
DTSTART;TZID=Europe/Stockholm:20240607T133000
DTEND;TZID=Europe/Stockholm:20240607T140000
DTSTAMP:20260421T044606
CREATED:20240229T094342Z
LAST-MODIFIED:20240229T094343Z
UID:10000118-1717767000-1717768800@enakyrkan.se
SUMMARY:Sångstund på Kryddgården
DESCRIPTION:
URL:https://enakyrkan.se/evenemang/sangstund-pa-kryddgarden-2/
END:VEVENT
BEGIN:VEVENT
DTSTART;TZID=Europe/Stockholm:20240602T110000
DTEND;TZID=Europe/Stockholm:20240602T123000
DTSTAMP:20260421T044606
CREATED:20240512T200839Z
LAST-MODIFIED:20240512T200840Z
UID:10000153-1717326000-1717331400@enakyrkan.se
SUMMARY:Gudstjänst med nattvard
DESCRIPTION:
URL:https://enakyrkan.se/evenemang/gudstjanst-med-nattvard-7/
CATEGORIES:Gudstjänst,Söndag
END:VEVENT
BEGIN:VEVENT
DTSTART;TZID=Europe/Stockholm:20240531T190000
DTEND;TZID=Europe/Stockholm:20240531T220000
DTSTAMP:20260421T044606
CREATED:20240124T090245Z
LAST-MODIFIED:20240124T090329Z
UID:10000089-1717182000-1717192800@enakyrkan.se
SUMMARY:EnakUng
DESCRIPTION:EnakUng är för tonåringar som går på högstadiet och gymnasiet. Vi träffas varje fredag kl 19:00–22:00 för att ha andakt\, fika och göra roliga saker tillsammans. Vi använder ingången vid sidan av kyrksalen
URL:https://enakyrkan.se/evenemang/enakung/2024-05-31/
CATEGORIES:EnakUng
END:VEVENT
BEGIN:VEVENT
DTSTART;TZID=Europe/Stockholm:20240531T070000
DTEND;TZID=Europe/Stockholm:20240531T073000
DTSTAMP:20260421T044606
CREATED:20240508T134837Z
LAST-MODIFIED:20240508T134838Z
UID:10000151-1717138800-1717140600@enakyrkan.se
SUMMARY:Morgonbön i andaktsrummet
DESCRIPTION:
URL:https://enakyrkan.se/evenemang/morgonbon-i-andaktsrummet-3/2024-05-31/
END:VEVENT
BEGIN:VEVENT
DTSTART;TZID=Europe/Stockholm:20240530T070000
DTEND;TZID=Europe/Stockholm:20240530T073000
DTSTAMP:20260421T044606
CREATED:20240508T134837Z
LAST-MODIFIED:20240508T134838Z
UID:10000150-1717052400-1717054200@enakyrkan.se
SUMMARY:Morgonbön i andaktsrummet
DESCRIPTION:
URL:https://enakyrkan.se/evenemang/morgonbon-i-andaktsrummet-3/2024-05-30/
END:VEVENT
BEGIN:VEVENT
DTSTART;TZID=Europe/Stockholm:20240529T070000
DTEND;TZID=Europe/Stockholm:20240529T073000
DTSTAMP:20260421T044606
CREATED:20240508T134837Z
LAST-MODIFIED:20240508T134838Z
UID:10000149-1716966000-1716967800@enakyrkan.se
SUMMARY:Morgonbön i andaktsrummet
DESCRIPTION:
URL:https://enakyrkan.se/evenemang/morgonbon-i-andaktsrummet-3/2024-05-29/
END:VEVENT
BEGIN:VEVENT
DTSTART;TZID=Europe/Stockholm:20240528T070000
DTEND;TZID=Europe/Stockholm:20240528T073000
DTSTAMP:20260421T044606
CREATED:20240508T134837Z
LAST-MODIFIED:20240508T134838Z
UID:10000148-1716879600-1716881400@enakyrkan.se
SUMMARY:Morgonbön i andaktsrummet
DESCRIPTION:
URL:https://enakyrkan.se/evenemang/morgonbon-i-andaktsrummet-3/2024-05-28/
END:VEVENT
BEGIN:VEVENT
DTSTART;TZID=Europe/Stockholm:20240527T070000
DTEND;TZID=Europe/Stockholm:20240527T073000
DTSTAMP:20260421T044606
CREATED:20240508T134837Z
LAST-MODIFIED:20240508T134838Z
UID:10000147-1716793200-1716795000@enakyrkan.se
SUMMARY:Morgonbön i andaktsrummet
DESCRIPTION:
URL:https://enakyrkan.se/evenemang/morgonbon-i-andaktsrummet-3/2024-05-27/
END:VEVENT
BEGIN:VEVENT
DTSTART;TZID=Europe/Stockholm:20240526T110000
DTEND;TZID=Europe/Stockholm:20240526T123000
DTSTAMP:20260421T044606
CREATED:20240306T072804Z
LAST-MODIFIED:20240306T072804Z
UID:10000126-1716721200-1716726600@enakyrkan.se
SUMMARY:Gudstjänst
DESCRIPTION:
URL:https://enakyrkan.se/evenemang/gudstjanst-12/
CATEGORIES:Gudstjänst,Söndag
END:VEVENT
BEGIN:VEVENT
DTSTART;TZID=Europe/Stockholm:20240524T190000
DTEND;TZID=Europe/Stockholm:20240524T220000
DTSTAMP:20260421T044606
CREATED:20240124T090245Z
LAST-MODIFIED:20240124T090329Z
UID:10000088-1716577200-1716588000@enakyrkan.se
SUMMARY:EnakUng
DESCRIPTION:EnakUng är för tonåringar som går på högstadiet och gymnasiet. Vi träffas varje fredag kl 19:00–22:00 för att ha andakt\, fika och göra roliga saker tillsammans. Vi använder ingången vid sidan av kyrksalen
URL:https://enakyrkan.se/evenemang/enakung/2024-05-24/
CATEGORIES:EnakUng
END:VEVENT
BEGIN:VEVENT
DTSTART;TZID=Europe/Stockholm:20240524T133000
DTEND;TZID=Europe/Stockholm:20240524T140000
DTSTAMP:20260421T044606
CREATED:20240229T094301Z
LAST-MODIFIED:20240229T094302Z
UID:10000117-1716557400-1716559200@enakyrkan.se
SUMMARY:Sångstund på Ljunggården
DESCRIPTION:
URL:https://enakyrkan.se/evenemang/sangstund-pa-ljunggarden-2/
END:VEVENT
BEGIN:VEVENT
DTSTART;TZID=Europe/Stockholm:20240524T070000
DTEND;TZID=Europe/Stockholm:20240524T073000
DTSTAMP:20260421T044606
CREATED:20240508T134837Z
LAST-MODIFIED:20240508T134838Z
UID:10000146-1716534000-1716535800@enakyrkan.se
SUMMARY:Morgonbön i andaktsrummet
DESCRIPTION:
URL:https://enakyrkan.se/evenemang/morgonbon-i-andaktsrummet-3/2024-05-24/
END:VEVENT
BEGIN:VEVENT
DTSTART;TZID=Europe/Stockholm:20240523T070000
DTEND;TZID=Europe/Stockholm:20240523T073000
DTSTAMP:20260421T044606
CREATED:20240508T134837Z
LAST-MODIFIED:20240508T134838Z
UID:10000145-1716447600-1716449400@enakyrkan.se
SUMMARY:Morgonbön i andaktsrummet
DESCRIPTION:
URL:https://enakyrkan.se/evenemang/morgonbon-i-andaktsrummet-3/2024-05-23/
END:VEVENT
BEGIN:VEVENT
DTSTART;TZID=Europe/Stockholm:20240522T070000
DTEND;TZID=Europe/Stockholm:20240522T073000
DTSTAMP:20260421T044606
CREATED:20240508T134837Z
LAST-MODIFIED:20240508T134838Z
UID:10000144-1716361200-1716363000@enakyrkan.se
SUMMARY:Morgonbön i andaktsrummet
DESCRIPTION:
URL:https://enakyrkan.se/evenemang/morgonbon-i-andaktsrummet-3/2024-05-22/
END:VEVENT
BEGIN:VEVENT
DTSTART;TZID=Europe/Stockholm:20240521T070000
DTEND;TZID=Europe/Stockholm:20240521T073000
DTSTAMP:20260421T044606
CREATED:20240508T134837Z
LAST-MODIFIED:20240508T134838Z
UID:10000143-1716274800-1716276600@enakyrkan.se
SUMMARY:Morgonbön i andaktsrummet
DESCRIPTION:
URL:https://enakyrkan.se/evenemang/morgonbon-i-andaktsrummet-3/2024-05-21/
END:VEVENT
BEGIN:VEVENT
DTSTART;TZID=Europe/Stockholm:20240520T070000
DTEND;TZID=Europe/Stockholm:20240520T073000
DTSTAMP:20260421T044606
CREATED:20240508T134837Z
LAST-MODIFIED:20240508T134838Z
UID:10000142-1716188400-1716190200@enakyrkan.se
SUMMARY:Morgonbön i andaktsrummet
DESCRIPTION:
URL:https://enakyrkan.se/evenemang/morgonbon-i-andaktsrummet-3/2024-05-20/
END:VEVENT
BEGIN:VEVENT
DTSTART;TZID=Europe/Stockholm:20240519T110000
DTEND;TZID=Europe/Stockholm:20240519T123000
DTSTAMP:20260421T044606
CREATED:20240306T072718Z
LAST-MODIFIED:20240306T072719Z
UID:10000125-1716116400-1716121800@enakyrkan.se
SUMMARY:Konfagudstjänst med dop
DESCRIPTION:
URL:https://enakyrkan.se/evenemang/konfagudstjanst-med-dop/
CATEGORIES:Gudstjänst,Söndag
END:VEVENT
BEGIN:VEVENT
DTSTART;TZID=Europe/Stockholm:20240517T190000
DTEND;TZID=Europe/Stockholm:20240517T220000
DTSTAMP:20260421T044606
CREATED:20240124T090245Z
LAST-MODIFIED:20240124T090329Z
UID:10000087-1715972400-1715983200@enakyrkan.se
SUMMARY:EnakUng
DESCRIPTION:EnakUng är för tonåringar som går på högstadiet och gymnasiet. Vi träffas varje fredag kl 19:00–22:00 för att ha andakt\, fika och göra roliga saker tillsammans. Vi använder ingången vid sidan av kyrksalen
URL:https://enakyrkan.se/evenemang/enakung/2024-05-17/
CATEGORIES:EnakUng
END:VEVENT
BEGIN:VEVENT
DTSTART;TZID=Europe/Stockholm:20240517T070000
DTEND;TZID=Europe/Stockholm:20240517T073000
DTSTAMP:20260421T044606
CREATED:20240508T134837Z
LAST-MODIFIED:20240508T134838Z
UID:10000141-1715929200-1715931000@enakyrkan.se
SUMMARY:Morgonbön i andaktsrummet
DESCRIPTION:
URL:https://enakyrkan.se/evenemang/morgonbon-i-andaktsrummet-3/2024-05-17/
END:VEVENT
BEGIN:VEVENT
DTSTART;TZID=Europe/Stockholm:20240516T070000
DTEND;TZID=Europe/Stockholm:20240516T073000
DTSTAMP:20260421T044606
CREATED:20240508T134837Z
LAST-MODIFIED:20240508T134838Z
UID:10000140-1715842800-1715844600@enakyrkan.se
SUMMARY:Morgonbön i andaktsrummet
DESCRIPTION:
URL:https://enakyrkan.se/evenemang/morgonbon-i-andaktsrummet-3/2024-05-16/
END:VEVENT
BEGIN:VEVENT
DTSTART;TZID=Europe/Stockholm:20240515T133000
DTEND;TZID=Europe/Stockholm:20240515T153000
DTSTAMP:20260421T044606
CREATED:20240508T134511Z
LAST-MODIFIED:20240508T134512Z
UID:10000131-1715779800-1715787000@enakyrkan.se
SUMMARY:Trivselstunden med Lars Westman
DESCRIPTION:Trivselstunden är Enakyrkans samling för daglediga. Denna gång gästas vi av Lars Westman\, författare till boken ”Den naive läkaren.” \n\n\n\nSom vanligt serveras gott kaffe och kaffebröd.Varmt välkommen!
URL:https://enakyrkan.se/evenemang/trivselstunden-med-lars-westman/
END:VEVENT
BEGIN:VEVENT
DTSTART;TZID=Europe/Stockholm:20240515T070000
DTEND;TZID=Europe/Stockholm:20240515T073000
DTSTAMP:20260421T044606
CREATED:20240508T134837Z
LAST-MODIFIED:20240508T134838Z
UID:10000139-1715756400-1715758200@enakyrkan.se
SUMMARY:Morgonbön i andaktsrummet
DESCRIPTION:
URL:https://enakyrkan.se/evenemang/morgonbon-i-andaktsrummet-3/2024-05-15/
END:VEVENT
BEGIN:VEVENT
DTSTART;TZID=Europe/Stockholm:20240514T070000
DTEND;TZID=Europe/Stockholm:20240514T073000
DTSTAMP:20260421T044606
CREATED:20240508T134837Z
LAST-MODIFIED:20240508T134838Z
UID:10000138-1715670000-1715671800@enakyrkan.se
SUMMARY:Morgonbön i andaktsrummet
DESCRIPTION:
URL:https://enakyrkan.se/evenemang/morgonbon-i-andaktsrummet-3/2024-05-14/
END:VEVENT
BEGIN:VEVENT
DTSTART;TZID=Europe/Stockholm:20240513T070000
DTEND;TZID=Europe/Stockholm:20240513T073000
DTSTAMP:20260421T044606
CREATED:20240508T134837Z
LAST-MODIFIED:20240508T134838Z
UID:10000137-1715583600-1715585400@enakyrkan.se
SUMMARY:Morgonbön i andaktsrummet
DESCRIPTION:
URL:https://enakyrkan.se/evenemang/morgonbon-i-andaktsrummet-3/2024-05-13/
END:VEVENT
END:VCALENDAR