BEGIN:VCALENDAR
VERSION:2.0
PRODID:-//Enakyrkan - ECPv6.15.12.2//NONSGML v1.0//EN
CALSCALE:GREGORIAN
METHOD:PUBLISH
X-WR-CALNAME:Enakyrkan
X-ORIGINAL-URL:https://enakyrkan.se
X-WR-CALDESC:Händelser för Enakyrkan
REFRESH-INTERVAL;VALUE=DURATION:PT1H
X-Robots-Tag:noindex
X-PUBLISHED-TTL:PT1H
BEGIN:VTIMEZONE
TZID:Europe/Stockholm
BEGIN:DAYLIGHT
TZOFFSETFROM:+0100
TZOFFSETTO:+0200
TZNAME:CEST
DTSTART:20230326T010000
END:DAYLIGHT
BEGIN:STANDARD
TZOFFSETFROM:+0200
TZOFFSETTO:+0100
TZNAME:CET
DTSTART:20231029T010000
END:STANDARD
BEGIN:DAYLIGHT
TZOFFSETFROM:+0100
TZOFFSETTO:+0200
TZNAME:CEST
DTSTART:20240331T010000
END:DAYLIGHT
BEGIN:STANDARD
TZOFFSETFROM:+0200
TZOFFSETTO:+0100
TZNAME:CET
DTSTART:20241027T010000
END:STANDARD
BEGIN:DAYLIGHT
TZOFFSETFROM:+0100
TZOFFSETTO:+0200
TZNAME:CEST
DTSTART:20250330T010000
END:DAYLIGHT
BEGIN:STANDARD
TZOFFSETFROM:+0200
TZOFFSETTO:+0100
TZNAME:CET
DTSTART:20251026T010000
END:STANDARD
END:VTIMEZONE
BEGIN:VEVENT
DTSTART;TZID=Europe/Stockholm:20240516T070000
DTEND;TZID=Europe/Stockholm:20240516T073000
DTSTAMP:20260421T063223
CREATED:20240508T134837Z
LAST-MODIFIED:20240508T134838Z
UID:10000140-1715842800-1715844600@enakyrkan.se
SUMMARY:Morgonbön i andaktsrummet
DESCRIPTION:
URL:https://enakyrkan.se/evenemang/morgonbon-i-andaktsrummet-3/2024-05-16/
END:VEVENT
BEGIN:VEVENT
DTSTART;TZID=Europe/Stockholm:20240515T133000
DTEND;TZID=Europe/Stockholm:20240515T153000
DTSTAMP:20260421T063223
CREATED:20240508T134511Z
LAST-MODIFIED:20240508T134512Z
UID:10000131-1715779800-1715787000@enakyrkan.se
SUMMARY:Trivselstunden med Lars Westman
DESCRIPTION:Trivselstunden är Enakyrkans samling för daglediga. Denna gång gästas vi av Lars Westman\, författare till boken ”Den naive läkaren.” \n\n\n\nSom vanligt serveras gott kaffe och kaffebröd.Varmt välkommen!
URL:https://enakyrkan.se/evenemang/trivselstunden-med-lars-westman/
END:VEVENT
BEGIN:VEVENT
DTSTART;TZID=Europe/Stockholm:20240515T070000
DTEND;TZID=Europe/Stockholm:20240515T073000
DTSTAMP:20260421T063223
CREATED:20240508T134837Z
LAST-MODIFIED:20240508T134838Z
UID:10000139-1715756400-1715758200@enakyrkan.se
SUMMARY:Morgonbön i andaktsrummet
DESCRIPTION:
URL:https://enakyrkan.se/evenemang/morgonbon-i-andaktsrummet-3/2024-05-15/
END:VEVENT
BEGIN:VEVENT
DTSTART;TZID=Europe/Stockholm:20240514T070000
DTEND;TZID=Europe/Stockholm:20240514T073000
DTSTAMP:20260421T063223
CREATED:20240508T134837Z
LAST-MODIFIED:20240508T134838Z
UID:10000138-1715670000-1715671800@enakyrkan.se
SUMMARY:Morgonbön i andaktsrummet
DESCRIPTION:
URL:https://enakyrkan.se/evenemang/morgonbon-i-andaktsrummet-3/2024-05-14/
END:VEVENT
BEGIN:VEVENT
DTSTART;TZID=Europe/Stockholm:20240513T070000
DTEND;TZID=Europe/Stockholm:20240513T073000
DTSTAMP:20260421T063223
CREATED:20240508T134837Z
LAST-MODIFIED:20240508T134838Z
UID:10000137-1715583600-1715585400@enakyrkan.se
SUMMARY:Morgonbön i andaktsrummet
DESCRIPTION:
URL:https://enakyrkan.se/evenemang/morgonbon-i-andaktsrummet-3/2024-05-13/
END:VEVENT
BEGIN:VEVENT
DTSTART;TZID=Europe/Stockholm:20240512T110000
DTEND;TZID=Europe/Stockholm:20240512T123000
DTSTAMP:20260421T063223
CREATED:20240306T072631Z
LAST-MODIFIED:20240306T072632Z
UID:10000124-1715511600-1715517000@enakyrkan.se
SUMMARY:Gudstjänst
DESCRIPTION:
URL:https://enakyrkan.se/evenemang/gudstjanst-11/
CATEGORIES:Gudstjänst,Söndag
END:VEVENT
BEGIN:VEVENT
DTSTART;TZID=Europe/Stockholm:20240510T190000
DTEND;TZID=Europe/Stockholm:20240510T220000
DTSTAMP:20260421T063223
CREATED:20240124T090245Z
LAST-MODIFIED:20240124T090329Z
UID:10000086-1715367600-1715378400@enakyrkan.se
SUMMARY:EnakUng
DESCRIPTION:EnakUng är för tonåringar som går på högstadiet och gymnasiet. Vi träffas varje fredag kl 19:00–22:00 för att ha andakt\, fika och göra roliga saker tillsammans. Vi använder ingången vid sidan av kyrksalen
URL:https://enakyrkan.se/evenemang/enakung/2024-05-10/
CATEGORIES:EnakUng
END:VEVENT
BEGIN:VEVENT
DTSTART;TZID=Europe/Stockholm:20240510T133000
DTEND;TZID=Europe/Stockholm:20240510T140000
DTSTAMP:20260421T063223
CREATED:20240229T094220Z
LAST-MODIFIED:20240229T094221Z
UID:10000116-1715347800-1715349600@enakyrkan.se
SUMMARY:Sångstund på Kungsgården
DESCRIPTION:
URL:https://enakyrkan.se/evenemang/sangstund-pa-kungsgarden/
END:VEVENT
BEGIN:VEVENT
DTSTART;TZID=Europe/Stockholm:20240510T070000
DTEND;TZID=Europe/Stockholm:20240510T073000
DTSTAMP:20260421T063223
CREATED:20240508T134837Z
LAST-MODIFIED:20240508T134838Z
UID:10000136-1715324400-1715326200@enakyrkan.se
SUMMARY:Morgonbön i andaktsrummet
DESCRIPTION:
URL:https://enakyrkan.se/evenemang/morgonbon-i-andaktsrummet-3/2024-05-10/
END:VEVENT
BEGIN:VEVENT
DTSTART;TZID=Europe/Stockholm:20240509T070000
DTEND;TZID=Europe/Stockholm:20240509T073000
DTSTAMP:20260421T063223
CREATED:20240508T134837Z
LAST-MODIFIED:20240508T134838Z
UID:10000135-1715238000-1715239800@enakyrkan.se
SUMMARY:Morgonbön i andaktsrummet
DESCRIPTION:
URL:https://enakyrkan.se/evenemang/morgonbon-i-andaktsrummet-3/2024-05-09/
END:VEVENT
BEGIN:VEVENT
DTSTART;TZID=Europe/Stockholm:20240508T070000
DTEND;TZID=Europe/Stockholm:20240508T073000
DTSTAMP:20260421T063223
CREATED:20240508T134837Z
LAST-MODIFIED:20240508T134838Z
UID:10000134-1715151600-1715153400@enakyrkan.se
SUMMARY:Morgonbön i andaktsrummet
DESCRIPTION:
URL:https://enakyrkan.se/evenemang/morgonbon-i-andaktsrummet-3/2024-05-08/
END:VEVENT
BEGIN:VEVENT
DTSTART;TZID=Europe/Stockholm:20240507T070000
DTEND;TZID=Europe/Stockholm:20240507T073000
DTSTAMP:20260421T063223
CREATED:20240508T134837Z
LAST-MODIFIED:20240508T134838Z
UID:10000133-1715065200-1715067000@enakyrkan.se
SUMMARY:Morgonbön i andaktsrummet
DESCRIPTION:
URL:https://enakyrkan.se/evenemang/morgonbon-i-andaktsrummet-3/2024-05-07/
END:VEVENT
BEGIN:VEVENT
DTSTART;TZID=Europe/Stockholm:20240506T070000
DTEND;TZID=Europe/Stockholm:20240506T073000
DTSTAMP:20260421T063223
CREATED:20240508T134837Z
LAST-MODIFIED:20240508T134838Z
UID:10000132-1714978800-1714980600@enakyrkan.se
SUMMARY:Morgonbön i andaktsrummet
DESCRIPTION:
URL:https://enakyrkan.se/evenemang/morgonbon-i-andaktsrummet-3/2024-05-06/
END:VEVENT
BEGIN:VEVENT
DTSTART;TZID=Europe/Stockholm:20240505T110000
DTEND;TZID=Europe/Stockholm:20240505T123000
DTSTAMP:20260421T063223
CREATED:20240306T072524Z
LAST-MODIFIED:20240306T072524Z
UID:10000123-1714906800-1714912200@enakyrkan.se
SUMMARY:Gudstjänst med nattvard
DESCRIPTION:
URL:https://enakyrkan.se/evenemang/gudstjanst-med-nattvard-6/
CATEGORIES:Gudstjänst,Söndag
END:VEVENT
BEGIN:VEVENT
DTSTART;TZID=Europe/Stockholm:20240503T190000
DTEND;TZID=Europe/Stockholm:20240503T220000
DTSTAMP:20260421T063223
CREATED:20240124T090245Z
LAST-MODIFIED:20240124T090329Z
UID:10000085-1714762800-1714773600@enakyrkan.se
SUMMARY:EnakUng
DESCRIPTION:EnakUng är för tonåringar som går på högstadiet och gymnasiet. Vi träffas varje fredag kl 19:00–22:00 för att ha andakt\, fika och göra roliga saker tillsammans. Vi använder ingången vid sidan av kyrksalen
URL:https://enakyrkan.se/evenemang/enakung/2024-05-03/
CATEGORIES:EnakUng
END:VEVENT
BEGIN:VEVENT
DTSTART;TZID=Europe/Stockholm:20240503T133000
DTEND;TZID=Europe/Stockholm:20240503T140000
DTSTAMP:20260421T063223
CREATED:20240229T094140Z
LAST-MODIFIED:20240229T094140Z
UID:10000115-1714743000-1714744800@enakyrkan.se
SUMMARY:Sångstund på Åkersberg
DESCRIPTION:
URL:https://enakyrkan.se/evenemang/sangstund-pa-akersberg/
END:VEVENT
BEGIN:VEVENT
DTSTART;TZID=Europe/Stockholm:20240502T183000
DTEND;TZID=Europe/Stockholm:20240502T200000
DTSTAMP:20260421T063223
CREATED:20240124T085650Z
LAST-MODIFIED:20240124T085650Z
UID:10000071-1714674600-1714680000@enakyrkan.se
SUMMARY:Draget
DESCRIPTION:Draget är för barn som går i åk 4–6\, vi träffas en torsdag i månaden där vi leker\, pratar om Gud och tro och har roligt tillsammans. 
URL:https://enakyrkan.se/evenemang/draget-4/
END:VEVENT
BEGIN:VEVENT
DTSTART;TZID=Europe/Stockholm:20240501T190000
DTEND;TZID=Europe/Stockholm:20240501T203000
DTSTAMP:20260421T063223
CREATED:20240204T084614Z
LAST-MODIFIED:20240204T084615Z
UID:10000106-1714590000-1714595400@enakyrkan.se
SUMMARY:Back to Basics
DESCRIPTION:
URL:https://enakyrkan.se/evenemang/back-to-basics/2024-05-01/
END:VEVENT
BEGIN:VEVENT
DTSTART;TZID=Europe/Stockholm:20240428T110000
DTEND;TZID=Europe/Stockholm:20240428T123000
DTSTAMP:20260421T063223
CREATED:20240306T072349Z
LAST-MODIFIED:20240306T072350Z
UID:10000122-1714302000-1714307400@enakyrkan.se
SUMMARY:Gudstjänst tillsammans med "REACH"
DESCRIPTION:
URL:https://enakyrkan.se/evenemang/gudstjanst-tillsammans-med-reach/
CATEGORIES:Gudstjänst,Söndag
END:VEVENT
BEGIN:VEVENT
DTSTART;TZID=Europe/Stockholm:20240426T190000
DTEND;TZID=Europe/Stockholm:20240426T220000
DTSTAMP:20260421T063223
CREATED:20240124T090245Z
LAST-MODIFIED:20240124T090329Z
UID:10000084-1714158000-1714168800@enakyrkan.se
SUMMARY:EnakUng
DESCRIPTION:EnakUng är för tonåringar som går på högstadiet och gymnasiet. Vi träffas varje fredag kl 19:00–22:00 för att ha andakt\, fika och göra roliga saker tillsammans. Vi använder ingången vid sidan av kyrksalen
URL:https://enakyrkan.se/evenemang/enakung/2024-04-26/
CATEGORIES:EnakUng
END:VEVENT
BEGIN:VEVENT
DTSTART;TZID=Europe/Stockholm:20240424T190000
DTEND;TZID=Europe/Stockholm:20240424T203000
DTSTAMP:20260421T063223
CREATED:20240204T084614Z
LAST-MODIFIED:20240204T084615Z
UID:10000105-1713985200-1713990600@enakyrkan.se
SUMMARY:Back to Basics
DESCRIPTION:
URL:https://enakyrkan.se/evenemang/back-to-basics/2024-04-24/
END:VEVENT
BEGIN:VEVENT
DTSTART;TZID=Europe/Stockholm:20240424T183000
DTEND;TZID=Europe/Stockholm:20240424T200000
DTSTAMP:20260421T063223
CREATED:20240423T060812Z
LAST-MODIFIED:20240423T060813Z
UID:10000130-1713983400-1713988800@enakyrkan.se
SUMMARY:Kapellet
DESCRIPTION:Kapellet är Enakyrkans bön- & lovsångskväll\, som hålls sista onsdagen varje månad. Vi börjar med en enkel fika och fortsätter sedan med ungefär en timmes bön och lovsång i kyrksalen.
URL:https://enakyrkan.se/evenemang/kapellet-2/
END:VEVENT
BEGIN:VEVENT
DTSTART;TZID=Europe/Stockholm:20240421T110000
DTEND;TZID=Europe/Stockholm:20240421T123000
DTSTAMP:20260421T063223
CREATED:20240306T072237Z
LAST-MODIFIED:20240306T072238Z
UID:10000121-1713697200-1713702600@enakyrkan.se
SUMMARY:Gudstjänst
DESCRIPTION:
URL:https://enakyrkan.se/evenemang/gudstjanst-10/
CATEGORIES:Gudstjänst,Söndag
END:VEVENT
BEGIN:VEVENT
DTSTART;TZID=Europe/Stockholm:20240419T190000
DTEND;TZID=Europe/Stockholm:20240419T220000
DTSTAMP:20260421T063223
CREATED:20240124T090245Z
LAST-MODIFIED:20240124T090329Z
UID:10000083-1713553200-1713564000@enakyrkan.se
SUMMARY:EnakUng
DESCRIPTION:EnakUng är för tonåringar som går på högstadiet och gymnasiet. Vi träffas varje fredag kl 19:00–22:00 för att ha andakt\, fika och göra roliga saker tillsammans. Vi använder ingången vid sidan av kyrksalen
URL:https://enakyrkan.se/evenemang/enakung/2024-04-19/
CATEGORIES:EnakUng
END:VEVENT
BEGIN:VEVENT
DTSTART;TZID=Europe/Stockholm:20240417T190000
DTEND;TZID=Europe/Stockholm:20240417T203000
DTSTAMP:20260421T063223
CREATED:20240204T084614Z
LAST-MODIFIED:20240204T084615Z
UID:10000104-1713380400-1713385800@enakyrkan.se
SUMMARY:Back to Basics
DESCRIPTION:
URL:https://enakyrkan.se/evenemang/back-to-basics/2024-04-17/
END:VEVENT
BEGIN:VEVENT
DTSTART;TZID=Europe/Stockholm:20240414T110000
DTEND;TZID=Europe/Stockholm:20240414T123000
DTSTAMP:20260421T063223
CREATED:20240306T072205Z
LAST-MODIFIED:20240306T072206Z
UID:10000120-1713092400-1713097800@enakyrkan.se
SUMMARY:Gudstjänst
DESCRIPTION:
URL:https://enakyrkan.se/evenemang/gudstjanst-9/
CATEGORIES:Gudstjänst,Söndag
END:VEVENT
BEGIN:VEVENT
DTSTART;TZID=Europe/Stockholm:20240413T090000
DTEND;TZID=Europe/Stockholm:20240413T120000
DTSTAMP:20260421T063223
CREATED:20240326T084513Z
LAST-MODIFIED:20240326T084514Z
UID:10000129-1712998800-1713009600@enakyrkan.se
SUMMARY:Vårstädning utomhus
DESCRIPTION:Lördagen den 13 april\, kl. 09-12 samlas vi till städning ute av rabatter\, gräsmatta\, buskar och entréer. Ta gärna med kvastar och krattor ni som har. \n\n\n\nHar någon en kärra så är det också välkommet så vi kan få iväg skräpet till tippen. \n\n\n\nEfteråt fikar vi. Skiner solen så grillar vi korv. \n\n\n\nVälkomna!/Förvaltningsrådet 
URL:https://enakyrkan.se/evenemang/varstadning-utomhus/
END:VEVENT
BEGIN:VEVENT
DTSTART;TZID=Europe/Stockholm:20240412T190000
DTEND;TZID=Europe/Stockholm:20240412T220000
DTSTAMP:20260421T063223
CREATED:20240124T090245Z
LAST-MODIFIED:20240124T090329Z
UID:10000082-1712948400-1712959200@enakyrkan.se
SUMMARY:EnakUng
DESCRIPTION:EnakUng är för tonåringar som går på högstadiet och gymnasiet. Vi träffas varje fredag kl 19:00–22:00 för att ha andakt\, fika och göra roliga saker tillsammans. Vi använder ingången vid sidan av kyrksalen
URL:https://enakyrkan.se/evenemang/enakung/2024-04-12/
CATEGORIES:EnakUng
END:VEVENT
BEGIN:VEVENT
DTSTART;TZID=Europe/Stockholm:20240411T180000
DTEND;TZID=Europe/Stockholm:20240411T200000
DTSTAMP:20260421T063223
CREATED:20240207T082719Z
LAST-MODIFIED:20240207T082720Z
UID:10000110-1712858400-1712865600@enakyrkan.se
SUMMARY:Livsnära – caféföreläsning
DESCRIPTION:Att vara människa innebär att vara utsatt för andra människors ord\, åsikter och hand-lingar. Det innebär också att jag utsätter andra för mina ord\, mina åsikter och minahandlingar. Ibland händer det att just de där sakerna gör ont och skapar sår.Kvällens föreläsning handlar om förlåtelsens väg. Vad händer i oss när vi ger och taremot förlåtelse? Är det möjligt att förlåta allt? Och vad betyder det egentligen att förlå-ta? \n\n\n\nKrister Hultberg är pastor i Enakyrkan\, diplomerad coach och har föreläst i olika sam-manhang i drygt trettio länder.
URL:https://enakyrkan.se/evenemang/livsnara-cafeforelasning-3/
END:VEVENT
BEGIN:VEVENT
DTSTART;TZID=Europe/Stockholm:20240411T033000
DTEND;TZID=Europe/Stockholm:20240411T040000
DTSTAMP:20260421T063223
CREATED:20240229T094035Z
LAST-MODIFIED:20240229T094036Z
UID:10000114-1712806200-1712808000@enakyrkan.se
SUMMARY:Sångstund på Orion
DESCRIPTION:
URL:https://enakyrkan.se/evenemang/sangstund-pa-orion/
END:VEVENT
END:VCALENDAR