BEGIN:VCALENDAR
VERSION:2.0
PRODID:-//Enakyrkan - ECPv6.15.12.2//NONSGML v1.0//EN
CALSCALE:GREGORIAN
METHOD:PUBLISH
X-WR-CALNAME:Enakyrkan
X-ORIGINAL-URL:https://enakyrkan.se
X-WR-CALDESC:Händelser för Enakyrkan
REFRESH-INTERVAL;VALUE=DURATION:PT1H
X-Robots-Tag:noindex
X-PUBLISHED-TTL:PT1H
BEGIN:VTIMEZONE
TZID:Europe/Stockholm
BEGIN:DAYLIGHT
TZOFFSETFROM:+0100
TZOFFSETTO:+0200
TZNAME:CEST
DTSTART:20230326T010000
END:DAYLIGHT
BEGIN:STANDARD
TZOFFSETFROM:+0200
TZOFFSETTO:+0100
TZNAME:CET
DTSTART:20231029T010000
END:STANDARD
BEGIN:DAYLIGHT
TZOFFSETFROM:+0100
TZOFFSETTO:+0200
TZNAME:CEST
DTSTART:20240331T010000
END:DAYLIGHT
BEGIN:STANDARD
TZOFFSETFROM:+0200
TZOFFSETTO:+0100
TZNAME:CET
DTSTART:20241027T010000
END:STANDARD
BEGIN:DAYLIGHT
TZOFFSETFROM:+0100
TZOFFSETTO:+0200
TZNAME:CEST
DTSTART:20250330T010000
END:DAYLIGHT
BEGIN:STANDARD
TZOFFSETFROM:+0200
TZOFFSETTO:+0100
TZNAME:CET
DTSTART:20251026T010000
END:STANDARD
END:VTIMEZONE
BEGIN:VEVENT
DTSTART;TZID=Europe/Stockholm:20240310T110000
DTEND;TZID=Europe/Stockholm:20240310T123000
DTSTAMP:20260421T102643
CREATED:20240204T083254Z
LAST-MODIFIED:20240305T102516Z
UID:10000091-1710068400-1710073800@enakyrkan.se
SUMMARY:Gudstjänst med Henrik & Anna
DESCRIPTION:
URL:https://enakyrkan.se/evenemang/gudstjanst-med-henrik-anna/
CATEGORIES:Gudstjänst,Söndag
END:VEVENT
BEGIN:VEVENT
DTSTART;TZID=Europe/Stockholm:20240308T190000
DTEND;TZID=Europe/Stockholm:20240308T220000
DTSTAMP:20260421T102643
CREATED:20240124T090245Z
LAST-MODIFIED:20240124T090329Z
UID:10000077-1709924400-1709935200@enakyrkan.se
SUMMARY:EnakUng
DESCRIPTION:EnakUng är för tonåringar som går på högstadiet och gymnasiet. Vi träffas varje fredag kl 19:00–22:00 för att ha andakt\, fika och göra roliga saker tillsammans. Vi använder ingången vid sidan av kyrksalen
URL:https://enakyrkan.se/evenemang/enakung/2024-03-08/
CATEGORIES:EnakUng
END:VEVENT
BEGIN:VEVENT
DTSTART;TZID=Europe/Stockholm:20240307T183000
DTEND;TZID=Europe/Stockholm:20240307T200000
DTSTAMP:20260421T102643
CREATED:20240124T085345Z
LAST-MODIFIED:20240124T085739Z
UID:10000069-1709836200-1709841600@enakyrkan.se
SUMMARY:Draget
DESCRIPTION:Draget är för barn som går i åk 4–6\, vi träffas en torsdag i månaden där vi leker\, pratar om Gud och tro och har roligt tillsammans. 
URL:https://enakyrkan.se/evenemang/draget-2/
END:VEVENT
BEGIN:VEVENT
DTSTART;TZID=Europe/Stockholm:20240306T190000
DTEND;TZID=Europe/Stockholm:20240306T203000
DTSTAMP:20260421T102643
CREATED:20240204T084614Z
LAST-MODIFIED:20240204T084615Z
UID:10000098-1709751600-1709757000@enakyrkan.se
SUMMARY:Back to Basics
DESCRIPTION:
URL:https://enakyrkan.se/evenemang/back-to-basics/2024-03-06/
END:VEVENT
BEGIN:VEVENT
DTSTART;TZID=Europe/Stockholm:20240303T110000
DTEND;TZID=Europe/Stockholm:20240303T123000
DTSTAMP:20260421T102643
CREATED:20240204T083128Z
LAST-MODIFIED:20240305T101144Z
UID:10000090-1709463600-1709469000@enakyrkan.se
SUMMARY:Gudstjänst med nattvard
DESCRIPTION:
URL:https://enakyrkan.se/evenemang/gudstjanst-med-nattvard-4/
CATEGORIES:Gudstjänst
END:VEVENT
BEGIN:VEVENT
DTSTART;TZID=Europe/Stockholm:20240301T190000
DTEND;TZID=Europe/Stockholm:20240301T220000
DTSTAMP:20260421T102643
CREATED:20240124T090245Z
LAST-MODIFIED:20240124T090329Z
UID:10000076-1709319600-1709330400@enakyrkan.se
SUMMARY:EnakUng
DESCRIPTION:EnakUng är för tonåringar som går på högstadiet och gymnasiet. Vi träffas varje fredag kl 19:00–22:00 för att ha andakt\, fika och göra roliga saker tillsammans. Vi använder ingången vid sidan av kyrksalen
URL:https://enakyrkan.se/evenemang/enakung/2024-03-01/
CATEGORIES:EnakUng
END:VEVENT
BEGIN:VEVENT
DTSTART;TZID=Europe/Stockholm:20240301T133000
DTEND;TZID=Europe/Stockholm:20240301T140000
DTSTAMP:20260421T102643
CREATED:20240229T093855Z
LAST-MODIFIED:20240229T093905Z
UID:10000112-1709299800-1709301600@enakyrkan.se
SUMMARY:Sångstund på Ljunggården
DESCRIPTION:
URL:https://enakyrkan.se/evenemang/sangstund-pa-ljunggarden/
END:VEVENT
BEGIN:VEVENT
DTSTART;TZID=Europe/Stockholm:20240228T190000
DTEND;TZID=Europe/Stockholm:20240228T203000
DTSTAMP:20260421T102643
CREATED:20240204T084004Z
LAST-MODIFIED:20240204T084353Z
UID:10000097-1709146800-1709152200@enakyrkan.se
SUMMARY:Back to Basics - terminsstart
DESCRIPTION:Back to Basics är Enakyrkans grundkurs om kristen tro. Läs mer och anmäl dig här:Back to Basics
URL:https://enakyrkan.se/evenemang/back-to-basics-terminsstart/
END:VEVENT
BEGIN:VEVENT
DTSTART;TZID=Europe/Stockholm:20240228T183000
DTEND;TZID=Europe/Stockholm:20240228T200000
DTSTAMP:20260421T102643
CREATED:20240118T093514Z
LAST-MODIFIED:20240118T093813Z
UID:10000064-1709145000-1709150400@enakyrkan.se
SUMMARY:Kapellet
DESCRIPTION:Kapellet är Enakyrkans storbönemöte. Sista onsdagen i varje månad möts vi till en timmes gemensam bön och lovsång. Vi börjar med en enkel fika och fortsätter sedan i stora salen.
URL:https://enakyrkan.se/evenemang/kapellet/
CATEGORIES:Gudstjänst
END:VEVENT
BEGIN:VEVENT
DTSTART;TZID=Europe/Stockholm:20240225T110000
DTEND;TZID=Europe/Stockholm:20240225T123000
DTSTAMP:20260421T102643
CREATED:20240118T093154Z
LAST-MODIFIED:20240118T093155Z
UID:10000063-1708858800-1708864200@enakyrkan.se
SUMMARY:Gudstjänst
DESCRIPTION:
URL:https://enakyrkan.se/evenemang/gudstjanst-8/
CATEGORIES:Gudstjänst
END:VEVENT
BEGIN:VEVENT
DTSTART;TZID=Europe/Stockholm:20240218T123000
DTEND;TZID=Europe/Stockholm:20240218T133000
DTSTAMP:20260421T102643
CREATED:20240207T083434Z
LAST-MODIFIED:20240214T072835Z
UID:10000111-1708259400-1708263000@enakyrkan.se
SUMMARY:Församlingsmöte efter gudstjänsten
DESCRIPTION:Rådens verksamhetsplaner & budgetförslag för 2024
URL:https://enakyrkan.se/evenemang/forsamlingsmote-efter-gudstjansten/
END:VEVENT
BEGIN:VEVENT
DTSTART;TZID=Europe/Stockholm:20240218T110000
DTEND;TZID=Europe/Stockholm:20240218T123000
DTSTAMP:20260421T102643
CREATED:20240118T093117Z
LAST-MODIFIED:20240118T093117Z
UID:10000062-1708254000-1708259400@enakyrkan.se
SUMMARY:Gudstjänst
DESCRIPTION:
URL:https://enakyrkan.se/evenemang/gudstjanst-7/
CATEGORIES:Gudstjänst
END:VEVENT
BEGIN:VEVENT
DTSTART;TZID=Europe/Stockholm:20240216T190000
DTEND;TZID=Europe/Stockholm:20240216T220000
DTSTAMP:20260421T102643
CREATED:20240124T090245Z
LAST-MODIFIED:20240124T090329Z
UID:10000075-1708110000-1708120800@enakyrkan.se
SUMMARY:EnakUng
DESCRIPTION:EnakUng är för tonåringar som går på högstadiet och gymnasiet. Vi träffas varje fredag kl 19:00–22:00 för att ha andakt\, fika och göra roliga saker tillsammans. Vi använder ingången vid sidan av kyrksalen
URL:https://enakyrkan.se/evenemang/enakung/2024-02-16/
CATEGORIES:EnakUng
END:VEVENT
BEGIN:VEVENT
DTSTART;TZID=Europe/Stockholm:20240216T133000
DTEND;TZID=Europe/Stockholm:20240216T140000
DTSTAMP:20260421T102643
CREATED:20240118T102712Z
LAST-MODIFIED:20240118T102713Z
UID:10000067-1708090200-1708092000@enakyrkan.se
SUMMARY:Andakt på Kungsgården
DESCRIPTION:
URL:https://enakyrkan.se/evenemang/andakt-pa-kungsgarden/
END:VEVENT
BEGIN:VEVENT
DTSTART;TZID=Europe/Stockholm:20240215T180000
DTEND;TZID=Europe/Stockholm:20240215T200000
DTSTAMP:20260421T102643
CREATED:20240207T082009Z
LAST-MODIFIED:20240207T082851Z
UID:10000108-1708020000-1708027200@enakyrkan.se
SUMMARY:Livsnära – caféföreläsning
DESCRIPTION:”Skäms inte för att du är människa!” Orden är Tomas Tranströmers och han fortsättermed att säga: ”du blir aldrig färdig och det är som det ska.”Ändå skäms vi människor ofta och mycket. Ibland av rimliga skäl och ibland så ofta ochmycket att det påverkar vår glädje och vårt mående.Varför skäms vi\, hur kan vi leva friare och hur kan vi hjälpa varandra med skammen? \n\n\n\nKristina Granath är socionom med grundläggande psykoterapiutbildning och omsorgs-pastor.
URL:https://enakyrkan.se/evenemang/livsnara-cafeforelasning/
END:VEVENT
BEGIN:VEVENT
DTSTART;TZID=Europe/Stockholm:20240211T110000
DTEND;TZID=Europe/Stockholm:20240211T123000
DTSTAMP:20260421T102643
CREATED:20240118T093025Z
LAST-MODIFIED:20240120T083131Z
UID:10000061-1707649200-1707654600@enakyrkan.se
SUMMARY:Gudstjänst - Immanuel Brass medverkar
DESCRIPTION:
URL:https://enakyrkan.se/evenemang/gudstjanst-6/
CATEGORIES:Gudstjänst
END:VEVENT
BEGIN:VEVENT
DTSTART;TZID=Europe/Stockholm:20240209T190000
DTEND;TZID=Europe/Stockholm:20240209T220000
DTSTAMP:20260421T102643
CREATED:20240124T090245Z
LAST-MODIFIED:20240124T090329Z
UID:10000074-1707505200-1707516000@enakyrkan.se
SUMMARY:EnakUng
DESCRIPTION:EnakUng är för tonåringar som går på högstadiet och gymnasiet. Vi träffas varje fredag kl 19:00–22:00 för att ha andakt\, fika och göra roliga saker tillsammans. Vi använder ingången vid sidan av kyrksalen
URL:https://enakyrkan.se/evenemang/enakung/2024-02-09/
CATEGORIES:EnakUng
END:VEVENT
BEGIN:VEVENT
DTSTART;TZID=Europe/Stockholm:20240209T133000
DTEND;TZID=Europe/Stockholm:20240209T140000
DTSTAMP:20260421T102643
CREATED:20240118T102635Z
LAST-MODIFIED:20240118T102636Z
UID:10000066-1707485400-1707487200@enakyrkan.se
SUMMARY:Andakt på Åkersberg
DESCRIPTION:
URL:https://enakyrkan.se/evenemang/andakt-pa-akersberg/
END:VEVENT
BEGIN:VEVENT
DTSTART;TZID=Europe/Stockholm:20240207T133000
DTEND;TZID=Europe/Stockholm:20240207T150000
DTSTAMP:20260421T102643
CREATED:20240202T120311Z
LAST-MODIFIED:20240205T120645Z
UID:10000107-1707312600-1707318000@enakyrkan.se
SUMMARY:Trivselstunden med Kenneth Holmstedt
DESCRIPTION:Onsdagen den 7 februari är det terminsstart för Enakyrkans dagledigträff ”Trivselstunden”.Denna gång gästas vi av Kenneth Holmstedt som talar kring ämnet ”En pilgrims tankar”.I vanlig ordning erbjuder vi också gott kaffe och trevlig gemenskap.Varmt välkommen!
URL:https://enakyrkan.se/evenemang/trivselstunden-med-kenneth-holmstedt/
END:VEVENT
BEGIN:VEVENT
DTSTART;TZID=Europe/Stockholm:20240204T110000
DTEND;TZID=Europe/Stockholm:20240204T123000
DTSTAMP:20260421T102643
CREATED:20240118T092839Z
LAST-MODIFIED:20240118T092840Z
UID:10000060-1707044400-1707049800@enakyrkan.se
SUMMARY:Gudstjänst med nattvard
DESCRIPTION:
URL:https://enakyrkan.se/evenemang/gudstjanst-med-nattvard-3/
CATEGORIES:Gudstjänst
END:VEVENT
BEGIN:VEVENT
DTSTART;TZID=Europe/Stockholm:20240202T190000
DTEND;TZID=Europe/Stockholm:20240202T220000
DTSTAMP:20260421T102643
CREATED:20240124T090245Z
LAST-MODIFIED:20240124T090329Z
UID:10000073-1706900400-1706911200@enakyrkan.se
SUMMARY:EnakUng
DESCRIPTION:EnakUng är för tonåringar som går på högstadiet och gymnasiet. Vi träffas varje fredag kl 19:00–22:00 för att ha andakt\, fika och göra roliga saker tillsammans. Vi använder ingången vid sidan av kyrksalen
URL:https://enakyrkan.se/evenemang/enakung/2024-02-02/
CATEGORIES:EnakUng
END:VEVENT
BEGIN:VEVENT
DTSTART;TZID=Europe/Stockholm:20240201T183000
DTEND;TZID=Europe/Stockholm:20240201T200000
DTSTAMP:20260421T102643
CREATED:20240124T085019Z
LAST-MODIFIED:20240124T085816Z
UID:10000068-1706812200-1706817600@enakyrkan.se
SUMMARY:Draget
DESCRIPTION:Draget är för barn som går i åk 4–6\, vi träffas en torsdag i månaden där vi leker\, pratar om Gud och tro och har roligt tillsammans. 
URL:https://enakyrkan.se/evenemang/draget/
END:VEVENT
BEGIN:VEVENT
DTSTART;TZID=Europe/Stockholm:20240128T110000
DTEND;TZID=Europe/Stockholm:20240128T123000
DTSTAMP:20260421T102643
CREATED:20240112T072210Z
LAST-MODIFIED:20240112T072211Z
UID:10000051-1706439600-1706445000@enakyrkan.se
SUMMARY:Gudstjänst med evangelist Andreas Cucca
DESCRIPTION:
URL:https://enakyrkan.se/evenemang/gudstjanst-med-evangelist-andreas-cucca/
CATEGORIES:Gudstjänst
END:VEVENT
BEGIN:VEVENT
DTSTART;TZID=Europe/Stockholm:20240126T190000
DTEND;TZID=Europe/Stockholm:20240126T220000
DTSTAMP:20260421T102643
CREATED:20240124T090245Z
LAST-MODIFIED:20240124T090329Z
UID:10000072-1706295600-1706306400@enakyrkan.se
SUMMARY:EnakUng
DESCRIPTION:EnakUng är för tonåringar som går på högstadiet och gymnasiet. Vi träffas varje fredag kl 19:00–22:00 för att ha andakt\, fika och göra roliga saker tillsammans. Vi använder ingången vid sidan av kyrksalen
URL:https://enakyrkan.se/evenemang/enakung/2024-01-26/
CATEGORIES:EnakUng
END:VEVENT
BEGIN:VEVENT
DTSTART;TZID=Europe/Stockholm:20240125T190000
DTEND;TZID=Europe/Stockholm:20240125T200000
DTSTAMP:20260421T102643
CREATED:20240112T073228Z
LAST-MODIFIED:20240112T073229Z
UID:10000059-1706209200-1706212800@enakyrkan.se
SUMMARY:Ekumeniska böneveckan – samling i Vårfrukyrkan
DESCRIPTION:
URL:https://enakyrkan.se/evenemang/ekumeniska-boneveckan-samling-i-varfrukyrkan/
CATEGORIES:Gudstjänst
END:VEVENT
BEGIN:VEVENT
DTSTART;TZID=Europe/Stockholm:20240124T190000
DTEND;TZID=Europe/Stockholm:20240124T200000
DTSTAMP:20260421T102643
CREATED:20240112T073137Z
LAST-MODIFIED:20240112T073138Z
UID:10000058-1706122800-1706126400@enakyrkan.se
SUMMARY:Ekumeniska böneveckan – samling i Enakyrkan
DESCRIPTION:
URL:https://enakyrkan.se/evenemang/ekumeniska-boneveckan-samling-i-enakyrkan-2/
CATEGORIES:Gudstjänst
END:VEVENT
BEGIN:VEVENT
DTSTART;TZID=Europe/Stockholm:20240123T190000
DTEND;TZID=Europe/Stockholm:20240123T200000
DTSTAMP:20260421T102643
CREATED:20240112T073046Z
LAST-MODIFIED:20240112T073047Z
UID:10000057-1706036400-1706040000@enakyrkan.se
SUMMARY:Ekumeniska böneveckan – samling i S:t Adai
DESCRIPTION:
URL:https://enakyrkan.se/evenemang/ekumeniska-boneveckan-samling-i-st-adai/
CATEGORIES:Gudstjänst
END:VEVENT
BEGIN:VEVENT
DTSTART;TZID=Europe/Stockholm:20240122T190000
DTEND;TZID=Europe/Stockholm:20240122T200000
DTSTAMP:20260421T102643
CREATED:20240112T072943Z
LAST-MODIFIED:20240112T072944Z
UID:10000056-1705950000-1705953600@enakyrkan.se
SUMMARY:Ekumeniska böneveckan – samling i S:t Ilian
DESCRIPTION:
URL:https://enakyrkan.se/evenemang/ekumeniska-boneveckan-samling-i-st-ilian/
CATEGORIES:Gudstjänst
END:VEVENT
BEGIN:VEVENT
DTSTART;TZID=Europe/Stockholm:20240121T190000
DTEND;TZID=Europe/Stockholm:20240121T200000
DTSTAMP:20260421T102643
CREATED:20240112T072825Z
LAST-MODIFIED:20240112T072826Z
UID:10000055-1705863600-1705867200@enakyrkan.se
SUMMARY:Ekumeniska böneveckan – samling i S:t Lars kyrka
DESCRIPTION:
URL:https://enakyrkan.se/evenemang/ekumeniska-boneveckan-samling-i-st-lars-kyrka/
CATEGORIES:Gudstjänst
END:VEVENT
BEGIN:VEVENT
DTSTART;TZID=Europe/Stockholm:20240121T110000
DTEND;TZID=Europe/Stockholm:20240121T123000
DTSTAMP:20260421T102643
CREATED:20240112T072109Z
LAST-MODIFIED:20240114T055245Z
UID:10000050-1705834800-1705840200@enakyrkan.se
SUMMARY:Gudstjänst
DESCRIPTION:
URL:https://enakyrkan.se/evenemang/gudstjanst-5/2024-01-21/
CATEGORIES:Gudstjänst
END:VEVENT
END:VCALENDAR