BEGIN:VCALENDAR
VERSION:2.0
PRODID:-//Enakyrkan - ECPv6.15.12.2//NONSGML v1.0//EN
CALSCALE:GREGORIAN
METHOD:PUBLISH
X-ORIGINAL-URL:https://enakyrkan.se
X-WR-CALDESC:Händelser för Enakyrkan
REFRESH-INTERVAL;VALUE=DURATION:PT1H
X-Robots-Tag:noindex
X-PUBLISHED-TTL:PT1H
BEGIN:VTIMEZONE
TZID:Europe/Stockholm
BEGIN:DAYLIGHT
TZOFFSETFROM:+0100
TZOFFSETTO:+0200
TZNAME:CEST
DTSTART:20220327T010000
END:DAYLIGHT
BEGIN:STANDARD
TZOFFSETFROM:+0200
TZOFFSETTO:+0100
TZNAME:CET
DTSTART:20221030T010000
END:STANDARD
BEGIN:DAYLIGHT
TZOFFSETFROM:+0100
TZOFFSETTO:+0200
TZNAME:CEST
DTSTART:20230326T010000
END:DAYLIGHT
BEGIN:STANDARD
TZOFFSETFROM:+0200
TZOFFSETTO:+0100
TZNAME:CET
DTSTART:20231029T010000
END:STANDARD
BEGIN:DAYLIGHT
TZOFFSETFROM:+0100
TZOFFSETTO:+0200
TZNAME:CEST
DTSTART:20240331T010000
END:DAYLIGHT
BEGIN:STANDARD
TZOFFSETFROM:+0200
TZOFFSETTO:+0100
TZNAME:CET
DTSTART:20241027T010000
END:STANDARD
END:VTIMEZONE
BEGIN:VEVENT
DTSTART;TZID=Europe/Stockholm:20231209T130000
DTEND;TZID=Europe/Stockholm:20231209T150000
DTSTAMP:20260421T135640
CREATED:20231203T145129Z
LAST-MODIFIED:20231203T145323Z
UID:10000041-1702126800-1702134000@enakyrkan.se
SUMMARY:Trivselstundens julfest
DESCRIPTION:Anmäl dig på listan i kyrkan senast 4/12.
URL:https://enakyrkan.se/evenemang/trivselstundens-julfest/
ATTACH;FMTTYPE=image/jpeg:https://enakyrkan.se/wp-content/uploads/2023/11/Trivselstunden-julfest-2023.jpg
END:VEVENT
BEGIN:VEVENT
DTSTART;TZID=Europe/Stockholm:20231208T070000
DTEND;TZID=Europe/Stockholm:20231208T073000
DTSTAMP:20260421T135640
CREATED:20231203T144659Z
LAST-MODIFIED:20231203T144834Z
UID:10000030-1702018800-1702020600@enakyrkan.se
SUMMARY:Morgonbön i andaktsrummet
DESCRIPTION:
URL:https://enakyrkan.se/evenemang/morgonbon-i-andaktsrummet-2/2023-12-08/
CATEGORIES:Gudstjänst
ATTACH;FMTTYPE=image/jpeg:https://enakyrkan.se/wp-content/uploads/2023/12/tid-att-soka-Gud.jpg
END:VEVENT
BEGIN:VEVENT
DTSTART;TZID=Europe/Stockholm:20231207T070000
DTEND;TZID=Europe/Stockholm:20231207T073000
DTSTAMP:20260421T135640
CREATED:20231203T144659Z
LAST-MODIFIED:20231203T144834Z
UID:10000029-1701932400-1701934200@enakyrkan.se
SUMMARY:Morgonbön i andaktsrummet
DESCRIPTION:
URL:https://enakyrkan.se/evenemang/morgonbon-i-andaktsrummet-2/2023-12-07/
CATEGORIES:Gudstjänst
ATTACH;FMTTYPE=image/jpeg:https://enakyrkan.se/wp-content/uploads/2023/12/tid-att-soka-Gud.jpg
END:VEVENT
BEGIN:VEVENT
DTSTART;TZID=Europe/Stockholm:20231206T070000
DTEND;TZID=Europe/Stockholm:20231206T073000
DTSTAMP:20260421T135640
CREATED:20231203T144659Z
LAST-MODIFIED:20231203T144834Z
UID:10000028-1701846000-1701847800@enakyrkan.se
SUMMARY:Morgonbön i andaktsrummet
DESCRIPTION:
URL:https://enakyrkan.se/evenemang/morgonbon-i-andaktsrummet-2/2023-12-06/
CATEGORIES:Gudstjänst
ATTACH;FMTTYPE=image/jpeg:https://enakyrkan.se/wp-content/uploads/2023/12/tid-att-soka-Gud.jpg
END:VEVENT
BEGIN:VEVENT
DTSTART;TZID=Europe/Stockholm:20231205T070000
DTEND;TZID=Europe/Stockholm:20231205T073000
DTSTAMP:20260421T135640
CREATED:20231203T144659Z
LAST-MODIFIED:20231203T144834Z
UID:10000027-1701759600-1701761400@enakyrkan.se
SUMMARY:Morgonbön i andaktsrummet
DESCRIPTION:
URL:https://enakyrkan.se/evenemang/morgonbon-i-andaktsrummet-2/2023-12-05/
CATEGORIES:Gudstjänst
ATTACH;FMTTYPE=image/jpeg:https://enakyrkan.se/wp-content/uploads/2023/12/tid-att-soka-Gud.jpg
END:VEVENT
BEGIN:VEVENT
DTSTART;TZID=Europe/Stockholm:20231204T070000
DTEND;TZID=Europe/Stockholm:20231204T073000
DTSTAMP:20260421T135640
CREATED:20231203T144659Z
LAST-MODIFIED:20231203T144834Z
UID:10000026-1701673200-1701675000@enakyrkan.se
SUMMARY:Morgonbön i andaktsrummet
DESCRIPTION:
URL:https://enakyrkan.se/evenemang/morgonbon-i-andaktsrummet-2/2023-12-04/
CATEGORIES:Gudstjänst
ATTACH;FMTTYPE=image/jpeg:https://enakyrkan.se/wp-content/uploads/2023/12/tid-att-soka-Gud.jpg
END:VEVENT
BEGIN:VEVENT
DTSTART;TZID=Europe/Stockholm:20231203T110000
DTEND;TZID=Europe/Stockholm:20231203T123000
DTSTAMP:20260421T135640
CREATED:20231130T071234Z
LAST-MODIFIED:20231130T071235Z
UID:10000023-1701601200-1701606600@enakyrkan.se
SUMMARY:Adventsgudstjänst
DESCRIPTION:
URL:https://enakyrkan.se/evenemang/adventsgudstjanst/
CATEGORIES:Gudstjänst
ATTACH;FMTTYPE=image/jpeg:https://enakyrkan.se/wp-content/uploads/2023/11/1-advent-2023.jpg
END:VEVENT
BEGIN:VEVENT
DTSTART;TZID=Europe/Stockholm:20231126T123000
DTEND;TZID=Europe/Stockholm:20231126T133000
DTSTAMP:20260421T135640
CREATED:20231024T081427Z
LAST-MODIFIED:20231024T081427Z
UID:10000019-1701001800-1701005400@enakyrkan.se
SUMMARY:Församlingsmöte efter gudstjänsten (budget)
DESCRIPTION:
URL:https://enakyrkan.se/evenemang/forsamlingsmote-efter-gudstjansten-budget/
END:VEVENT
BEGIN:VEVENT
DTSTART;TZID=Europe/Stockholm:20231126T110000
DTEND;TZID=Europe/Stockholm:20231126T123000
DTSTAMP:20260421T135640
CREATED:20231024T081339Z
LAST-MODIFIED:20231024T082018Z
UID:10000018-1700996400-1701001800@enakyrkan.se
SUMMARY:Gudstjänst
DESCRIPTION:
URL:https://enakyrkan.se/evenemang/gudstjanst-3/
CATEGORIES:Gudstjänst
END:VEVENT
BEGIN:VEVENT
DTSTART;TZID=Europe/Stockholm:20231124T183000
DTEND;TZID=Europe/Stockholm:20231124T213000
DTSTAMP:20260421T135640
CREATED:20231024T081831Z
LAST-MODIFIED:20231024T082236Z
UID:10000020-1700850600-1700861400@enakyrkan.se
SUMMARY:Thanksgivingfest - en kväll i tacksamhetens tecken
DESCRIPTION:
URL:https://enakyrkan.se/evenemang/thanksgivingfest-en-kvall-i-tacksamhetens-tecken/
ATTACH;FMTTYPE=image/jpeg:https://enakyrkan.se/wp-content/uploads/2023/10/thanksgiving-fest-2023.jpg
END:VEVENT
BEGIN:VEVENT
DTSTART;TZID=Europe/Stockholm:20231123T180000
DTEND;TZID=Europe/Stockholm:20231123T200000
DTSTAMP:20260421T135640
CREATED:20231107T065114Z
LAST-MODIFIED:20231107T065115Z
UID:10000022-1700762400-1700769600@enakyrkan.se
SUMMARY:Livsnära: Att coacha sig själv
DESCRIPTION:De personer vi innerst inne vill vara utmanas nästan ständigt av situationer\, händelser och\, inte minst\, av andra människor. Finns det metoder och tekniker som hjälper oss att förbli de vi vill vara också när omvärlden är påfrestande?Coaching handlar om att ställa frågor som leder framåt. Vilka frågor borde jag ställa till mig själv för att komma vidare? Och vad betyder det egentligen att ”rita kartan bak- länges? \n\n\n\nKrister Hultberg är pastor i Enakyrkan\, diplomerad coach och har föreläst i olika sam- manhang i drygt trettio länder.
URL:https://enakyrkan.se/evenemang/livsnara-att-coacha-sig-sjalv/
CATEGORIES:Livsnära
ATTACH;FMTTYPE=image/jpeg:https://enakyrkan.se/wp-content/uploads/2023/11/LN-HT-2023-NOV.jpg
END:VEVENT
BEGIN:VEVENT
DTSTART;TZID=Europe/Stockholm:20231119T110000
DTEND;TZID=Europe/Stockholm:20231119T123000
DTSTAMP:20260421T135640
CREATED:20231024T081233Z
LAST-MODIFIED:20231024T082325Z
UID:10000017-1700391600-1700397000@enakyrkan.se
SUMMARY:Gudstjänst
DESCRIPTION:
URL:https://enakyrkan.se/evenemang/gudstjanst-2/
CATEGORIES:Gudstjänst
END:VEVENT
BEGIN:VEVENT
DTSTART;TZID=Europe/Stockholm:20231112T110000
DTEND;TZID=Europe/Stockholm:20231112T123000
DTSTAMP:20260421T135640
CREATED:20231024T081114Z
LAST-MODIFIED:20231024T082414Z
UID:10000016-1699786800-1699792200@enakyrkan.se
SUMMARY:Gudstjänst med nattvard
DESCRIPTION:
URL:https://enakyrkan.se/evenemang/gudstjanst-med-nattvard-2/
CATEGORIES:Gudstjänst
END:VEVENT
BEGIN:VEVENT
DTSTART;TZID=Europe/Stockholm:20231111T140000
DTEND;TZID=Europe/Stockholm:20231111T170000
DTSTAMP:20260421T135640
CREATED:20231017T124704Z
LAST-MODIFIED:20231114T071451Z
UID:10000014-1699711200-1699722000@enakyrkan.se
SUMMARY:Afternoon Tea för kvinnor
DESCRIPTION:Välkommen till en samling för kvinnor i alla åldrar med möjlighet att träffa nya vänner och bygga gemenskap. \n\n\n\nDenna gång får vi lyssna till Anna Svernedal\, läkare och teolog som talar över ämnet “Vetenskap och tro i yrke och vardagsliv.”Anna är gift med Pelle\, är mamma till tre barn och har varit verksam som husläkare under många år. Hon har också en mastersexamen i teologi och leder tillsammans med sin man ett nätverk av husförsamlingar i Stockholm- sområdet. \n\n\n\nPris: 75 kronor.Anmälan görs via SMS eller telefon till: Ramona Gunnarsson: 070-897 15 17 \n\n\n\nSamtidigt som du anmäler digber vi dig betala in avgiften via Swish till 070-897 15 17.
URL:https://enakyrkan.se/evenemang/afternoon-tea-for-kvinnor/
ATTACH;FMTTYPE=image/jpeg:https://enakyrkan.se/wp-content/uploads/2023/10/afternoon-tea.jpg
END:VEVENT
BEGIN:VEVENT
DTSTART;TZID=Europe/Stockholm:20231108T133000
DTEND;TZID=Europe/Stockholm:20231108T150000
DTSTAMP:20260421T135640
CREATED:20231025T114406Z
LAST-MODIFIED:20231110T064351Z
UID:10000021-1699450200-1699455600@enakyrkan.se
SUMMARY:Trivselstunden med Emilia Lindberg
DESCRIPTION:Trivselstunden är Enakyrkans samling för daglediga. Denna gång medverkar Emilia Lindberg\, bland annat känd från SVT:s program ”Saliga sånger från Nashville.”Servering.
URL:https://enakyrkan.se/evenemang/trivselstunden-med-emilia-lindberg/
CATEGORIES:Gudstjänst
ATTACH;FMTTYPE=image/jpeg:https://enakyrkan.se/wp-content/uploads/2023/10/trivselstunden-nov-2023.jpg
END:VEVENT
BEGIN:VEVENT
DTSTART;TZID=Europe/Stockholm:20231105T110000
DTEND;TZID=Europe/Stockholm:20231105T123000
DTSTAMP:20260421T135640
CREATED:20231024T080958Z
LAST-MODIFIED:20231024T082432Z
UID:10000015-1699182000-1699187400@enakyrkan.se
SUMMARY:Gudstjänst för alla åldrar
DESCRIPTION:
URL:https://enakyrkan.se/evenemang/gudstjanst-med-nattvard/
CATEGORIES:Gudstjänst
END:VEVENT
BEGIN:VEVENT
DTSTART;TZID=Europe/Stockholm:20231029T110000
DTEND;TZID=Europe/Stockholm:20231029T123000
DTSTAMP:20260421T135640
CREATED:20231014T154922Z
LAST-MODIFIED:20231017T124905Z
UID:10000013-1698577200-1698582600@enakyrkan.se
SUMMARY:Gudstjänst med Carl-Gustaf Severin
DESCRIPTION:
URL:https://enakyrkan.se/evenemang/gudstjanst-med-carl-gustaf-severin/
CATEGORIES:Gudstjänst
ATTACH;FMTTYPE=image/jpeg:https://enakyrkan.se/wp-content/uploads/2023/10/Gudstjanst29okt.jpg
END:VEVENT
BEGIN:VEVENT
DTSTART;TZID=Europe/Stockholm:20231027T190000
DTEND;TZID=Europe/Stockholm:20231027T220000
DTSTAMP:20260421T135640
CREATED:20231014T154704Z
LAST-MODIFIED:20231014T191359Z
UID:10000012-1698433200-1698444000@enakyrkan.se
SUMMARY:EnakUng: Panelsamtal & 5-kamp
DESCRIPTION:
URL:https://enakyrkan.se/evenemang/enakung-panelsamtal-5-kamp/
CATEGORIES:EnakUng
END:VEVENT
BEGIN:VEVENT
DTSTART;TZID=Europe/Stockholm:20231025T183000
DTEND;TZID=Europe/Stockholm:20231025T193000
DTSTAMP:20260421T135640
CREATED:20231014T154600Z
LAST-MODIFIED:20231014T154601Z
UID:10000011-1698258600-1698262200@enakyrkan.se
SUMMARY:Kapellet – fika\, bön & lovsång
DESCRIPTION:
URL:https://enakyrkan.se/evenemang/kapellet-fika-bon-lovsang/
END:VEVENT
BEGIN:VEVENT
DTSTART;TZID=Europe/Stockholm:20231022T110000
DTEND;TZID=Europe/Stockholm:20231022T123000
DTSTAMP:20260421T135640
CREATED:20231014T154447Z
LAST-MODIFIED:20231014T154501Z
UID:10000010-1697972400-1697977800@enakyrkan.se
SUMMARY:Gudstjänst med söndagskola
DESCRIPTION:
URL:https://enakyrkan.se/evenemang/gudstjanst-med-sondagskola/
CATEGORIES:Gudstjänst
END:VEVENT
BEGIN:VEVENT
DTSTART;TZID=Europe/Stockholm:20231022T100000
DTEND;TZID=Europe/Stockholm:20231022T110000
DTSTAMP:20260421T135640
CREATED:20231014T154207Z
LAST-MODIFIED:20231014T154208Z
UID:10000009-1697968800-1697972400@enakyrkan.se
SUMMARY:Bön i andaktsrummet
DESCRIPTION:
URL:https://enakyrkan.se/evenemang/bon-i-andaktsrummet/
END:VEVENT
BEGIN:VEVENT
DTSTART;TZID=Europe/Stockholm:20231020T190000
DTEND;TZID=Europe/Stockholm:20231020T220000
DTSTAMP:20260421T135640
CREATED:20231014T154047Z
LAST-MODIFIED:20231014T154048Z
UID:10000008-1697828400-1697839200@enakyrkan.se
SUMMARY:EnakUng: Pingisturnering
DESCRIPTION:
URL:https://enakyrkan.se/evenemang/enakung-pingisturnering/
CATEGORIES:EnakUng
END:VEVENT
BEGIN:VEVENT
DTSTART;TZID=Europe/Stockholm:20231019T180000
DTEND;TZID=Europe/Stockholm:20231019T190000
DTSTAMP:20260421T135640
CREATED:20231014T141144Z
LAST-MODIFIED:20231015T084038Z
UID:10000007-1697738400-1697742000@enakyrkan.se
SUMMARY:Livsnära: Sverige & brottsligheten
DESCRIPTION:Brott och straff är ett ämne som ständigt fyller media\, poddar och politiska debatter. Många känner sig oroliga att drabbas i sin närmiljö\, samtidigt som antalet som utsätts för brott i Sverige faktiskt är relativt lågt. Vad stämmer och vad stämmer inte om brotts- utvecklingen i landet? Vi kommer att prata om vad som orsakar brott och vad vi kan göra åt det som samhälle\, föreningar\, kyrkor och enskilda. Vi kommer också att ta upp vilken funktion som straff har och diskutera alternativa sätt att se på både brott och straff.Johan Gunnarsson arbetar som verksamhetsutvecklare vid Polismyndigheten med erfarenhet från strategisk ledning\, den brottsutredande verksamheten och polisutbildning. \n\n\n\nPris: 75 kr\, inkluderar kaffe/te\, smörgås & kaka.Serveringen startar 18:00\, föreläsningen börjar c:a 18:30.
URL:https://enakyrkan.se/evenemang/livsnara/
CATEGORIES:Livsnära
ATTACH;FMTTYPE=image/jpeg:https://enakyrkan.se/wp-content/uploads/2023/10/Livsnara.jpg
END:VEVENT
BEGIN:VEVENT
DTSTART;TZID=Europe/Stockholm:20231015T110000
DTEND;TZID=Europe/Stockholm:20231015T123000
DTSTAMP:20260421T135640
CREATED:20231014T130224Z
LAST-MODIFIED:20231014T152742Z
UID:10000005-1697367600-1697373000@enakyrkan.se
SUMMARY:Gudstjänst
DESCRIPTION:Gudstjänst med lovsång och fika.
URL:https://enakyrkan.se/evenemang/gudstjanst/
CATEGORIES:Gudstjänst
END:VEVENT
END:VCALENDAR