BEGIN:VCALENDAR
VERSION:2.0
PRODID:-//Enakyrkan - ECPv6.15.12.2//NONSGML v1.0//EN
CALSCALE:GREGORIAN
METHOD:PUBLISH
X-WR-CALNAME:Enakyrkan
X-ORIGINAL-URL:https://enakyrkan.se
X-WR-CALDESC:Händelser för Enakyrkan
REFRESH-INTERVAL;VALUE=DURATION:PT1H
X-Robots-Tag:noindex
X-PUBLISHED-TTL:PT1H
BEGIN:VTIMEZONE
TZID:Europe/Stockholm
BEGIN:DAYLIGHT
TZOFFSETFROM:+0100
TZOFFSETTO:+0200
TZNAME:CEST
DTSTART:20240331T010000
END:DAYLIGHT
BEGIN:STANDARD
TZOFFSETFROM:+0200
TZOFFSETTO:+0100
TZNAME:CET
DTSTART:20241027T010000
END:STANDARD
BEGIN:DAYLIGHT
TZOFFSETFROM:+0100
TZOFFSETTO:+0200
TZNAME:CEST
DTSTART:20250330T010000
END:DAYLIGHT
BEGIN:STANDARD
TZOFFSETFROM:+0200
TZOFFSETTO:+0100
TZNAME:CET
DTSTART:20251026T010000
END:STANDARD
BEGIN:DAYLIGHT
TZOFFSETFROM:+0100
TZOFFSETTO:+0200
TZNAME:CEST
DTSTART:20260329T010000
END:DAYLIGHT
BEGIN:STANDARD
TZOFFSETFROM:+0200
TZOFFSETTO:+0100
TZNAME:CET
DTSTART:20261025T010000
END:STANDARD
END:VTIMEZONE
BEGIN:VEVENT
DTSTART;TZID=Europe/Stockholm:20250713T170000
DTEND;TZID=Europe/Stockholm:20250713T190000
DTSTAMP:20260420T111549
CREATED:20250528T084908Z
LAST-MODIFIED:20250528T084912Z
UID:10000387-1752426000-1752433200@enakyrkan.se
SUMMARY:Sommargudstjänst
DESCRIPTION:Under sommaren firar vi gudstjänst klockan 17:00 med knytisfika och gemenskap efteråt.Varmt välkommen!
URL:https://enakyrkan.se/evenemang/sommargudstjanst-2/2025-07-13/
CATEGORIES:Gudstjänst,Söndag
END:VEVENT
BEGIN:VEVENT
DTSTART;TZID=Europe/Stockholm:20250709T200000
DTEND;TZID=Europe/Stockholm:20250709T201500
DTSTAMP:20260420T111549
CREATED:20250613T064719Z
LAST-MODIFIED:20250613T064722Z
UID:10000398-1752091200-1752092100@enakyrkan.se
SUMMARY:Sommarbön Online
DESCRIPTION:Under sommaren träffas vi online för bön varje onsdag klockan 20:00. \n\n\n\nAnvänd den här länken för att komma till vårt digitala bönerum: Enakyrkans Bön Online
URL:https://enakyrkan.se/evenemang/sommarbon-online/2025-07-09/
END:VEVENT
BEGIN:VEVENT
DTSTART;TZID=Europe/Stockholm:20250706T170000
DTEND;TZID=Europe/Stockholm:20250706T190000
DTSTAMP:20260420T111549
CREATED:20250528T084908Z
LAST-MODIFIED:20250528T084912Z
UID:10000386-1751821200-1751828400@enakyrkan.se
SUMMARY:Sommargudstjänst
DESCRIPTION:Under sommaren firar vi gudstjänst klockan 17:00 med knytisfika och gemenskap efteråt.Varmt välkommen!
URL:https://enakyrkan.se/evenemang/sommargudstjanst-2/2025-07-06/
CATEGORIES:Gudstjänst,Söndag
END:VEVENT
BEGIN:VEVENT
DTSTART;TZID=Europe/Stockholm:20250702T200000
DTEND;TZID=Europe/Stockholm:20250702T201500
DTSTAMP:20260420T111549
CREATED:20250613T064719Z
LAST-MODIFIED:20250613T064722Z
UID:10000397-1751486400-1751487300@enakyrkan.se
SUMMARY:Sommarbön Online
DESCRIPTION:Under sommaren träffas vi online för bön varje onsdag klockan 20:00. \n\n\n\nAnvänd den här länken för att komma till vårt digitala bönerum: Enakyrkans Bön Online
URL:https://enakyrkan.se/evenemang/sommarbon-online/2025-07-02/
END:VEVENT
BEGIN:VEVENT
DTSTART;TZID=Europe/Stockholm:20250629T170000
DTEND;TZID=Europe/Stockholm:20250629T190000
DTSTAMP:20260420T111549
CREATED:20250528T084908Z
LAST-MODIFIED:20250528T084912Z
UID:10000385-1751216400-1751223600@enakyrkan.se
SUMMARY:Sommargudstjänst
DESCRIPTION:Under sommaren firar vi gudstjänst klockan 17:00 med knytisfika och gemenskap efteråt.Varmt välkommen!
URL:https://enakyrkan.se/evenemang/sommargudstjanst-2/2025-06-29/
CATEGORIES:Gudstjänst,Söndag
END:VEVENT
BEGIN:VEVENT
DTSTART;TZID=Europe/Stockholm:20250627T133000
DTEND;TZID=Europe/Stockholm:20250627T140000
DTSTAMP:20260420T111549
CREATED:20250121T132835Z
LAST-MODIFIED:20250121T132836Z
UID:10000304-1751031000-1751032800@enakyrkan.se
SUMMARY:Andakt på Åkersberg
DESCRIPTION:
URL:https://enakyrkan.se/evenemang/andakt-pa-akersberg-3/
END:VEVENT
BEGIN:VEVENT
DTSTART;TZID=Europe/Stockholm:20250625T200000
DTEND;TZID=Europe/Stockholm:20250625T201500
DTSTAMP:20260420T111549
CREATED:20250613T064719Z
LAST-MODIFIED:20250613T064722Z
UID:10000396-1750881600-1750882500@enakyrkan.se
SUMMARY:Sommarbön Online
DESCRIPTION:Under sommaren träffas vi online för bön varje onsdag klockan 20:00. \n\n\n\nAnvänd den här länken för att komma till vårt digitala bönerum: Enakyrkans Bön Online
URL:https://enakyrkan.se/evenemang/sommarbon-online/2025-06-25/
END:VEVENT
BEGIN:VEVENT
DTSTART;TZID=Europe/Stockholm:20250622T170000
DTEND;TZID=Europe/Stockholm:20250622T190000
DTSTAMP:20260420T111549
CREATED:20250528T084908Z
LAST-MODIFIED:20250528T084912Z
UID:10000384-1750611600-1750618800@enakyrkan.se
SUMMARY:Sommargudstjänst
DESCRIPTION:Under sommaren firar vi gudstjänst klockan 17:00 med knytisfika och gemenskap efteråt.Varmt välkommen!
URL:https://enakyrkan.se/evenemang/sommargudstjanst-2/2025-06-22/
CATEGORIES:Gudstjänst,Söndag
END:VEVENT
BEGIN:VEVENT
DTSTART;TZID=Europe/Stockholm:20250618T200000
DTEND;TZID=Europe/Stockholm:20250618T201500
DTSTAMP:20260420T111549
CREATED:20250613T064719Z
LAST-MODIFIED:20250613T064722Z
UID:10000395-1750276800-1750277700@enakyrkan.se
SUMMARY:Sommarbön Online
DESCRIPTION:Under sommaren träffas vi online för bön varje onsdag klockan 20:00. \n\n\n\nAnvänd den här länken för att komma till vårt digitala bönerum: Enakyrkans Bön Online
URL:https://enakyrkan.se/evenemang/sommarbon-online/2025-06-18/
END:VEVENT
BEGIN:VEVENT
DTSTART;TZID=Europe/Stockholm:20250615T170000
DTEND;TZID=Europe/Stockholm:20250615T190000
DTSTAMP:20260420T111549
CREATED:20250528T084908Z
LAST-MODIFIED:20250528T084912Z
UID:10000383-1750006800-1750014000@enakyrkan.se
SUMMARY:Sommargudstjänst
DESCRIPTION:Under sommaren firar vi gudstjänst klockan 17:00 med knytisfika och gemenskap efteråt.Varmt välkommen!
URL:https://enakyrkan.se/evenemang/sommargudstjanst-2/2025-06-15/
CATEGORIES:Gudstjänst,Söndag
END:VEVENT
BEGIN:VEVENT
DTSTART;TZID=Europe/Stockholm:20250608T123000
DTEND;TZID=Europe/Stockholm:20250608T140000
DTSTAMP:20260420T111549
CREATED:20250528T084519Z
LAST-MODIFIED:20250528T084522Z
UID:10000382-1749385800-1749391200@enakyrkan.se
SUMMARY:Ekumeniskt kyrkkaffe på Stora torget
DESCRIPTION:
URL:https://enakyrkan.se/evenemang/ekumeniskt-kyrkkaffe-pa-stora-torget/
CATEGORIES:Söndag
END:VEVENT
BEGIN:VEVENT
DTSTART;TZID=Europe/Stockholm:20250608T110000
DTEND;TZID=Europe/Stockholm:20250608T120000
DTSTAMP:20260420T111549
CREATED:20250528T084337Z
LAST-MODIFIED:20250528T084340Z
UID:10000381-1749380400-1749384000@enakyrkan.se
SUMMARY:Gudstjänst
DESCRIPTION:
URL:https://enakyrkan.se/evenemang/gudstjanst-41/
CATEGORIES:Gudstjänst,Söndag
END:VEVENT
BEGIN:VEVENT
DTSTART;TZID=Europe/Stockholm:20250606T103000
DTEND;TZID=Europe/Stockholm:20250606T113000
DTSTAMP:20260420T111549
CREATED:20250528T085222Z
LAST-MODIFIED:20250528T085225Z
UID:10000393-1749205800-1749209400@enakyrkan.se
SUMMARY:Nationaldagsbön
DESCRIPTION:
URL:https://enakyrkan.se/evenemang/nationaldagsbon/
END:VEVENT
BEGIN:VEVENT
DTSTART;TZID=Europe/Stockholm:20250605T133000
DTEND;TZID=Europe/Stockholm:20250605T140000
DTSTAMP:20260420T111549
CREATED:20250121T132801Z
LAST-MODIFIED:20250121T132802Z
UID:10000303-1749130200-1749132000@enakyrkan.se
SUMMARY:Andakt på Orion
DESCRIPTION:
URL:https://enakyrkan.se/evenemang/andakt-pa-orion-3/
END:VEVENT
BEGIN:VEVENT
DTSTART;TZID=Europe/Stockholm:20250604T183000
DTEND;TZID=Europe/Stockholm:20250604T200000
DTSTAMP:20260420T111549
CREATED:20250304T165536Z
LAST-MODIFIED:20250604T155704Z
UID:10000394-1749061800-1749067200@enakyrkan.se
SUMMARY:Kapellet – bön och lovsång
DESCRIPTION:Vi startar 18:30 med en enkel fika och fortsätter sedan i kyrksalen med en timmes bön och lovsång.
URL:https://enakyrkan.se/evenemang/kapellet-bon-och-lovsang/
END:VEVENT
BEGIN:VEVENT
DTSTART;TZID=Europe/Stockholm:20250603T183000
DTEND;TZID=Europe/Stockholm:20250603T200000
DTSTAMP:20260420T111549
CREATED:20250527T120052Z
LAST-MODIFIED:20250527T120405Z
UID:10000378-1748975400-1748980800@enakyrkan.se
SUMMARY:Sommarfest för volontärer
DESCRIPTION:Läs mer här: Sommarfest
URL:https://enakyrkan.se/evenemang/sommarfest-for-volontarer/
END:VEVENT
BEGIN:VEVENT
DTSTART;TZID=Europe/Stockholm:20250601T123000
DTEND;TZID=Europe/Stockholm:20250601T133000
DTSTAMP:20260420T111549
CREATED:20250528T084253Z
LAST-MODIFIED:20250528T084256Z
UID:10000380-1748781000-1748784600@enakyrkan.se
SUMMARY:Församlingsmöte efter gudstjänsten
DESCRIPTION:
URL:https://enakyrkan.se/evenemang/forsamlingsmote-efter-gudstjansten-7/
CATEGORIES:Söndag
END:VEVENT
BEGIN:VEVENT
DTSTART;TZID=Europe/Stockholm:20250601T110000
DTEND;TZID=Europe/Stockholm:20250601T123000
DTSTAMP:20260420T111549
CREATED:20250528T084159Z
LAST-MODIFIED:20250528T084202Z
UID:10000379-1748775600-1748781000@enakyrkan.se
SUMMARY:Gudstjänst med nattvard
DESCRIPTION:
URL:https://enakyrkan.se/evenemang/gudstjanst-med-nattvard-11/
CATEGORIES:Gudstjänst,Söndag
END:VEVENT
BEGIN:VEVENT
DTSTART;TZID=Europe/Stockholm:20250528T133000
DTEND;TZID=Europe/Stockholm:20250528T150000
DTSTAMP:20260420T111549
CREATED:20250514T150852Z
LAST-MODIFIED:20250525T154323Z
UID:10000377-1748439000-1748444400@enakyrkan.se
SUMMARY:Vårens sista Kompassens Vardagsrum
DESCRIPTION:Onsdagar kl 13.30-15.00 finns det möjlighet för alla som kan och vill att samlas på Kompassen för att ha en trevlig stund tillsammans. Vi fokuserar på samtalet och att umgås. Det kan finnas möjlighet att lägga pussel\, spela spel eller att göra något annat om andan faller på. \n\n\n\nFika finns att köpa i receptionen. \n\n\n\nDetta arrangeras av Enakyrkan och Kompassen gemensamt. \n\n\n\nVarmt välkomna! \n\n\n\n(Ca en onsdag i månaden arrangerar Enakyrkan en samling med lite mer program som kallas Trivselstunden\, där serveras det fika till alla som kommer. Då är det inget Vardagsrum.)
URL:https://enakyrkan.se/evenemang/kompassens-vardagsrum-9/
END:VEVENT
BEGIN:VEVENT
DTSTART;TZID=Europe/Stockholm:20250525T170000
DTEND;TZID=Europe/Stockholm:20250525T173000
DTSTAMP:20260420T111549
CREATED:20250125T090212Z
LAST-MODIFIED:20250130T103455Z
UID:10000325-1748192400-1748194200@enakyrkan.se
SUMMARY:30 minuter Bibel
DESCRIPTION:Varje söndag träffas vi för att läsa Bibeln tillsammans under en halvtimme. Upplägget på samlingen är väldigt enkelt. Vi ber en bön\, turas om att läsa ett par verser var\, tar några minuter i stillhet och eftertanke. Det ges sedan tillfälle ifall någon vill dela en tanke från det vi läst.  \n\n\n\nTa gärna med dig en fysisk bibel. Det spelar inte så stor roll vilken översättning du tar med dig.
URL:https://enakyrkan.se/evenemang/30-minuter-bibel/2025-05-25/
CATEGORIES:Söndag
END:VEVENT
BEGIN:VEVENT
DTSTART;TZID=Europe/Stockholm:20250525T110000
DTEND;TZID=Europe/Stockholm:20250525T123000
DTSTAMP:20260420T111549
CREATED:20250415T053818Z
LAST-MODIFIED:20250415T053822Z
UID:10000367-1748170800-1748176200@enakyrkan.se
SUMMARY:Gudstjänst för alla åldrar
DESCRIPTION:
URL:https://enakyrkan.se/evenemang/gudstjanst-for-alla-aldrar-5/
CATEGORIES:Gudstjänst,Söndag
END:VEVENT
BEGIN:VEVENT
DTSTART;TZID=Europe/Stockholm:20250522T180000
DTEND;TZID=Europe/Stockholm:20250522T193000
DTSTAMP:20260420T111549
CREATED:20250130T102629Z
LAST-MODIFIED:20250130T102630Z
UID:10000334-1747936800-1747942200@enakyrkan.se
SUMMARY:Draget – för dig som går i mellanstadiet
DESCRIPTION:
URL:https://enakyrkan.se/evenemang/draget-for-dig-som-gar-i-mellanstadiet/2025-05-22/
END:VEVENT
BEGIN:VEVENT
DTSTART;TZID=Europe/Stockholm:20250521T133000
DTEND;TZID=Europe/Stockholm:20250521T150000
DTSTAMP:20260420T111549
CREATED:20250514T150808Z
LAST-MODIFIED:20250514T150811Z
UID:10000376-1747834200-1747839600@enakyrkan.se
SUMMARY:Kompassens Vardagsrum
DESCRIPTION:Onsdagar kl 13.30-15.00 finns det möjlighet för alla som kan och vill att samlas på Kompassen för att ha en trevlig stund tillsammans. Vi fokuserar på samtalet och att umgås. Det kan finnas möjlighet att lägga pussel\, spela spel eller att göra något annat om andan faller på. \n\n\n\nFika finns att köpa i receptionen. \n\n\n\nDetta arrangeras av Enakyrkan och Kompassen gemensamt. \n\n\n\nVarmt välkomna! \n\n\n\n(Ca en onsdag i månaden arrangerar Enakyrkan en samling med lite mer program som kallas Trivselstunden\, där serveras det fika till alla som kommer. Då är det inget Vardagsrum.)
URL:https://enakyrkan.se/evenemang/kompassens-vardagsrum-8/
END:VEVENT
BEGIN:VEVENT
DTSTART;TZID=Europe/Stockholm:20250518T170000
DTEND;TZID=Europe/Stockholm:20250518T173000
DTSTAMP:20260420T111549
CREATED:20250125T090212Z
LAST-MODIFIED:20250130T103455Z
UID:10000324-1747587600-1747589400@enakyrkan.se
SUMMARY:30 minuter Bibel
DESCRIPTION:Varje söndag träffas vi för att läsa Bibeln tillsammans under en halvtimme. Upplägget på samlingen är väldigt enkelt. Vi ber en bön\, turas om att läsa ett par verser var\, tar några minuter i stillhet och eftertanke. Det ges sedan tillfälle ifall någon vill dela en tanke från det vi läst.  \n\n\n\nTa gärna med dig en fysisk bibel. Det spelar inte så stor roll vilken översättning du tar med dig.
URL:https://enakyrkan.se/evenemang/30-minuter-bibel/2025-05-18/
CATEGORIES:Söndag
END:VEVENT
BEGIN:VEVENT
DTSTART;TZID=Europe/Stockholm:20250518T110000
DTEND;TZID=Europe/Stockholm:20250518T123000
DTSTAMP:20260420T111549
CREATED:20250415T053724Z
LAST-MODIFIED:20250415T053728Z
UID:10000366-1747566000-1747571400@enakyrkan.se
SUMMARY:Gudstjänst
DESCRIPTION:
URL:https://enakyrkan.se/evenemang/gudstjanst-40/
CATEGORIES:Gudstjänst,Söndag
END:VEVENT
BEGIN:VEVENT
DTSTART;TZID=Europe/Stockholm:20250514T133000
DTEND;TZID=Europe/Stockholm:20250514T150000
DTSTAMP:20260420T111549
CREATED:20250420T075141Z
LAST-MODIFIED:20250420T075144Z
UID:10000371-1747229400-1747234800@enakyrkan.se
SUMMARY:Kompassens Vardagsrum
DESCRIPTION:Onsdagar kl 13.30-15.00 finns det möjlighet för alla som kan och vill att samlas på Kompassen för att ha en trevlig stund tillsammans. Vi fokuserar på samtalet och att umgås. Det kan finnas möjlighet att lägga pussel\, spela spel eller att göra något annat om andan faller på. \n\n\n\nFika finns att köpa i receptionen. \n\n\n\nDetta arrangeras av Enakyrkan och Kompassen gemensamt. \n\n\n\nVarmt välkomna! \n\n\n\n(Ca en onsdag i månaden arrangerar Enakyrkan en samling med lite mer program som kallas Trivselstunden\, där serveras det fika till alla som kommer. Då är det inget Vardagsrum.)
URL:https://enakyrkan.se/evenemang/kompassens-vardagsrum-7/
END:VEVENT
BEGIN:VEVENT
DTSTART;TZID=Europe/Stockholm:20250511T170000
DTEND;TZID=Europe/Stockholm:20250511T173000
DTSTAMP:20260420T111549
CREATED:20250125T090212Z
LAST-MODIFIED:20250130T103455Z
UID:10000323-1746982800-1746984600@enakyrkan.se
SUMMARY:30 minuter Bibel
DESCRIPTION:Varje söndag träffas vi för att läsa Bibeln tillsammans under en halvtimme. Upplägget på samlingen är väldigt enkelt. Vi ber en bön\, turas om att läsa ett par verser var\, tar några minuter i stillhet och eftertanke. Det ges sedan tillfälle ifall någon vill dela en tanke från det vi läst.  \n\n\n\nTa gärna med dig en fysisk bibel. Det spelar inte så stor roll vilken översättning du tar med dig.
URL:https://enakyrkan.se/evenemang/30-minuter-bibel/2025-05-11/
CATEGORIES:Söndag
END:VEVENT
BEGIN:VEVENT
DTSTART;TZID=Europe/Stockholm:20250511T110000
DTEND;TZID=Europe/Stockholm:20250511T123000
DTSTAMP:20260420T111549
CREATED:20250415T053635Z
LAST-MODIFIED:20250415T053638Z
UID:10000365-1746961200-1746966600@enakyrkan.se
SUMMARY:Gudstjänst
DESCRIPTION:
URL:https://enakyrkan.se/evenemang/gudstjanst-39/
CATEGORIES:Gudstjänst,Söndag
END:VEVENT
BEGIN:VEVENT
DTSTART;TZID=Europe/Stockholm:20250510T090000
DTEND;TZID=Europe/Stockholm:20250510T160000
DTSTAMP:20260420T111549
CREATED:20250423T091926Z
LAST-MODIFIED:20250423T092055Z
UID:10000372-1746867600-1746892800@enakyrkan.se
SUMMARY:Arbetsdag utomhus
DESCRIPTION:Välkommen med till en arbetsdag då vi hjälps åt att göra fint på tomten runt kyrkan. Vi börjar klockan 9:00 och beräknar hålla på tills cirka klockan 16:00. Fika och lunch kommer att ordnas. \n\n\n\nOBS! Alla insatser är välkomna\, även om du inte har möjlighet att vara med hela dagen.
URL:https://enakyrkan.se/evenemang/arbetsdag-utomhus-2/
END:VEVENT
BEGIN:VEVENT
DTSTART;TZID=Europe/Stockholm:20250509T133000
DTEND;TZID=Europe/Stockholm:20250509T140000
DTSTAMP:20260420T111549
CREATED:20250121T132726Z
LAST-MODIFIED:20250121T132727Z
UID:10000302-1746797400-1746799200@enakyrkan.se
SUMMARY:Andakt på Kryddgården
DESCRIPTION:
URL:https://enakyrkan.se/evenemang/andakt-pa-kryddgarden-2/
END:VEVENT
END:VCALENDAR