BEGIN:VCALENDAR
VERSION:2.0
PRODID:-//Enakyrkan - ECPv6.15.12.2//NONSGML v1.0//EN
CALSCALE:GREGORIAN
METHOD:PUBLISH
X-ORIGINAL-URL:https://enakyrkan.se
X-WR-CALDESC:Händelser för Enakyrkan
REFRESH-INTERVAL;VALUE=DURATION:PT1H
X-Robots-Tag:noindex
X-PUBLISHED-TTL:PT1H
BEGIN:VTIMEZONE
TZID:Europe/Stockholm
BEGIN:DAYLIGHT
TZOFFSETFROM:+0100
TZOFFSETTO:+0200
TZNAME:CEST
DTSTART:20240331T010000
END:DAYLIGHT
BEGIN:STANDARD
TZOFFSETFROM:+0200
TZOFFSETTO:+0100
TZNAME:CET
DTSTART:20241027T010000
END:STANDARD
BEGIN:DAYLIGHT
TZOFFSETFROM:+0100
TZOFFSETTO:+0200
TZNAME:CEST
DTSTART:20250330T010000
END:DAYLIGHT
BEGIN:STANDARD
TZOFFSETFROM:+0200
TZOFFSETTO:+0100
TZNAME:CET
DTSTART:20251026T010000
END:STANDARD
BEGIN:DAYLIGHT
TZOFFSETFROM:+0100
TZOFFSETTO:+0200
TZNAME:CEST
DTSTART:20260329T010000
END:DAYLIGHT
BEGIN:STANDARD
TZOFFSETFROM:+0200
TZOFFSETTO:+0100
TZNAME:CET
DTSTART:20261025T010000
END:STANDARD
END:VTIMEZONE
BEGIN:VEVENT
DTSTART;TZID=Europe/Stockholm:20250514T133000
DTEND;TZID=Europe/Stockholm:20250514T150000
DTSTAMP:20260420T125829
CREATED:20250420T075141Z
LAST-MODIFIED:20250420T075144Z
UID:10000371-1747229400-1747234800@enakyrkan.se
SUMMARY:Kompassens Vardagsrum
DESCRIPTION:Onsdagar kl 13.30-15.00 finns det möjlighet för alla som kan och vill att samlas på Kompassen för att ha en trevlig stund tillsammans. Vi fokuserar på samtalet och att umgås. Det kan finnas möjlighet att lägga pussel\, spela spel eller att göra något annat om andan faller på. \n\n\n\nFika finns att köpa i receptionen. \n\n\n\nDetta arrangeras av Enakyrkan och Kompassen gemensamt. \n\n\n\nVarmt välkomna! \n\n\n\n(Ca en onsdag i månaden arrangerar Enakyrkan en samling med lite mer program som kallas Trivselstunden\, där serveras det fika till alla som kommer. Då är det inget Vardagsrum.)
URL:https://enakyrkan.se/evenemang/kompassens-vardagsrum-7/
END:VEVENT
BEGIN:VEVENT
DTSTART;TZID=Europe/Stockholm:20250511T170000
DTEND;TZID=Europe/Stockholm:20250511T173000
DTSTAMP:20260420T125829
CREATED:20250125T090212Z
LAST-MODIFIED:20250130T103455Z
UID:10000323-1746982800-1746984600@enakyrkan.se
SUMMARY:30 minuter Bibel
DESCRIPTION:Varje söndag träffas vi för att läsa Bibeln tillsammans under en halvtimme. Upplägget på samlingen är väldigt enkelt. Vi ber en bön\, turas om att läsa ett par verser var\, tar några minuter i stillhet och eftertanke. Det ges sedan tillfälle ifall någon vill dela en tanke från det vi läst.  \n\n\n\nTa gärna med dig en fysisk bibel. Det spelar inte så stor roll vilken översättning du tar med dig.
URL:https://enakyrkan.se/evenemang/30-minuter-bibel/2025-05-11/
CATEGORIES:Söndag
END:VEVENT
BEGIN:VEVENT
DTSTART;TZID=Europe/Stockholm:20250511T110000
DTEND;TZID=Europe/Stockholm:20250511T123000
DTSTAMP:20260420T125830
CREATED:20250415T053635Z
LAST-MODIFIED:20250415T053638Z
UID:10000365-1746961200-1746966600@enakyrkan.se
SUMMARY:Gudstjänst
DESCRIPTION:
URL:https://enakyrkan.se/evenemang/gudstjanst-39/
CATEGORIES:Gudstjänst,Söndag
END:VEVENT
BEGIN:VEVENT
DTSTART;TZID=Europe/Stockholm:20250510T090000
DTEND;TZID=Europe/Stockholm:20250510T160000
DTSTAMP:20260420T125830
CREATED:20250423T091926Z
LAST-MODIFIED:20250423T092055Z
UID:10000372-1746867600-1746892800@enakyrkan.se
SUMMARY:Arbetsdag utomhus
DESCRIPTION:Välkommen med till en arbetsdag då vi hjälps åt att göra fint på tomten runt kyrkan. Vi börjar klockan 9:00 och beräknar hålla på tills cirka klockan 16:00. Fika och lunch kommer att ordnas. \n\n\n\nOBS! Alla insatser är välkomna\, även om du inte har möjlighet att vara med hela dagen.
URL:https://enakyrkan.se/evenemang/arbetsdag-utomhus-2/
END:VEVENT
BEGIN:VEVENT
DTSTART;TZID=Europe/Stockholm:20250509T133000
DTEND;TZID=Europe/Stockholm:20250509T140000
DTSTAMP:20260420T125830
CREATED:20250121T132726Z
LAST-MODIFIED:20250121T132727Z
UID:10000302-1746797400-1746799200@enakyrkan.se
SUMMARY:Andakt på Kryddgården
DESCRIPTION:
URL:https://enakyrkan.se/evenemang/andakt-pa-kryddgarden-2/
END:VEVENT
BEGIN:VEVENT
DTSTART;TZID=Europe/Stockholm:20250508T180000
DTEND;TZID=Europe/Stockholm:20250508T193000
DTSTAMP:20260420T125830
CREATED:20250130T102629Z
LAST-MODIFIED:20250130T102630Z
UID:10000333-1746727200-1746732600@enakyrkan.se
SUMMARY:Draget – för dig som går i mellanstadiet
DESCRIPTION:
URL:https://enakyrkan.se/evenemang/draget-for-dig-som-gar-i-mellanstadiet/2025-05-08/
END:VEVENT
BEGIN:VEVENT
DTSTART;TZID=Europe/Stockholm:20250507T183000
DTEND;TZID=Europe/Stockholm:20250507T200000
DTSTAMP:20260420T125830
CREATED:20250425T074456Z
LAST-MODIFIED:20250425T074459Z
UID:10000374-1746642600-1746648000@enakyrkan.se
SUMMARY:Kapellet – bön & lovsångskväll
DESCRIPTION:
URL:https://enakyrkan.se/evenemang/kapellet-bon-lovsangskvall/
END:VEVENT
BEGIN:VEVENT
DTSTART;TZID=Europe/Stockholm:20250507T133000
DTEND;TZID=Europe/Stockholm:20250507T153000
DTSTAMP:20260420T125830
CREATED:20250425T073017Z
LAST-MODIFIED:20250425T073023Z
UID:10000373-1746624600-1746631800@enakyrkan.se
SUMMARY:Trivselstunden med Heidi Elfving
DESCRIPTION:Varmt välkommen! \n\n\n\n\n\n\n\n\n\nTrivselstunden är Enakyrkans träff för daglediga. En onsdag i månaden möts vi för gemenskap\, sång och musik\, gott fika och intressanta gäster. Denna gång gästas vi av Heidi Elfving\, diakon i Svenska Kyrkan.
URL:https://enakyrkan.se/evenemang/trivselstunden-med-heidi-elfving/
END:VEVENT
BEGIN:VEVENT
DTSTART;TZID=Europe/Stockholm:20250504T170000
DTEND;TZID=Europe/Stockholm:20250504T173000
DTSTAMP:20260420T125830
CREATED:20250125T090212Z
LAST-MODIFIED:20250130T103455Z
UID:10000322-1746378000-1746379800@enakyrkan.se
SUMMARY:30 minuter Bibel
DESCRIPTION:Varje söndag träffas vi för att läsa Bibeln tillsammans under en halvtimme. Upplägget på samlingen är väldigt enkelt. Vi ber en bön\, turas om att läsa ett par verser var\, tar några minuter i stillhet och eftertanke. Det ges sedan tillfälle ifall någon vill dela en tanke från det vi läst.  \n\n\n\nTa gärna med dig en fysisk bibel. Det spelar inte så stor roll vilken översättning du tar med dig.
URL:https://enakyrkan.se/evenemang/30-minuter-bibel/2025-05-04/
CATEGORIES:Söndag
END:VEVENT
BEGIN:VEVENT
DTSTART;TZID=Europe/Stockholm:20250504T110000
DTEND;TZID=Europe/Stockholm:20250504T123000
DTSTAMP:20260420T125830
CREATED:20250409T083041Z
LAST-MODIFIED:20250409T083045Z
UID:10000364-1746356400-1746361800@enakyrkan.se
SUMMARY:Gudstjänst med nattvard
DESCRIPTION:
URL:https://enakyrkan.se/evenemang/gudstjanst-med-nattvard-10/
CATEGORIES:Gudstjänst,Söndag
END:VEVENT
BEGIN:VEVENT
DTSTART;TZID=Europe/Stockholm:20250430T133000
DTEND;TZID=Europe/Stockholm:20250430T150000
DTSTAMP:20260420T125830
CREATED:20250420T074957Z
LAST-MODIFIED:20250420T075001Z
UID:10000370-1746019800-1746025200@enakyrkan.se
SUMMARY:Kompassens Vardagsrum
DESCRIPTION:Onsdagar kl 13.30-15.00 finns det möjlighet för alla som kan och vill att samlas på Kompassen för att ha en trevlig stund tillsammans. Vi fokuserar på samtalet och att umgås. Det kan finnas möjlighet att lägga pussel\, spela spel eller att göra något annat om andan faller på. \n\n\n\nFika finns att köpa i receptionen. \n\n\n\nDetta arrangeras av Enakyrkan och Kompassen gemensamt. \n\n\n\nVarmt välkomna! \n\n\n\n(Ca en onsdag i månaden arrangerar Enakyrkan en samling med lite mer program som kallas Trivselstunden\, där serveras det fika till alla som kommer. Då är det inget Vardagsrum.)
URL:https://enakyrkan.se/evenemang/kompassens-vardagsrum-6/
END:VEVENT
BEGIN:VEVENT
DTSTART;TZID=Europe/Stockholm:20250427T170000
DTEND;TZID=Europe/Stockholm:20250427T173000
DTSTAMP:20260420T125830
CREATED:20250125T090212Z
LAST-MODIFIED:20250130T103455Z
UID:10000321-1745773200-1745775000@enakyrkan.se
SUMMARY:30 minuter Bibel
DESCRIPTION:Varje söndag träffas vi för att läsa Bibeln tillsammans under en halvtimme. Upplägget på samlingen är väldigt enkelt. Vi ber en bön\, turas om att läsa ett par verser var\, tar några minuter i stillhet och eftertanke. Det ges sedan tillfälle ifall någon vill dela en tanke från det vi läst.  \n\n\n\nTa gärna med dig en fysisk bibel. Det spelar inte så stor roll vilken översättning du tar med dig.
URL:https://enakyrkan.se/evenemang/30-minuter-bibel/2025-04-27/
CATEGORIES:Söndag
END:VEVENT
BEGIN:VEVENT
DTSTART;TZID=Europe/Stockholm:20250427T110000
DTEND;TZID=Europe/Stockholm:20250427T123000
DTSTAMP:20260420T125830
CREATED:20250409T082918Z
LAST-MODIFIED:20250409T082921Z
UID:10000363-1745751600-1745757000@enakyrkan.se
SUMMARY:Gudstjänst
DESCRIPTION:
URL:https://enakyrkan.se/evenemang/gudstjanst-38/
CATEGORIES:Gudstjänst,Söndag
END:VEVENT
BEGIN:VEVENT
DTSTART;TZID=Europe/Stockholm:20250424T180000
DTEND;TZID=Europe/Stockholm:20250424T193000
DTSTAMP:20260420T125830
CREATED:20250130T102629Z
LAST-MODIFIED:20250130T102630Z
UID:10000332-1745517600-1745523000@enakyrkan.se
SUMMARY:Draget – för dig som går i mellanstadiet
DESCRIPTION:
URL:https://enakyrkan.se/evenemang/draget-for-dig-som-gar-i-mellanstadiet/2025-04-24/
END:VEVENT
BEGIN:VEVENT
DTSTART;TZID=Europe/Stockholm:20250423T133000
DTEND;TZID=Europe/Stockholm:20250423T150000
DTSTAMP:20260420T125830
CREATED:20250420T074902Z
LAST-MODIFIED:20250420T074906Z
UID:10000369-1745415000-1745420400@enakyrkan.se
SUMMARY:Kompassens Vardagsrum
DESCRIPTION:Onsdagar kl 13.30-15.00 finns det möjlighet för alla som kan och vill att samlas på Kompassen för att ha en trevlig stund tillsammans. Vi fokuserar på samtalet och att umgås. Det kan finnas möjlighet att lägga pussel\, spela spel eller att göra något annat om andan faller på. \n\n\n\nFika finns att köpa i receptionen. \n\n\n\nDetta arrangeras av Enakyrkan och Kompassen gemensamt. \n\n\n\nVarmt välkomna! \n\n\n\n(Ca en onsdag i månaden arrangerar Enakyrkan en samling med lite mer program som kallas Trivselstunden\, där serveras det fika till alla som kommer. Då är det inget Vardagsrum.)
URL:https://enakyrkan.se/evenemang/kompassens-vardagsrum-5/
END:VEVENT
BEGIN:VEVENT
DTSTART;TZID=Europe/Stockholm:20250420T110000
DTEND;TZID=Europe/Stockholm:20250420T123000
DTSTAMP:20260420T125830
CREATED:20250409T082719Z
LAST-MODIFIED:20250409T082809Z
UID:10000362-1745146800-1745152200@enakyrkan.se
SUMMARY:Påskgudstjänst
DESCRIPTION:
URL:https://enakyrkan.se/evenemang/paskgudstjanst-2/
CATEGORIES:Gudstjänst,Söndag
END:VEVENT
BEGIN:VEVENT
DTSTART;TZID=Europe/Stockholm:20250418T190000
DTEND;TZID=Europe/Stockholm:20250418T210000
DTSTAMP:20260420T125830
CREATED:20250409T082602Z
LAST-MODIFIED:20250409T082606Z
UID:10000361-1745002800-1745010000@enakyrkan.se
SUMMARY:Påskgudstjänst
DESCRIPTION:
URL:https://enakyrkan.se/evenemang/paskgudstjanst/
CATEGORIES:Gudstjänst,Söndag
END:VEVENT
BEGIN:VEVENT
DTSTART;TZID=Europe/Stockholm:20250417T190000
DTEND;TZID=Europe/Stockholm:20250417T203000
DTSTAMP:20260420T125830
CREATED:20250409T081705Z
LAST-MODIFIED:20250409T081708Z
UID:10000360-1744916400-1744921800@enakyrkan.se
SUMMARY:Getsemanestund med nattvard
DESCRIPTION:
URL:https://enakyrkan.se/evenemang/getsemanestund-med-nattvard/
END:VEVENT
BEGIN:VEVENT
DTSTART;TZID=Europe/Stockholm:20250416T133000
DTEND;TZID=Europe/Stockholm:20250416T150000
DTSTAMP:20260420T125830
CREATED:20250415T171354Z
LAST-MODIFIED:20250415T171358Z
UID:10000368-1744810200-1744815600@enakyrkan.se
SUMMARY:Kompassens Vardagsrum
DESCRIPTION:Onsdagar kl 13.30-15.00 finns det möjlighet för alla som kan och vill att samlas på Kompassen för att ha en trevlig stund tillsammans. Vi fokuserar på samtalet och att umgås. Det kan finnas möjlighet att lägga pussel\, spela spel eller att göra något annat om andan faller på. \n\n\n\nFika finns att köpa i receptionen. \n\n\n\nDetta arrangeras av Enakyrkan och Kompassen gemensamt. \n\n\n\nVarmt välkomna! \n\n\n\n(Ca en onsdag i månaden arrangerar Enakyrkan en samling med lite mer program som kallas Trivselstunden\, där serveras det fika till alla som kommer. Då är det inget Vardagsrum.)
URL:https://enakyrkan.se/evenemang/kompassens-vardagsrum-4/
END:VEVENT
BEGIN:VEVENT
DTSTART;TZID=Europe/Stockholm:20250413T170000
DTEND;TZID=Europe/Stockholm:20250413T173000
DTSTAMP:20260420T125830
CREATED:20250125T090212Z
LAST-MODIFIED:20250130T103455Z
UID:10000319-1744563600-1744565400@enakyrkan.se
SUMMARY:30 minuter Bibel
DESCRIPTION:Varje söndag träffas vi för att läsa Bibeln tillsammans under en halvtimme. Upplägget på samlingen är väldigt enkelt. Vi ber en bön\, turas om att läsa ett par verser var\, tar några minuter i stillhet och eftertanke. Det ges sedan tillfälle ifall någon vill dela en tanke från det vi läst.  \n\n\n\nTa gärna med dig en fysisk bibel. Det spelar inte så stor roll vilken översättning du tar med dig.
URL:https://enakyrkan.se/evenemang/30-minuter-bibel/2025-04-13/
CATEGORIES:Söndag
END:VEVENT
BEGIN:VEVENT
DTSTART;TZID=Europe/Stockholm:20250413T110000
DTEND;TZID=Europe/Stockholm:20250413T123000
DTSTAMP:20260420T125830
CREATED:20250409T081554Z
LAST-MODIFIED:20250409T081557Z
UID:10000359-1744542000-1744547400@enakyrkan.se
SUMMARY:Gudstjänst
DESCRIPTION:
URL:https://enakyrkan.se/evenemang/gudstjanst-37/
CATEGORIES:Gudstjänst,Söndag
END:VEVENT
BEGIN:VEVENT
DTSTART;TZID=Europe/Stockholm:20250412T090000
DTEND;TZID=Europe/Stockholm:20250412T150000
DTSTAMP:20260420T125830
CREATED:20250406T081723Z
LAST-MODIFIED:20250406T081758Z
UID:10000357-1744448400-1744470000@enakyrkan.se
SUMMARY:Arbetsdag utomhus
DESCRIPTION:
URL:https://enakyrkan.se/evenemang/arbetsdag-utomhus/
END:VEVENT
BEGIN:VEVENT
DTSTART;TZID=Europe/Stockholm:20250411T133000
DTEND;TZID=Europe/Stockholm:20250411T140000
DTSTAMP:20260420T125830
CREATED:20250121T132602Z
LAST-MODIFIED:20250121T132603Z
UID:10000300-1744378200-1744380000@enakyrkan.se
SUMMARY:Andakt på Kungsgården
DESCRIPTION:
URL:https://enakyrkan.se/evenemang/andakt-pa-kungsgarden-2/
END:VEVENT
BEGIN:VEVENT
DTSTART;TZID=Europe/Stockholm:20250410T180000
DTEND;TZID=Europe/Stockholm:20250410T193000
DTSTAMP:20260420T125830
CREATED:20250130T102629Z
LAST-MODIFIED:20250130T102630Z
UID:10000331-1744308000-1744313400@enakyrkan.se
SUMMARY:Draget – för dig som går i mellanstadiet
DESCRIPTION:
URL:https://enakyrkan.se/evenemang/draget-for-dig-som-gar-i-mellanstadiet/2025-04-10/
END:VEVENT
BEGIN:VEVENT
DTSTART;TZID=Europe/Stockholm:20250409T133000
DTEND;TZID=Europe/Stockholm:20250409T150000
DTSTAMP:20260420T125830
CREATED:20250406T082431Z
LAST-MODIFIED:20250406T082435Z
UID:10000358-1744205400-1744210800@enakyrkan.se
SUMMARY:Kompassens Vardagsrum
DESCRIPTION:Onsdagar kl 13.30-15.00 finns det möjlighet för alla som kan och vill att samlas på Kompassen för att ha en trevlig stund tillsammans. Vi fokuserar på samtalet och att umgås. Det kan finnas möjlighet att lägga pussel\, spela spel eller att göra något annat om andan faller på. \n\n\n\nFika finns att köpa i receptionen. \n\n\n\nDetta arrangeras av Enakyrkan och Kompassen gemensamt. \n\n\n\nVarmt välkomna! \n\n\n\n(Ca en onsdag i månaden arrangerar Enakyrkan en samling med lite mer program som kallas Trivselstunden\, där serveras det fika till alla som kommer. Då är det inget Vardagsrum.)
URL:https://enakyrkan.se/evenemang/kompassens-vardagsrum-3/
END:VEVENT
BEGIN:VEVENT
DTSTART;TZID=Europe/Stockholm:20250406T170000
DTEND;TZID=Europe/Stockholm:20250406T173000
DTSTAMP:20260420T125830
CREATED:20250125T090212Z
LAST-MODIFIED:20250130T103455Z
UID:10000318-1743958800-1743960600@enakyrkan.se
SUMMARY:30 minuter Bibel
DESCRIPTION:Varje söndag träffas vi för att läsa Bibeln tillsammans under en halvtimme. Upplägget på samlingen är väldigt enkelt. Vi ber en bön\, turas om att läsa ett par verser var\, tar några minuter i stillhet och eftertanke. Det ges sedan tillfälle ifall någon vill dela en tanke från det vi läst.  \n\n\n\nTa gärna med dig en fysisk bibel. Det spelar inte så stor roll vilken översättning du tar med dig.
URL:https://enakyrkan.se/evenemang/30-minuter-bibel/2025-04-06/
CATEGORIES:Söndag
END:VEVENT
BEGIN:VEVENT
DTSTART;TZID=Europe/Stockholm:20250404T133000
DTEND;TZID=Europe/Stockholm:20250404T140000
DTSTAMP:20260420T125830
CREATED:20250121T132517Z
LAST-MODIFIED:20250121T132518Z
UID:10000299-1743773400-1743775200@enakyrkan.se
SUMMARY:Andakt på Åkersberg
DESCRIPTION:
URL:https://enakyrkan.se/evenemang/andakt-pa-akersberg-2/
END:VEVENT
BEGIN:VEVENT
DTSTART;TZID=Europe/Stockholm:20250402T133000
DTEND;TZID=Europe/Stockholm:20250402T150000
DTSTAMP:20260420T125830
CREATED:20250326T151355Z
LAST-MODIFIED:20250326T151450Z
UID:10000356-1743600600-1743606000@enakyrkan.se
SUMMARY:Trivselstunden med Sven-Gunnar Hultman
DESCRIPTION:Trivselstunden är Enakyrkans träff för daglediga. Ungefär en gång i månaden möts vi till ett intressant program\, sång och musik\, gott kaffe och fin gemenskap. Denna gång får vi lyssna till pastor Sven-Gunnar Hultman som berättar om Filadelfia Örsundsbro. \n\n\n\nServering
URL:https://enakyrkan.se/evenemang/trivselstunden-med-sven-gunnar-hultman/
END:VEVENT
BEGIN:VEVENT
DTSTART;TZID=Europe/Stockholm:20250330T170000
DTEND;TZID=Europe/Stockholm:20250330T173000
DTSTAMP:20260420T125830
CREATED:20250125T090212Z
LAST-MODIFIED:20250130T103455Z
UID:10000317-1743354000-1743355800@enakyrkan.se
SUMMARY:30 minuter Bibel
DESCRIPTION:Varje söndag träffas vi för att läsa Bibeln tillsammans under en halvtimme. Upplägget på samlingen är väldigt enkelt. Vi ber en bön\, turas om att läsa ett par verser var\, tar några minuter i stillhet och eftertanke. Det ges sedan tillfälle ifall någon vill dela en tanke från det vi läst.  \n\n\n\nTa gärna med dig en fysisk bibel. Det spelar inte så stor roll vilken översättning du tar med dig.
URL:https://enakyrkan.se/evenemang/30-minuter-bibel/2025-03-30/
CATEGORIES:Söndag
END:VEVENT
BEGIN:VEVENT
DTSTART;TZID=Europe/Stockholm:20250330T110000
DTEND;TZID=Europe/Stockholm:20250330T133000
DTSTAMP:20260420T125830
CREATED:20250220T093021Z
LAST-MODIFIED:20250220T093022Z
UID:10000352-1743332400-1743341400@enakyrkan.se
SUMMARY:Gudstjänst
DESCRIPTION:
URL:https://enakyrkan.se/evenemang/gudstjanst-36/
CATEGORIES:Gudstjänst,Söndag
END:VEVENT
END:VCALENDAR